BEGIN:VCALENDAR
VERSION:2.0
PRODID:-//Spirit Calling - ECPv6.15.17//NONSGML v1.0//EN
CALSCALE:GREGORIAN
METHOD:PUBLISH
X-WR-CALNAME:Spirit Calling
X-ORIGINAL-URL:https://spirit-calling.com
X-WR-CALDESC:Events for Spirit Calling
REFRESH-INTERVAL;VALUE=DURATION:PT1H
X-Robots-Tag:noindex
X-PUBLISHED-TTL:PT1H
BEGIN:VTIMEZONE
TZID:America/New_York
BEGIN:DAYLIGHT
TZOFFSETFROM:-0500
TZOFFSETTO:-0400
TZNAME:EDT
DTSTART:20230312T070000
END:DAYLIGHT
BEGIN:STANDARD
TZOFFSETFROM:-0400
TZOFFSETTO:-0500
TZNAME:EST
DTSTART:20231105T060000
END:STANDARD
BEGIN:DAYLIGHT
TZOFFSETFROM:-0500
TZOFFSETTO:-0400
TZNAME:EDT
DTSTART:20240310T070000
END:DAYLIGHT
BEGIN:STANDARD
TZOFFSETFROM:-0400
TZOFFSETTO:-0500
TZNAME:EST
DTSTART:20241103T060000
END:STANDARD
BEGIN:DAYLIGHT
TZOFFSETFROM:-0500
TZOFFSETTO:-0400
TZNAME:EDT
DTSTART:20250309T070000
END:DAYLIGHT
BEGIN:STANDARD
TZOFFSETFROM:-0400
TZOFFSETTO:-0500
TZNAME:EST
DTSTART:20251102T060000
END:STANDARD
END:VTIMEZONE
BEGIN:VEVENT
DTSTART;TZID=America/New_York:20241204T130000
DTEND;TZID=America/New_York:20241204T140000
DTSTAMP:20260419T092859
CREATED:20241121T211815Z
LAST-MODIFIED:20241201T193454Z
UID:10001440-1733317200-1733320800@spirit-calling.com
SUMMARY:Blending with Spirit: Enhancing Your Connection with Hannah the Medium
DESCRIPTION:Join us on December 4th at 1 PM EST for a special hour with Hannah the Medium—renowned evidential medium\, spiritual teacher\, and host of the Mediumship Matters podcast. With over a decade of experience connecting people to their guides\, loved ones\, and the Spirit World\, Hannah will share her unique insights into the transformative power of “the blend”—the art of deepening your connection with Spirit. \nThis session is designed for students eager to explore their spiritual gifts and discover practical ways to incorporate mediumship into daily life. Hannah’s compassionate\, modern approach ensures you’ll leave inspired\, empowered\, and ready to take the next steps in your spiritual journey. Whether you’re new to mediumship or looking to refine your abilities\, this event promises to uplift and energize your practice. \nDon’t miss this opportunity to connect with a best-selling author and internationally celebrated medium\, and learn how Spirit’s support can bring confidence\, joy\, and freedom into your life. \nhttps://www.hannahmedium.co.uk/
URL:https://spirit-calling.com/event/blending-with-spirit-enhancing-your-connection-with-hannah-the-medium/
ATTACH;FMTTYPE=image/png:https://spirit-calling.com/wp-content/uploads/Awakeners-Hour-Horizontal-1-2.png
LOCATION:https://zoom.us/j/92837510702
END:VEVENT
BEGIN:VEVENT
DTSTART;TZID=America/New_York:20241206T170000
DTEND;TZID=America/New_York:20241206T190000
DTSTAMP:20260419T092859
CREATED:20241120T195609Z
LAST-MODIFIED:20251003T131411Z
UID:10000922-1733504400-1733511600@spirit-calling.com
SUMMARY:Spirit Calling Weekly Community Gathering
DESCRIPTION:Connect. Share. Support. Belong. \nJoin us every Friday at 5 PM EST for our Spirit Calling Weekly Community Gathering. This is your space to connect with fellow members\, share your wins\, ask for support\, or simply have a friendly conversation about what’s happening in your life. Whether you’re celebrating\, seeking guidance\, or just looking to chat\, this is a safe and welcoming environment for all members. \nFeel free to use our Main Meeting Room anytime\, but this weekly gathering offers a dedicated time to come together as a community. Bring your stories\, your questions\, or just yourself—we’re here for each other. \nLet’s make every Friday a time to nurture our connection\, deepen our bonds\, and honor the spirit of our community. \nAll are welcome. See you there!
URL:https://spirit-calling.com/event/spirit-calling-weekly-community-gathering/2024-12-06/
CATEGORIES:Special Event
ATTACH;FMTTYPE=image/png:https://spirit-calling.com/wp-content/uploads/4-1.png
END:VEVENT
BEGIN:VEVENT
DTSTART;TZID=America/New_York:20241211T180000
DTEND;TZID=America/New_York:20241211T190000
DTSTAMP:20260419T092859
CREATED:20240228T232400Z
LAST-MODIFIED:20240228T232438Z
UID:10000368-1733940000-1733943600@spirit-calling.com
SUMMARY:Conscious Community Connection Circle
DESCRIPTION:Answer the Spirit’s Call: Monthly Gathering for Conscious Community Connection within the Spirit Calling Portal! \nStep into the heart of our conscious community where the LIVE MEETING ROOM was crafted precisely for this purpose. Join us every second Wednesday of the month to explore the channeled messages and guidance from our guides. Delve into self-discovery\, growth\, and support within the sacred space of our LIVE MEETING ROOM within the Spirit Calling Portal. \nOpenly share your challenges and successes amidst a nurturing environment where every member thrives. Together\, we offer insights\, encouragement\, and practical advice to propel each other along our spiritual paths. \nOur Founder\, Pamela Downes\, will host this event\, creating a safe space for connection and growth. \nBeyond our monthly gatherings\, the LIVE MEETING ROOM is open to members for continued conversations\, getting to know fellow members\, and hosting gatherings. \nWhether you seek guidance\, connection\, or simply a supportive community\, our Conscious Community Connection Circle welcomes you. Answer the Spirit’s Call and join us to deepen your spiritual development and foster meaningful connections.”
URL:https://spirit-calling.com/event/conscious-community-connection-circle/2024-12-11/
ATTACH;FMTTYPE=image/png:https://spirit-calling.com/wp-content/uploads/Conscious-Community-Connection-Circle.png
END:VEVENT
BEGIN:VEVENT
DTSTART;TZID=America/New_York:20241213T170000
DTEND;TZID=America/New_York:20241213T190000
DTSTAMP:20260419T092859
CREATED:20241120T195609Z
LAST-MODIFIED:20251003T131411Z
UID:10000924-1734109200-1734116400@spirit-calling.com
SUMMARY:Spirit Calling Weekly Community Gathering
DESCRIPTION:Connect. Share. Support. Belong. \nJoin us every Friday at 5 PM EST for our Spirit Calling Weekly Community Gathering. This is your space to connect with fellow members\, share your wins\, ask for support\, or simply have a friendly conversation about what’s happening in your life. Whether you’re celebrating\, seeking guidance\, or just looking to chat\, this is a safe and welcoming environment for all members. \nFeel free to use our Main Meeting Room anytime\, but this weekly gathering offers a dedicated time to come together as a community. Bring your stories\, your questions\, or just yourself—we’re here for each other. \nLet’s make every Friday a time to nurture our connection\, deepen our bonds\, and honor the spirit of our community. \nAll are welcome. See you there!
URL:https://spirit-calling.com/event/spirit-calling-weekly-community-gathering/2024-12-13/
CATEGORIES:Special Event
ATTACH;FMTTYPE=image/png:https://spirit-calling.com/wp-content/uploads/4-1.png
END:VEVENT
BEGIN:VEVENT
DTSTART;VALUE=DATE:20241218
DTEND;VALUE=DATE:20241219
DTSTAMP:20260419T092859
CREATED:20241201T185406Z
LAST-MODIFIED:20241201T185406Z
UID:10001442-1734480000-1734566399@spirit-calling.com
SUMMARY:Exploring Galactic Wisdom\, Healing\, and UFOs with Dr. Lisa Thompson
DESCRIPTION:In this episode of Live the Call\, we dive into the extraordinary journey of Dr. Lisa Thompson\, a Best-Selling Author\, Galactic Ambassador\, and Intuitive Transformational Coach. Dr. Lisa shares her profound spiritual awakening\, which led her to embrace her soul’s purpose as a channeler and healer. She has created a unique energy healing modality\, Galactic Ascension Channeling\, and specializes in Parallel Life Regression and Sound Healing. \nDr. Lisa is also the author of transformative works like Wisdom of the Galactics and Connection to the Cosmos\, and she’s passionate about guiding others to remember their galactic heritage and step into their higher purpose. Join us as we explore her out-of-this-world insights on channeling\, ascension\, and UFO phenomena\, and how she’s inspiring others through retreats\, online teachings\, and night sky UFO tours in Hawaii. \nThis conversation is a must-listen for anyone ready to elevate their spiritual journey and live their true calling!
URL:https://spirit-calling.com/event/exploring-galactic-wisdom-healing-and-ufos-with-dr-lisa-thompson/
CATEGORIES:Live the Call
ATTACH;FMTTYPE=image/png:https://spirit-calling.com/wp-content/uploads/Monthly-Community-Zoom-1-7.png
LOCATION:https://youtu.be/KmNAUrSi4zA?si=GXU1f3SzenFR-Q5X
END:VEVENT
BEGIN:VEVENT
DTSTART;TZID=America/New_York:20241220T170000
DTEND;TZID=America/New_York:20241220T190000
DTSTAMP:20260419T092859
CREATED:20241120T195609Z
LAST-MODIFIED:20251003T131411Z
UID:10000926-1734714000-1734721200@spirit-calling.com
SUMMARY:Spirit Calling Weekly Community Gathering
DESCRIPTION:Connect. Share. Support. Belong. \nJoin us every Friday at 5 PM EST for our Spirit Calling Weekly Community Gathering. This is your space to connect with fellow members\, share your wins\, ask for support\, or simply have a friendly conversation about what’s happening in your life. Whether you’re celebrating\, seeking guidance\, or just looking to chat\, this is a safe and welcoming environment for all members. \nFeel free to use our Main Meeting Room anytime\, but this weekly gathering offers a dedicated time to come together as a community. Bring your stories\, your questions\, or just yourself—we’re here for each other. \nLet’s make every Friday a time to nurture our connection\, deepen our bonds\, and honor the spirit of our community. \nAll are welcome. See you there!
URL:https://spirit-calling.com/event/spirit-calling-weekly-community-gathering/2024-12-20/
CATEGORIES:Special Event
ATTACH;FMTTYPE=image/png:https://spirit-calling.com/wp-content/uploads/4-1.png
END:VEVENT
BEGIN:VEVENT
DTSTART;TZID=America/New_York:20241226T150000
DTEND;TZID=America/New_York:20241226T160000
DTSTAMP:20260419T092859
CREATED:20241120T192216Z
LAST-MODIFIED:20241120T192446Z
UID:10000918-1735225200-1735228800@spirit-calling.com
SUMMARY:Monthly Meditation with Nicole Gibbs
DESCRIPTION:Mark your calendars for the Last Thursday of Every Month at 3:00 EST \nJoin Nicole Gibbs\, the founder of Awakening Mass Meditation and Soul Leader\, as she hosts a monthly meditation for the Spirit Calling Community! Take a well-deserved break in your day and engage in a conscious awakening and expansion experience. Nicole’s expertise and guidance will help you connect with your inner self\, fostering relaxation\, self-awareness\, and personal growth. Don’t miss this opportunity to prioritize your well-being and join the community in this transformative meditation practice.
URL:https://spirit-calling.com/event/meditation-with-nicole-gibbs-2-2/2024-12-26/
CATEGORIES:Special Event
ATTACH;FMTTYPE=image/png:https://spirit-calling.com/wp-content/uploads/Mass-Meditation-Thumbnail-2-scaled.png
LOCATION:https://spirit-calling.com/event/meditation-with-nicole-gibbs-2-2/2024-12-26/
END:VEVENT
BEGIN:VEVENT
DTSTART;TZID=America/New_York:20241227T150000
DTEND;TZID=America/New_York:20241227T160000
DTSTAMP:20260419T092859
CREATED:20241202T162400Z
LAST-MODIFIED:20241218T031038Z
UID:10000801-1735311600-1735315200@spirit-calling.com
SUMMARY:5D All Day with Danielle Kane
DESCRIPTION:Welcome to 5D ALL DAY on Spirit Calling with Danielle Kane! \nOur podcast is a platform for conversations within the Spirit Calling community on a range of topics\, and we invite you to join in as well. \nOur aim is to break barriers and expand consciousness for those who are spiritually curious or who want to share their lived experiences. \nOur upcoming live episode will explore the path to self-discovery. We invite you to join us for this groundbreaking conversation on the last Friday of the month at 3 pm EST/12 pm PST. \nWe can’t wait to see you there!
URL:https://spirit-calling.com/event/5d-all-day-with-danielle-kane-8-2-2-2-2-2-2-3-2-2/
CATEGORIES:5D All Day
ATTACH;FMTTYPE=image/png:https://spirit-calling.com/wp-content/uploads/5D-All-Day-YouTube-Thumbnail.png
END:VEVENT
BEGIN:VEVENT
DTSTART;TZID=America/New_York:20241227T170000
DTEND;TZID=America/New_York:20241227T190000
DTSTAMP:20260419T092859
CREATED:20241120T195609Z
LAST-MODIFIED:20251003T131411Z
UID:10000928-1735318800-1735326000@spirit-calling.com
SUMMARY:Spirit Calling Weekly Community Gathering
DESCRIPTION:Connect. Share. Support. Belong. \nJoin us every Friday at 5 PM EST for our Spirit Calling Weekly Community Gathering. This is your space to connect with fellow members\, share your wins\, ask for support\, or simply have a friendly conversation about what’s happening in your life. Whether you’re celebrating\, seeking guidance\, or just looking to chat\, this is a safe and welcoming environment for all members. \nFeel free to use our Main Meeting Room anytime\, but this weekly gathering offers a dedicated time to come together as a community. Bring your stories\, your questions\, or just yourself—we’re here for each other. \nLet’s make every Friday a time to nurture our connection\, deepen our bonds\, and honor the spirit of our community. \nAll are welcome. See you there!
URL:https://spirit-calling.com/event/spirit-calling-weekly-community-gathering/2024-12-27/
CATEGORIES:Special Event
ATTACH;FMTTYPE=image/png:https://spirit-calling.com/wp-content/uploads/4-1.png
END:VEVENT
END:VCALENDAR