BEGIN:VCALENDAR
VERSION:2.0
PRODID:-//Spirit Calling - ECPv6.15.17//NONSGML v1.0//EN
CALSCALE:GREGORIAN
METHOD:PUBLISH
X-ORIGINAL-URL:https://spirit-calling.com
X-WR-CALDESC:Events for Spirit Calling
REFRESH-INTERVAL;VALUE=DURATION:PT1H
X-Robots-Tag:noindex
X-PUBLISHED-TTL:PT1H
BEGIN:VTIMEZONE
TZID:America/New_York
BEGIN:DAYLIGHT
TZOFFSETFROM:-0500
TZOFFSETTO:-0400
TZNAME:EDT
DTSTART:20230312T070000
END:DAYLIGHT
BEGIN:STANDARD
TZOFFSETFROM:-0400
TZOFFSETTO:-0500
TZNAME:EST
DTSTART:20231105T060000
END:STANDARD
BEGIN:DAYLIGHT
TZOFFSETFROM:-0500
TZOFFSETTO:-0400
TZNAME:EDT
DTSTART:20240310T070000
END:DAYLIGHT
BEGIN:STANDARD
TZOFFSETFROM:-0400
TZOFFSETTO:-0500
TZNAME:EST
DTSTART:20241103T060000
END:STANDARD
BEGIN:DAYLIGHT
TZOFFSETFROM:-0500
TZOFFSETTO:-0400
TZNAME:EDT
DTSTART:20250309T070000
END:DAYLIGHT
BEGIN:STANDARD
TZOFFSETFROM:-0400
TZOFFSETTO:-0500
TZNAME:EST
DTSTART:20251102T060000
END:STANDARD
END:VTIMEZONE
BEGIN:VEVENT
DTSTART;TZID=America/New_York:20241002T150000
DTEND;TZID=America/New_York:20241002T160000
DTSTAMP:20260419T120355
CREATED:20240924T203922Z
LAST-MODIFIED:20240924T203922Z
UID:10000736-1727881200-1727884800@spirit-calling.com
SUMMARY:Decode Your Dream Messages: A Guided Interpretation Session with Tina Marie Bueno
DESCRIPTION:Join us on October 2\, 2024 at 3 pm EST for a transformative Awakeners Hour with Tina Marie Bueno\, where she will guide you in interpreting the hidden messages of your dreams. If you’ve ever woken up feeling puzzled or intrigued by your nightly adventures\, this session offers a unique opportunity to gain clarity. \nTina will help you explore the symbols\, emotions\, and themes within your dreams\, providing insights that can illuminate your personal growth and life path. Expect a warm and supportive environment where you can share your dream experiences and discover their deeper meanings. \nAbout Tina Marie Bueno \nTina Marie Bueno is a New Earth Mastery Catalyst and intuitive healer with decades of experience. An empath since childhood\, she has navigated profound spiritual experiences in Hawaii\, Japan\, and beyond. As a clairaudient\, clairvoyant\, and certified Akashic Record Reader\, Tina combines her deep wisdom with a compassionate approach to help others unlock the mysteries of their dreams. \nFor more information about Tina and her work\, visit her website at tinamariebueno.com. \nJoin us to awaken to the wisdom of your dreams and explore the new possibilities they hold!
URL:https://spirit-calling.com/event/decode-your-dream-messages-a-guided-interpretation-session-with-tina-marie-bueno/
LOCATION:https://zoom.us/j/8858847385?pwd=WE5BZS9OdkxvZG5PYkMrZC83dEFHQT09
CATEGORIES:Founding Awakeners Power Hour
ATTACH;FMTTYPE=image/png:https://spirit-calling.com/wp-content/uploads/Awakeners-Hour-Horizontal-5.png
END:VEVENT
BEGIN:VEVENT
DTSTART;TZID=America/New_York:20241009T180000
DTEND;TZID=America/New_York:20241009T190000
DTSTAMP:20260419T120355
CREATED:20240228T232400Z
LAST-MODIFIED:20240228T232438Z
UID:10000366-1728496800-1728500400@spirit-calling.com
SUMMARY:Conscious Community Connection Circle
DESCRIPTION:Answer the Spirit’s Call: Monthly Gathering for Conscious Community Connection within the Spirit Calling Portal! \nStep into the heart of our conscious community where the LIVE MEETING ROOM was crafted precisely for this purpose. Join us every second Wednesday of the month to explore the channeled messages and guidance from our guides. Delve into self-discovery\, growth\, and support within the sacred space of our LIVE MEETING ROOM within the Spirit Calling Portal. \nOpenly share your challenges and successes amidst a nurturing environment where every member thrives. Together\, we offer insights\, encouragement\, and practical advice to propel each other along our spiritual paths. \nOur Founder\, Pamela Downes\, will host this event\, creating a safe space for connection and growth. \nBeyond our monthly gatherings\, the LIVE MEETING ROOM is open to members for continued conversations\, getting to know fellow members\, and hosting gatherings. \nWhether you seek guidance\, connection\, or simply a supportive community\, our Conscious Community Connection Circle welcomes you. Answer the Spirit’s Call and join us to deepen your spiritual development and foster meaningful connections.”
URL:https://spirit-calling.com/event/conscious-community-connection-circle/2024-10-09/
ATTACH;FMTTYPE=image/png:https://spirit-calling.com/wp-content/uploads/Conscious-Community-Connection-Circle.png
END:VEVENT
BEGIN:VEVENT
DTSTART;VALUE=DATE:20241017
DTEND;VALUE=DATE:20241018
DTSTAMP:20260419T120355
CREATED:20240721T181623Z
LAST-MODIFIED:20240721T181632Z
UID:10000551-1729123200-1729209599@spirit-calling.com
SUMMARY:Creating Financial Stability in Your Business with Hannah Chapman
DESCRIPTION:Live the Call Podcast #010: In this episode\, join Hannah Chapman\, founder of X² Wealth Planning and Expansive CEO\, as she reveals her revolutionary approach to creating financial stability in your business. Hannah’s unique blend of logical and emotional strategies will transform how you think about money and prosperity. \nDiscover how clearing old money stories and adopting an Expansive CEO mindset can empower you to build a resilient and impactful business. Whether you’re an entrepreneur seeking financial clarity or looking to elevate your business’s growth\, this conversation is packed with insights and practical advice. \nTune in to learn how Hannah’s approach can help you achieve lasting financial stability and drive your business forward. Explore more about Hannah’s transformative work at [X² Wealth Planning](http://www.x2wealthplanning.com) and [Expansive CEO](http://www.expansiveceo.com). Don’t miss this opportunity to revolutionize your financial future!
URL:https://spirit-calling.com/event/creating-financial-stability-in-your-business-with-hannah-chapman/
CATEGORIES:Live the Call
ATTACH;FMTTYPE=image/png:https://spirit-calling.com/wp-content/uploads/1-3.png
END:VEVENT
BEGIN:VEVENT
DTSTART;TZID=America/New_York:20241025T150000
DTEND;TZID=America/New_York:20241025T160000
DTSTAMP:20260419T120355
CREATED:20240924T190841Z
LAST-MODIFIED:20241018T203644Z
UID:10000737-1729868400-1729872000@spirit-calling.com
SUMMARY:5D All Day with Danielle Kane
DESCRIPTION:Welcome to 5D ALL DAY on Spirit Calling with Danielle Kane! \nOur podcast is a platform for conversations within the Spirit Calling community on a range of topics\, and we invite you to join in as well. \nOur aim is to break barriers and expand consciousness for those who are spiritually curious or who want to share their lived experiences. \nOur upcoming live episode will explore the path to self-discovery. We invite you to join us for this groundbreaking conversation on the last Friday of the month at 3 pm EST/12 pm PST. \nWe can’t wait to see you there!
URL:https://spirit-calling.com/event/5d-all-day-with-danielle-kane-8-2-2-2-2-2-2-3/
CATEGORIES:5D All Day
ATTACH;FMTTYPE=image/png:https://spirit-calling.com/wp-content/uploads/5D-All-Day-YouTube-Thumbnail.png
END:VEVENT
BEGIN:VEVENT
DTSTART;TZID=America/New_York:20241027T131100
DTEND;TZID=America/New_York:20241027T141100
DTSTAMP:20260419T120355
CREATED:20240129T220521Z
LAST-MODIFIED:20240129T220521Z
UID:10000305-1730034660-1730038260@spirit-calling.com
SUMMARY:Meditation with Nicole Gibbs
DESCRIPTION:Mark your calendars for the Last Sunday of Every Month at 1:11EST \nJoin Nicole Gibbs\, the founder of Awakening Mass Meditation and Soul Leader\, as she hosts a monthly meditation for the Spirit Calling Community! Take a well-deserved break in your day and engage in a conscious awakening and expansion experience. Nicole’s expertise and guidance will help you connect with your inner self\, fostering relaxation\, self-awareness\, and personal growth. Don’t miss this opportunity to prioritize your well-being and join the community in this transformative meditation practice.
URL:https://spirit-calling.com/event/meditation-with-nicole-gibbs-2/2024-10-27/
CATEGORIES:Special Event
ATTACH;FMTTYPE=image/png:https://spirit-calling.com/wp-content/uploads/Mass-Meditation-Thumbnail-2-scaled.png
LOCATION:https://spirit-calling.com/event/meditation-with-nicole-gibbs-2/2024-10-27/
END:VEVENT
BEGIN:VEVENT
DTSTART;TZID=America/New_York:20241030T170000
DTEND;TZID=America/New_York:20241030T180000
DTSTAMP:20260419T120355
CREATED:20241020T183507Z
LAST-MODIFIED:20241020T183611Z
UID:10000797-1730307600-1730311200@spirit-calling.com
SUMMARY:Surprise Pop-Up Event! Meet Pamela & the Spirit Calling Community!
DESCRIPTION:Join us for a spontaneous gathering to meet our Founder\, Pamela Downes\, and connect with new and existing members of the Spirit Calling community! \nWith October giving us an extra week and so many new members joining\, we’re hosting a surprise pop-up event! ✨ This is your chance to meet Pamela\, our inspiring founder\, and say hi to your fellow Spirit Calling members. Whether you’re new or a longtime member\, this is the perfect opportunity to introduce yourself\, make connections\, and feel the energy of our growing spiritual family. 💫
URL:https://spirit-calling.com/event/surprise-pop-up-event-meet-pamela-the-spirit-calling-community/
LOCATION:Main Meeting Room
CATEGORIES:Special Event
ATTACH;FMTTYPE=image/png:https://spirit-calling.com/wp-content/uploads/Conscious-Community-Connection-Circle-Event-Templates.png
END:VEVENT
END:VCALENDAR