BEGIN:VCALENDAR
VERSION:2.0
PRODID:-//Spirit Calling - ECPv6.15.17//NONSGML v1.0//EN
CALSCALE:GREGORIAN
METHOD:PUBLISH
X-ORIGINAL-URL:https://spirit-calling.com
X-WR-CALDESC:Events for Spirit Calling
REFRESH-INTERVAL;VALUE=DURATION:PT1H
X-Robots-Tag:noindex
X-PUBLISHED-TTL:PT1H
BEGIN:VTIMEZONE
TZID:America/New_York
BEGIN:DAYLIGHT
TZOFFSETFROM:-0500
TZOFFSETTO:-0400
TZNAME:EDT
DTSTART:20230312T070000
END:DAYLIGHT
BEGIN:STANDARD
TZOFFSETFROM:-0400
TZOFFSETTO:-0500
TZNAME:EST
DTSTART:20231105T060000
END:STANDARD
BEGIN:DAYLIGHT
TZOFFSETFROM:-0500
TZOFFSETTO:-0400
TZNAME:EDT
DTSTART:20240310T070000
END:DAYLIGHT
BEGIN:STANDARD
TZOFFSETFROM:-0400
TZOFFSETTO:-0500
TZNAME:EST
DTSTART:20241103T060000
END:STANDARD
BEGIN:DAYLIGHT
TZOFFSETFROM:-0500
TZOFFSETTO:-0400
TZNAME:EDT
DTSTART:20250309T070000
END:DAYLIGHT
BEGIN:STANDARD
TZOFFSETFROM:-0400
TZOFFSETTO:-0500
TZNAME:EST
DTSTART:20251102T060000
END:STANDARD
END:VTIMEZONE
BEGIN:VEVENT
DTSTART;TZID=America/New_York:20240904T150000
DTEND;TZID=America/New_York:20240904T160000
DTSTAMP:20260419T144402
CREATED:20240721T000741Z
LAST-MODIFIED:20240904T171107Z
UID:10000548-1725462000-1725465600@spirit-calling.com
SUMMARY:Unlock Your Inner Power: Release Emotional Blocks and Beliefs with Becky Roitz
DESCRIPTION:Join us for an enlightening session with Rebecca Roitz\, a Reiki Master\, Energy Worker\, Life Coach\, Author\, and Podcast Host\, who will guide us through a journey of emotional and limiting belief release. Rebecca specializes in helping women transcend their limiting beliefs and clear energetic blockages\, enabling them to rewrite their stories and create fulfilling realities. \nIn this transformative session\, you will: \n\nDiscover methods to release emotional blocks and limiting beliefs.\nLearn how to harness your cyclical energetic makeup for personal growth.\nGain insights into overcoming fears and living your dream life.\n\nRebecca Roitz\, the founder of Priestess Portal Academy and Aquarius Hair and Healing\, is dedicated to empowering women by transforming their mindsets and helping them connect with their true selves. With an upcoming TV show\, “Ethereal – The Path of Alignment\,” and a rich professional background\, Rebecca brings a wealth of knowledge and experience to this session. \nRebecca enjoys a serene urban life in central Ontario\, Canada\, with her husband and their senior cat\, Tony. \nDon’t miss this opportunity to unlock your inner power and transform your life. Save the date and join us for this empowering session!
URL:https://spirit-calling.com/event/unlock-your-inner-power-release-emotional-blocks-and-beliefs-with-becky-roitz/
CATEGORIES:Founding Awakeners Power Hour
ATTACH;FMTTYPE=image/png:https://spirit-calling.com/wp-content/uploads/Awakeners-Hour-Horizontal-3.png
LOCATION:https://zoom.us/j/8858847385?pwd=WE5BZS9OdkxvZG5PYkMrZC83dEFHQT09
END:VEVENT
BEGIN:VEVENT
DTSTART;TZID=America/New_York:20240911T180000
DTEND;TZID=America/New_York:20240911T190000
DTSTAMP:20260419T144402
CREATED:20240228T232400Z
LAST-MODIFIED:20240228T232438Z
UID:10000365-1726077600-1726081200@spirit-calling.com
SUMMARY:Conscious Community Connection Circle
DESCRIPTION:Answer the Spirit’s Call: Monthly Gathering for Conscious Community Connection within the Spirit Calling Portal! \nStep into the heart of our conscious community where the LIVE MEETING ROOM was crafted precisely for this purpose. Join us every second Wednesday of the month to explore the channeled messages and guidance from our guides. Delve into self-discovery\, growth\, and support within the sacred space of our LIVE MEETING ROOM within the Spirit Calling Portal. \nOpenly share your challenges and successes amidst a nurturing environment where every member thrives. Together\, we offer insights\, encouragement\, and practical advice to propel each other along our spiritual paths. \nOur Founder\, Pamela Downes\, will host this event\, creating a safe space for connection and growth. \nBeyond our monthly gatherings\, the LIVE MEETING ROOM is open to members for continued conversations\, getting to know fellow members\, and hosting gatherings. \nWhether you seek guidance\, connection\, or simply a supportive community\, our Conscious Community Connection Circle welcomes you. Answer the Spirit’s Call and join us to deepen your spiritual development and foster meaningful connections.”
URL:https://spirit-calling.com/event/conscious-community-connection-circle/2024-09-11/
ATTACH;FMTTYPE=image/png:https://spirit-calling.com/wp-content/uploads/Conscious-Community-Connection-Circle.png
END:VEVENT
BEGIN:VEVENT
DTSTART;TZID=America/New_York:20240927T150000
DTEND;TZID=America/New_York:20240927T160000
DTSTAMP:20260419T144402
CREATED:20240923T210725Z
LAST-MODIFIED:20240924T190653Z
UID:10000552-1727449200-1727452800@spirit-calling.com
SUMMARY:5D All Day with Danielle Kane
DESCRIPTION:Welcome to 5D ALL DAY on Spirit Calling with Danielle Kane! \nOur podcast is a platform for conversations within the Spirit Calling community on a range of topics\, and we invite you to join in as well. \nOur aim is to break barriers and expand consciousness for those who are spiritually curious or who want to share their lived experiences. \nOur upcoming live episode will explore the path to self-discovery. We invite you to join us for this groundbreaking conversation on the last Friday of the month at 3 pm EST/12 pm PST. \nWe can’t wait to see you there!
URL:https://spirit-calling.com/event/5d-all-day-with-danielle-kane-8-2-2-2-2-2-2-2/
CATEGORIES:5D All Day
ATTACH;FMTTYPE=image/png:https://spirit-calling.com/wp-content/uploads/5D-All-Day-YouTube-Thumbnail.png
END:VEVENT
BEGIN:VEVENT
DTSTART;TZID=America/New_York:20240929T131100
DTEND;TZID=America/New_York:20240929T141100
DTSTAMP:20260419T144402
CREATED:20240129T220521Z
LAST-MODIFIED:20240129T220521Z
UID:10000304-1727615460-1727619060@spirit-calling.com
SUMMARY:Meditation with Nicole Gibbs
DESCRIPTION:Mark your calendars for the Last Sunday of Every Month at 1:11EST \nJoin Nicole Gibbs\, the founder of Awakening Mass Meditation and Soul Leader\, as she hosts a monthly meditation for the Spirit Calling Community! Take a well-deserved break in your day and engage in a conscious awakening and expansion experience. Nicole’s expertise and guidance will help you connect with your inner self\, fostering relaxation\, self-awareness\, and personal growth. Don’t miss this opportunity to prioritize your well-being and join the community in this transformative meditation practice.
URL:https://spirit-calling.com/event/meditation-with-nicole-gibbs-2/2024-09-29/
CATEGORIES:Special Event
ATTACH;FMTTYPE=image/png:https://spirit-calling.com/wp-content/uploads/Mass-Meditation-Thumbnail-2-scaled.png
LOCATION:https://spirit-calling.com/event/meditation-with-nicole-gibbs-2/2024-09-29/
END:VEVENT
END:VCALENDAR