BEGIN:VCALENDAR
VERSION:2.0
PRODID:-//Spirit Calling - ECPv6.15.17//NONSGML v1.0//EN
CALSCALE:GREGORIAN
METHOD:PUBLISH
X-ORIGINAL-URL:https://spirit-calling.com
X-WR-CALDESC:Events for Spirit Calling
REFRESH-INTERVAL;VALUE=DURATION:PT1H
X-Robots-Tag:noindex
X-PUBLISHED-TTL:PT1H
BEGIN:VTIMEZONE
TZID:America/New_York
BEGIN:DAYLIGHT
TZOFFSETFROM:-0500
TZOFFSETTO:-0400
TZNAME:EDT
DTSTART:20230312T070000
END:DAYLIGHT
BEGIN:STANDARD
TZOFFSETFROM:-0400
TZOFFSETTO:-0500
TZNAME:EST
DTSTART:20231105T060000
END:STANDARD
BEGIN:DAYLIGHT
TZOFFSETFROM:-0500
TZOFFSETTO:-0400
TZNAME:EDT
DTSTART:20240310T070000
END:DAYLIGHT
BEGIN:STANDARD
TZOFFSETFROM:-0400
TZOFFSETTO:-0500
TZNAME:EST
DTSTART:20241103T060000
END:STANDARD
BEGIN:DAYLIGHT
TZOFFSETFROM:-0500
TZOFFSETTO:-0400
TZNAME:EDT
DTSTART:20250309T070000
END:DAYLIGHT
BEGIN:STANDARD
TZOFFSETFROM:-0400
TZOFFSETTO:-0500
TZNAME:EST
DTSTART:20251102T060000
END:STANDARD
END:VTIMEZONE
BEGIN:VEVENT
DTSTART;TZID=America/New_York:20240710T140000
DTEND;TZID=America/New_York:20240710T150000
DTSTAMP:20260419T160154
CREATED:20240705T160243Z
LAST-MODIFIED:20240705T161305Z
UID:10000487-1720620000-1720623600@spirit-calling.com
SUMMARY:Discover Your True Potential: Awakeners Hour with Hannah Chapman
DESCRIPTION:Discover Your True Potential: Awakeners Hour with Hannah Chapman \nWednesday\, July 10th at 2:00 PM EST \nJoin us for this month’s Awakeners Hour led by the insightful Hannah Chapman. This interactive session will focus on exploring and practicing your Human Design authority\, enriched by the powerful insights of Gene Keys. \nWhat to Expect:\n– Preparation: To fully engage in the session\, please ensure you know your Human Design information beforehand. If you need assistance\, send your birth details to Hannah\, and she will provide you with your personalized chart.\n– Interactive Discussion: Hannah will lead a discussion on understanding and applying your Human Design authority.\n– Gene Keys Exploration: We’ll delve into the Gene Keys\, with the opportunity for one or two participants to explore and discuss their specific spheres and their meanings. \nDon’t miss this chance to gain profound insights into your unique design and how to harness your true potential.
URL:https://spirit-calling.com/event/discover-your-true-potential-awakeners-hour-with-hannah-chapman/
CATEGORIES:Founding Awakeners Power Hour
ATTACH;FMTTYPE=image/png:https://spirit-calling.com/wp-content/uploads/Awakeners-Hour-Horizontal-2.png
ORGANIZER;CN="Spirit Calling":MAILTO:support@spirit-calling.com
LOCATION:
END:VEVENT
BEGIN:VEVENT
DTSTART;TZID=America/New_York:20240710T180000
DTEND;TZID=America/New_York:20240710T190000
DTSTAMP:20260419T160154
CREATED:20240228T232400Z
LAST-MODIFIED:20240228T232438Z
UID:10000363-1720634400-1720638000@spirit-calling.com
SUMMARY:Conscious Community Connection Circle
DESCRIPTION:Answer the Spirit’s Call: Monthly Gathering for Conscious Community Connection within the Spirit Calling Portal! \nStep into the heart of our conscious community where the LIVE MEETING ROOM was crafted precisely for this purpose. Join us every second Wednesday of the month to explore the channeled messages and guidance from our guides. Delve into self-discovery\, growth\, and support within the sacred space of our LIVE MEETING ROOM within the Spirit Calling Portal. \nOpenly share your challenges and successes amidst a nurturing environment where every member thrives. Together\, we offer insights\, encouragement\, and practical advice to propel each other along our spiritual paths. \nOur Founder\, Pamela Downes\, will host this event\, creating a safe space for connection and growth. \nBeyond our monthly gatherings\, the LIVE MEETING ROOM is open to members for continued conversations\, getting to know fellow members\, and hosting gatherings. \nWhether you seek guidance\, connection\, or simply a supportive community\, our Conscious Community Connection Circle welcomes you. Answer the Spirit’s Call and join us to deepen your spiritual development and foster meaningful connections.”
URL:https://spirit-calling.com/event/conscious-community-connection-circle/2024-07-10/
ATTACH;FMTTYPE=image/png:https://spirit-calling.com/wp-content/uploads/Conscious-Community-Connection-Circle.png
END:VEVENT
BEGIN:VEVENT
DTSTART;TZID=America/New_York:20240717T100000
DTEND;TZID=America/New_York:20240717T100000
DTSTAMP:20260419T160154
CREATED:20240717T131319Z
LAST-MODIFIED:20240721T174637Z
UID:10000547-1721210400-1721210400@spirit-calling.com
SUMMARY:Encountering God Through a Near-Death Experience
DESCRIPTION:Live the Call Podcast #007: Encountering God Through a Near-Death Experience with Kristen Numen In this episode of Live the Call\, join host Pamela Downes for a profound journey into the realm beyond life with Kristen Numen. Kristen vividly recounts her near-death experience where she encountered God and gained profound insights into the nature of existence. Her spiritual awakening unfolded through this transformative event\, revealing glimpses of life on the other side and the true essence of creation. Since her transformative journey began in 2016\, Kristen has developed a profound connection with the spiritual realm\, offering personalized insights and guidance to those seeking enlightenment. As a certified Kundalini Reiki Master and Teacher\, Kristen channels healing energies to facilitate physical\, emotional\, and spiritual transformation. Her unique ability to communicate with departed souls and Beings of Light enriches her practice\, allowing her to offer holistic support and guidance. Kristen shares how this encounter unlocked her abilities in healing\, psychic exploration\, and Rhanni Reiki healing\, offering a unique perspective on spirituality and our connection to the divine. Don’t miss this incredible story of transcendence and discovery with Kristen Numen on Live the Call. 
URL:https://spirit-calling.com/event/encountering-god-through-a-near-death-experience/
CATEGORIES:Live the Call
ATTACH;FMTTYPE=image/png:https://spirit-calling.com/wp-content/uploads/Monthly-Community-Zoom-1-5.png
END:VEVENT
BEGIN:VEVENT
DTSTART;TZID=America/New_York:20240726T150000
DTEND;TZID=America/New_York:20240726T160000
DTSTAMP:20260419T160154
CREATED:20240710T180934Z
LAST-MODIFIED:20240710T180957Z
UID:10000428-1722006000-1722009600@spirit-calling.com
SUMMARY:5D All Day with Danielle Kane
DESCRIPTION:Welcome to 5D ALL DAY on Spirit Calling with Danielle Kane! \nOur podcast is a platform for conversations within the Spirit Calling community on a range of topics\, and we invite you to join in as well. \nOur aim is to break barriers and expand consciousness for those who are spiritually curious or who want to share their lived experiences. \nOur upcoming live episode will explore the path to self-discovery. We invite you to join us for this groundbreaking conversation on the last Friday of the month at 3 pm EST/12 pm PST. \nWe can’t wait to see you there!
URL:https://spirit-calling.com/event/5d-all-day-with-danielle-kane-8-2-2-2-2-2/
CATEGORIES:5D All Day
ATTACH;FMTTYPE=image/png:https://spirit-calling.com/wp-content/uploads/5D-All-Day-YouTube-Thumbnail.png
END:VEVENT
BEGIN:VEVENT
DTSTART;TZID=America/New_York:20240728T131100
DTEND;TZID=America/New_York:20240728T141100
DTSTAMP:20260419T160154
CREATED:20240129T220521Z
LAST-MODIFIED:20240129T220521Z
UID:10000302-1722172260-1722175860@spirit-calling.com
SUMMARY:Meditation with Nicole Gibbs
DESCRIPTION:Mark your calendars for the Last Sunday of Every Month at 1:11EST \nJoin Nicole Gibbs\, the founder of Awakening Mass Meditation and Soul Leader\, as she hosts a monthly meditation for the Spirit Calling Community! Take a well-deserved break in your day and engage in a conscious awakening and expansion experience. Nicole’s expertise and guidance will help you connect with your inner self\, fostering relaxation\, self-awareness\, and personal growth. Don’t miss this opportunity to prioritize your well-being and join the community in this transformative meditation practice.
URL:https://spirit-calling.com/event/meditation-with-nicole-gibbs-2/2024-07-28/
CATEGORIES:Special Event
ATTACH;FMTTYPE=image/png:https://spirit-calling.com/wp-content/uploads/Mass-Meditation-Thumbnail-2-scaled.png
LOCATION:https://spirit-calling.com/event/meditation-with-nicole-gibbs-2/2024-07-28/
END:VEVENT
END:VCALENDAR