BEGIN:VCALENDAR
VERSION:2.0
PRODID:-//Spirit Calling - ECPv6.15.17//NONSGML v1.0//EN
CALSCALE:GREGORIAN
METHOD:PUBLISH
X-ORIGINAL-URL:https://spirit-calling.com
X-WR-CALDESC:Events for Spirit Calling
REFRESH-INTERVAL;VALUE=DURATION:PT1H
X-Robots-Tag:noindex
X-PUBLISHED-TTL:PT1H
BEGIN:VTIMEZONE
TZID:America/New_York
BEGIN:DAYLIGHT
TZOFFSETFROM:-0500
TZOFFSETTO:-0400
TZNAME:EDT
DTSTART:20230312T070000
END:DAYLIGHT
BEGIN:STANDARD
TZOFFSETFROM:-0400
TZOFFSETTO:-0500
TZNAME:EST
DTSTART:20231105T060000
END:STANDARD
BEGIN:DAYLIGHT
TZOFFSETFROM:-0500
TZOFFSETTO:-0400
TZNAME:EDT
DTSTART:20240310T070000
END:DAYLIGHT
BEGIN:STANDARD
TZOFFSETFROM:-0400
TZOFFSETTO:-0500
TZNAME:EST
DTSTART:20241103T060000
END:STANDARD
BEGIN:DAYLIGHT
TZOFFSETFROM:-0500
TZOFFSETTO:-0400
TZNAME:EDT
DTSTART:20250309T070000
END:DAYLIGHT
BEGIN:STANDARD
TZOFFSETFROM:-0400
TZOFFSETTO:-0500
TZNAME:EST
DTSTART:20251102T060000
END:STANDARD
END:VTIMEZONE
BEGIN:VEVENT
DTSTART;TZID=America/New_York:20240605T150000
DTEND;TZID=America/New_York:20240605T160000
DTSTAMP:20260419T172238
CREATED:20240529T040513Z
LAST-MODIFIED:20240529T040513Z
UID:10000426-1717599600-1717603200@spirit-calling.com
SUMMARY:Living Paranormally: June Awakeners Hour with Reiki Master Kristen Numen
DESCRIPTION:Experience Spiritual Insights and Paranormal Healing with a Renowned Intuitive Guide\nJoin us for the June Awakeners Hour\, an enlightening event featuring Kristen Numen\, a seasoned spiritual practitioner and intuitive guide. Since her transformative journey began in 2016\, Kristen has developed a profound connection with the spiritual realm\, offering personalized insights and guidance to those seeking enlightenment.\n\nAs a certified Kundalini Reiki Master and Teacher\, Kristen channels healing energies to facilitate physical\, emotional\, and spiritual transformation. Her unique ability to communicate with departed souls and Beings of Light enriches her practice\, allowing her to offer holistic support and guidance.\n\nDuring this event\, Kristen will lead us on a transformative Reiki journey\, channeling healing energies to help you tap into your own innate healing abilities. Additionally\, she will share her experiences of living what she describes as “para-normally\,” providing insights into navigating life with a deep connection to the spiritual realm.\n\nDespite facing personal health challenges\, Kristen’s journey has been one of resilience and growth. She is dedicated to empowering others to realize their fullest potential and embrace the magic of the human experience. Kristen’s ultimate goal is to inspire confidence and resilience in individuals\, helping them manifest the life of their dreams.\n\nDon’t miss this opportunity to experience Kristen Numen’s transformative presence and gain insights into your own spiritual journey. Join us and awaken to new levels of joy and fulfillment.
URL:https://spirit-calling.com/event/living-paranormally-june-awakeners-hour-with-reiki-master-kristen-numen/
CATEGORIES:Founding Awakeners Power Hour
ATTACH;FMTTYPE=image/png:https://spirit-calling.com/wp-content/uploads/Awakeners-Hour-Horizontal-1.png
ORGANIZER;CN="Spirit Calling":MAILTO:support@spirit-calling.com
LOCATION:https://spirit-calling.com/event/living-paranormally-june-awakeners-hour-with-reiki-master-kristen-numen/
END:VEVENT
BEGIN:VEVENT
DTSTART;TZID=America/New_York:20240612T180000
DTEND;TZID=America/New_York:20240612T190000
DTSTAMP:20260419T172238
CREATED:20240228T232400Z
LAST-MODIFIED:20240228T232438Z
UID:10000362-1718215200-1718218800@spirit-calling.com
SUMMARY:Conscious Community Connection Circle
DESCRIPTION:Answer the Spirit’s Call: Monthly Gathering for Conscious Community Connection within the Spirit Calling Portal! \nStep into the heart of our conscious community where the LIVE MEETING ROOM was crafted precisely for this purpose. Join us every second Wednesday of the month to explore the channeled messages and guidance from our guides. Delve into self-discovery\, growth\, and support within the sacred space of our LIVE MEETING ROOM within the Spirit Calling Portal. \nOpenly share your challenges and successes amidst a nurturing environment where every member thrives. Together\, we offer insights\, encouragement\, and practical advice to propel each other along our spiritual paths. \nOur Founder\, Pamela Downes\, will host this event\, creating a safe space for connection and growth. \nBeyond our monthly gatherings\, the LIVE MEETING ROOM is open to members for continued conversations\, getting to know fellow members\, and hosting gatherings. \nWhether you seek guidance\, connection\, or simply a supportive community\, our Conscious Community Connection Circle welcomes you. Answer the Spirit’s Call and join us to deepen your spiritual development and foster meaningful connections.”
URL:https://spirit-calling.com/event/conscious-community-connection-circle/2024-06-12/
ATTACH;FMTTYPE=image/png:https://spirit-calling.com/wp-content/uploads/Conscious-Community-Connection-Circle.png
END:VEVENT
BEGIN:VEVENT
DTSTART;TZID=America/New_York:20240619T150000
DTEND;TZID=America/New_York:20240619T160000
DTSTAMP:20260419T172238
CREATED:20240531T215207Z
LAST-MODIFIED:20240531T215207Z
UID:10000427-1718809200-1718812800@spirit-calling.com
SUMMARY:Live the Call:  The Japanese Art of Making Friends with Your Money with special guest Ken Honda
DESCRIPTION:In this month’s episode of Live the Call\, host Pamela Downes has a heartfelt conversation with her friend\, Ken Honda\, a renowned expert on money and happiness. Ken\, who has sold over eight million books in Japan\, is the author of the international bestseller “Happy Money: The Japanese Art of Making Peace With Your Money” and his latest work\, “True Wealth – 9 Lessons From a Grandfather on Happiness and Abundance.” \n  \nJoin Pamela and Ken as they catch up and explore how to improve your relationship with money and create lasting abundance in your life. Ken\, known as the “Happy Money Guy\,” “Money Healer\,” and “Zen Millionaire\,” shares his wisdom on bridging the gap between financial well-being and personal happiness. During their conversation\, Ken offers practical advice on understanding and working with money to cultivate a life of abundance and fulfillment. \n  \nKen’s teachings invite us to heal our relationship with money\, experience greater happiness\, and align our financial practices with our life purpose. Drawing from his extensive background as a business consultant and investor\, Ken provides insights that are both profound and actionable. \n  \nDon’t miss this enlightening discussion with Ken Honda on Live the Call. Learn more about Ken and his transformative work at KenHonda.com. \n  \nLaunch Date: 6/19
URL:https://spirit-calling.com/event/live-the-call-the-japanese-art-of-making-friends-with-your-money-with-special-guest-ken-honda/
CATEGORIES:Live the Call
ATTACH;FMTTYPE=image/png:https://spirit-calling.com/wp-content/uploads/LTC-Ken-Honda.png
ORGANIZER;CN="Spirit Calling":MAILTO:support@spirit-calling.com
END:VEVENT
BEGIN:VEVENT
DTSTART;TZID=America/New_York:20240621T150000
DTEND;TZID=America/New_York:20240621T160000
DTSTAMP:20260419T172238
CREATED:20240611T190507Z
LAST-MODIFIED:20240611T190508Z
UID:10000241-1718982000-1718985600@spirit-calling.com
SUMMARY:5D All Day with Danielle Kane
DESCRIPTION:Welcome to 5D ALL DAY on Spirit Calling with Danielle Kane! \nOur podcast is a platform for conversations within the Spirit Calling community on a range of topics\, and we invite you to join in as well. \nOur aim is to break barriers and expand consciousness for those who are spiritually curious or who want to share their lived experiences. \nOur upcoming live episode will explore the path to self-discovery. We invite you to join us for this groundbreaking conversation on the last Friday of the month at 3 pm EST/12 pm PST. \nWe can’t wait to see you there!
URL:https://spirit-calling.com/event/5d-all-day-with-danielle-kane-8-2-2-2-2/
CATEGORIES:5D All Day
ATTACH;FMTTYPE=image/png:https://spirit-calling.com/wp-content/uploads/5D-All-Day-YouTube-Thumbnail.png
END:VEVENT
BEGIN:VEVENT
DTSTART;TZID=America/New_York:20240630T131100
DTEND;TZID=America/New_York:20240630T141100
DTSTAMP:20260419T172238
CREATED:20240129T220521Z
LAST-MODIFIED:20240129T220521Z
UID:10000301-1719753060-1719756660@spirit-calling.com
SUMMARY:Meditation with Nicole Gibbs
DESCRIPTION:Mark your calendars for the Last Sunday of Every Month at 1:11EST \nJoin Nicole Gibbs\, the founder of Awakening Mass Meditation and Soul Leader\, as she hosts a monthly meditation for the Spirit Calling Community! Take a well-deserved break in your day and engage in a conscious awakening and expansion experience. Nicole’s expertise and guidance will help you connect with your inner self\, fostering relaxation\, self-awareness\, and personal growth. Don’t miss this opportunity to prioritize your well-being and join the community in this transformative meditation practice.
URL:https://spirit-calling.com/event/meditation-with-nicole-gibbs-2/2024-06-30/
CATEGORIES:Special Event
ATTACH;FMTTYPE=image/png:https://spirit-calling.com/wp-content/uploads/Mass-Meditation-Thumbnail-2-scaled.png
LOCATION:https://spirit-calling.com/event/meditation-with-nicole-gibbs-2/2024-06-30/
END:VEVENT
END:VCALENDAR