BEGIN:VCALENDAR
VERSION:2.0
PRODID:-//Spirit Calling - ECPv6.15.17//NONSGML v1.0//EN
CALSCALE:GREGORIAN
METHOD:PUBLISH
X-WR-CALNAME:Spirit Calling
X-ORIGINAL-URL:https://spirit-calling.com
X-WR-CALDESC:Events for Spirit Calling
REFRESH-INTERVAL;VALUE=DURATION:PT1H
X-Robots-Tag:noindex
X-PUBLISHED-TTL:PT1H
BEGIN:VTIMEZONE
TZID:America/New_York
BEGIN:DAYLIGHT
TZOFFSETFROM:-0500
TZOFFSETTO:-0400
TZNAME:EDT
DTSTART:20230312T070000
END:DAYLIGHT
BEGIN:STANDARD
TZOFFSETFROM:-0400
TZOFFSETTO:-0500
TZNAME:EST
DTSTART:20231105T060000
END:STANDARD
BEGIN:DAYLIGHT
TZOFFSETFROM:-0500
TZOFFSETTO:-0400
TZNAME:EDT
DTSTART:20240310T070000
END:DAYLIGHT
BEGIN:STANDARD
TZOFFSETFROM:-0400
TZOFFSETTO:-0500
TZNAME:EST
DTSTART:20241103T060000
END:STANDARD
BEGIN:DAYLIGHT
TZOFFSETFROM:-0500
TZOFFSETTO:-0400
TZNAME:EDT
DTSTART:20250309T070000
END:DAYLIGHT
BEGIN:STANDARD
TZOFFSETFROM:-0400
TZOFFSETTO:-0500
TZNAME:EST
DTSTART:20251102T060000
END:STANDARD
END:VTIMEZONE
BEGIN:VEVENT
DTSTART;TZID=America/New_York:20240508T150000
DTEND;TZID=America/New_York:20240508T160000
DTSTAMP:20260419T184201
CREATED:20240501T144326Z
LAST-MODIFIED:20240501T144326Z
UID:10000423-1715180400-1715184000@spirit-calling.com
SUMMARY:Discover Inner Peace: Connect with Your True Self through Mindfulness Meditation!
DESCRIPTION:Join us on Wednesday\, May 8th at 3pm EST\, for a transformative session led by International Holistic Intuitive Energy Healer and Mindfulness Teacher\, Terri Allen. Terri’s extensive background in mindfulness\, past life regression\, and intuitive healing has empowered countless individuals worldwide to connect with their inner selves and unlock their full potential. \nDuring this session\, Terri will guide you through a mindfulness meditation\, offering you a chance to connect with your inner self and explore the depths of your consciousness. After the meditation\, Terri will delve into her work with children through her foundation\, The Angels of Light Children’s Foundation. She will share insights into how mindfulness practices can empower children to navigate anxiety\, grief\, and challenging behaviors. Terri will also discuss her award-winning mindfulness books\, “My Magical Garden” and “My Magical Tree\,” which encourage children to use their imagination and creativity to relieve anxiety and cope with difficult emotions. \nExperience a guided mindfulness meditation session and gain insights into Terri’s holistic approach to healing and self-discovery. Engage in Q&A and personal reflection opportunities\, and embark on a journey of empowerment and growth.
URL:https://spirit-calling.com/event/discover-inner-peace-connect-with-your-true-self-through-mindfulness-meditation/
CATEGORIES:Founding Awakeners Power Hour
ATTACH;FMTTYPE=image/png:https://spirit-calling.com/wp-content/uploads/Awakeners-Hour-Horizontal.png
ORGANIZER;CN="Spirit Calling":MAILTO:support@spirit-calling.com
LOCATION:https://spirit-calling.com/event/discover-inner-peace-connect-with-your-true-self-through-mindfulness-meditation/
END:VEVENT
BEGIN:VEVENT
DTSTART;TZID=America/New_York:20240508T180000
DTEND;TZID=America/New_York:20240508T190000
DTSTAMP:20260419T184201
CREATED:20240228T232400Z
LAST-MODIFIED:20240228T232438Z
UID:10000361-1715191200-1715194800@spirit-calling.com
SUMMARY:Conscious Community Connection Circle
DESCRIPTION:Answer the Spirit’s Call: Monthly Gathering for Conscious Community Connection within the Spirit Calling Portal! \nStep into the heart of our conscious community where the LIVE MEETING ROOM was crafted precisely for this purpose. Join us every second Wednesday of the month to explore the channeled messages and guidance from our guides. Delve into self-discovery\, growth\, and support within the sacred space of our LIVE MEETING ROOM within the Spirit Calling Portal. \nOpenly share your challenges and successes amidst a nurturing environment where every member thrives. Together\, we offer insights\, encouragement\, and practical advice to propel each other along our spiritual paths. \nOur Founder\, Pamela Downes\, will host this event\, creating a safe space for connection and growth. \nBeyond our monthly gatherings\, the LIVE MEETING ROOM is open to members for continued conversations\, getting to know fellow members\, and hosting gatherings. \nWhether you seek guidance\, connection\, or simply a supportive community\, our Conscious Community Connection Circle welcomes you. Answer the Spirit’s Call and join us to deepen your spiritual development and foster meaningful connections.”
URL:https://spirit-calling.com/event/conscious-community-connection-circle/2024-05-08/
ATTACH;FMTTYPE=image/png:https://spirit-calling.com/wp-content/uploads/Conscious-Community-Connection-Circle.png
END:VEVENT
BEGIN:VEVENT
DTSTART;TZID=America/New_York:20240515T150000
DTEND;TZID=America/New_York:20240515T153000
DTSTAMP:20260419T184201
CREATED:20240129T155936Z
LAST-MODIFIED:20240301T153953Z
UID:10000236-1715785200-1715787000@spirit-calling.com
SUMMARY:Live the Call: Unmasking Neurodivergence Through Art with Kyla Yage
DESCRIPTION:A Journey of Empowerment and Expression in Intuitive ADHD Art \nGet ready for a captivating episode of “Live the Call” launching on May 15\, 2024\, as we welcome Kyla Yager\, a Toronto-based\, New Orleans-bred Visual Artist\, to the podcast. Kyla’s passion for painting extends beyond the canvas\, delving into the realms of emotions and mindsets. What sets her apart is not just her artistic talent but her unique perspective as someone who navigates life with ADHD and Mental Health challenges.  \nIn her journey as a professional artist\, Kyla has coined her style as “Intuitive ADHD Art\,” where the rapid pace of her thoughts is translated seamlessly onto the canvas. Her brush moves at the speed of her mind\, creating compositions filled with hyper-detail\, intricate layering\, and hidden imagery. Each piece becomes a visual journey\, offering multiple perspectives and inviting viewers to see something different with every glance.  \nKyla’s story is one of resilience and empowerment. Rather than viewing her neurodivergence as a setback\, she embraces it as a tool for creativity and self-expression. Through her art\, Kyla aims to inspire fellow neurodivergent individuals to recognize and celebrate their unique traits.  \nHaving earned her BFA in Visual Art from York University in 2018\, Kyla officially launched her art business\, Kyla Yager Artwork\, in January 2020. Since then\, her work has graced galleries\, public art exhibitions\, and publications across North America. Today\, she stands as a full-time professional artist with a mission to unmask the beauty of neurodivergence.  \nJoin us on May 15th as Kyla Yager shares her journey\, the inspiration behind her art\, and the powerful message she sends to the neurodivergent community. This episode promises to be a celebration of empowerment\, self-expression\, and the transformative power of art.  \nDon’t miss the launch of this inspiring episode on “Live the Call”! Tune in and be part of a conversation that explores the intersection of art\, neurodivergence\, and the beauty within our unique perspectives.  \n  \nIG @artby.kylay \nTikTok @kylayagerartwork \nWebsite: https://www.kylayagerartwork.com/  \nEmail: artby.kylay@gmail.com 
URL:https://spirit-calling.com/event/live-the-call-unmasking-neurodivergence-through-art-with-kyla-yage/
CATEGORIES:Live the Call
ATTACH;FMTTYPE=image/png:https://spirit-calling.com/wp-content/uploads/5.png
END:VEVENT
BEGIN:VEVENT
DTSTART;TZID=America/New_York:20240526T131100
DTEND;TZID=America/New_York:20240526T141100
DTSTAMP:20260419T184201
CREATED:20240129T220521Z
LAST-MODIFIED:20240129T220521Z
UID:10000300-1716729060-1716732660@spirit-calling.com
SUMMARY:Meditation with Nicole Gibbs
DESCRIPTION:Mark your calendars for the Last Sunday of Every Month at 1:11EST \nJoin Nicole Gibbs\, the founder of Awakening Mass Meditation and Soul Leader\, as she hosts a monthly meditation for the Spirit Calling Community! Take a well-deserved break in your day and engage in a conscious awakening and expansion experience. Nicole’s expertise and guidance will help you connect with your inner self\, fostering relaxation\, self-awareness\, and personal growth. Don’t miss this opportunity to prioritize your well-being and join the community in this transformative meditation practice.
URL:https://spirit-calling.com/event/meditation-with-nicole-gibbs-2/2024-05-26/
CATEGORIES:Special Event
ATTACH;FMTTYPE=image/png:https://spirit-calling.com/wp-content/uploads/Mass-Meditation-Thumbnail-2-scaled.png
LOCATION:https://spirit-calling.com/event/meditation-with-nicole-gibbs-2/2024-05-26/
END:VEVENT
BEGIN:VEVENT
DTSTART;TZID=America/New_York:20240531T150000
DTEND;TZID=America/New_York:20240531T160000
DTSTAMP:20260419T184201
CREATED:20240526T183423Z
LAST-MODIFIED:20240526T183424Z
UID:10000240-1717167600-1717171200@spirit-calling.com
SUMMARY:5D All Day with Danielle Kane
DESCRIPTION:Welcome to 5D ALL DAY on Spirit Calling with Danielle Kane! \nOur podcast is a platform for conversations within the Spirit Calling community on a range of topics\, and we invite you to join in as well. \nOur aim is to break barriers and expand consciousness for those who are spiritually curious or who want to share their lived experiences. \nOur upcoming live episode will explore the path to self-discovery. We invite you to join us for this groundbreaking conversation on the last Friday of the month at 3 pm EST/12 pm PST. \nWe can’t wait to see you there!
URL:https://spirit-calling.com/event/5d-all-day-with-danielle-kane-8-2-2-2/
CATEGORIES:5D All Day
ATTACH;FMTTYPE=image/png:https://spirit-calling.com/wp-content/uploads/5D-All-Day-YouTube-Thumbnail.png
END:VEVENT
END:VCALENDAR