BEGIN:VCALENDAR
VERSION:2.0
PRODID:-//Spirit Calling - ECPv6.15.17//NONSGML v1.0//EN
CALSCALE:GREGORIAN
METHOD:PUBLISH
X-ORIGINAL-URL:https://spirit-calling.com
X-WR-CALDESC:Events for Spirit Calling
REFRESH-INTERVAL;VALUE=DURATION:PT1H
X-Robots-Tag:noindex
X-PUBLISHED-TTL:PT1H
BEGIN:VTIMEZONE
TZID:America/New_York
BEGIN:DAYLIGHT
TZOFFSETFROM:-0500
TZOFFSETTO:-0400
TZNAME:EDT
DTSTART:20230312T070000
END:DAYLIGHT
BEGIN:STANDARD
TZOFFSETFROM:-0400
TZOFFSETTO:-0500
TZNAME:EST
DTSTART:20231105T060000
END:STANDARD
BEGIN:DAYLIGHT
TZOFFSETFROM:-0500
TZOFFSETTO:-0400
TZNAME:EDT
DTSTART:20240310T070000
END:DAYLIGHT
BEGIN:STANDARD
TZOFFSETFROM:-0400
TZOFFSETTO:-0500
TZNAME:EST
DTSTART:20241103T060000
END:STANDARD
BEGIN:DAYLIGHT
TZOFFSETFROM:-0500
TZOFFSETTO:-0400
TZNAME:EDT
DTSTART:20250309T070000
END:DAYLIGHT
BEGIN:STANDARD
TZOFFSETFROM:-0400
TZOFFSETTO:-0500
TZNAME:EST
DTSTART:20251102T060000
END:STANDARD
END:VTIMEZONE
BEGIN:VEVENT
DTSTART;TZID=America/New_York:20240104T120000
DTEND;TZID=America/New_York:20240104T130000
DTSTAMP:20260420T001844
CREATED:20231012T213607Z
LAST-MODIFIED:20240101T203142Z
UID:10000218-1704369600-1704373200@spirit-calling.com
SUMMARY:Unlocking Mysteries: A Journey into Divination Tools
DESCRIPTION:Connect to Spirit\, Channel Healing\, and Receive Profound Messages with Loretta Vasso \nEmbark on a captivating educational journey with the esteemed Loretta Vasso as she guides us through the diverse world of divination tools. Join us on January 4\, 2024\, at 12 pm EST\, for an exploration of various methods and instruments that enable us to forge connections with the spiritual realm\, and to channel healing energies and profound messages.  \nIn this immersive workshop\, Loretta will illuminate the significance and application of a wide array of divination tools\, providing valuable insights into their use and efficacy. Discover ancient arts such as astrology and casting stones\, and explore the mystical realms of spirit boards\, dowsing\, muscle testing\, and scrying. Decode the language of symbols through tea leaves\, Angel Cards\, Medicine Cards\, Fairy Cards\, Goddess Oracle Cards\, and Tarot Cards\, each offering a unique key to unlocking insights from the spiritual world.  \nDivination Tools Include:  \n\nAstrology: Horoscope \nCasting Stones: I Ching\, Runes \nSpirit Boards \nDowsing: L Rods\, Y Rod\, Pendulums \nMuscle Testing \nScrying: Crystal Balls\, Scrying Mirrors\, Lanterns\, Water \nGemstones – Messages from Mother Earth \n\n Mark your calendars for January 4\, 2024\, at 12 pm EST\, and join us for an event that promises to be both enlightening and enriching.  \n For more information about Loretta Vasso and her work\, please visit https://thepsychicpartners.com.  \n We look forward to welcoming you to this exceptional event! 
URL:https://spirit-calling.com/event/unlocking-mysteries-a-journey-into-divination-tools/
CATEGORIES:Founding Awakeners Power Hour
ATTACH;FMTTYPE=image/png:https://spirit-calling.com/wp-content/uploads/JAN-23-Founding-Awakeners-scaled.png
LOCATION:https://spirit-calling.com/event/unlocking-mysteries-a-journey-into-divination-tools/
END:VEVENT
BEGIN:VEVENT
DTSTART;TZID=America/New_York:20240111T140000
DTEND;TZID=America/New_York:20240111T150000
DTSTAMP:20260420T001844
CREATED:20231220T213107Z
LAST-MODIFIED:20231220T213107Z
UID:10000226-1704981600-1704985200@spirit-calling.com
SUMMARY:Unleashing the Magic Within Crystals with Clare Garner\, Crystal Manifestor
DESCRIPTION:Join us on January 11th at 2 pm as Clare\, a resilient soul who discovered the enchanting world of crystals during the challenging times of lockdown in 2020\, opens up about her extraordinary journey of healing and manifestation. After breaking free from a 15-year abusive relationship\, Clare experienced a profound spiritual awakening that led her to the captivating realm of crystals.  \n These magical gems not only became her allies in overcoming past traumas but also played a pivotal role in accelerating her businesses and turning her manifestations into reality. In 2021\, Clare\, along with her 13-year-old daughter\, embarked on a new venture of ethically sourcing and selling crystals. Through captivating live sessions on Instagram\, Clare’s business flourished\, eventually evolving into a franchise opportunity for others.  \n Having accumulated over 1\,000 hours of hosting Crystal lives and delving into the depths of crystal knowledge\, Clare is now ready to share her wisdom with you. In this exclusive event\, she will guide you on how to tap into the transformative power of crystals\, providing insights that can empower your own journey towards healing\, growth\, and manifestation.  \n Don’t miss this opportunity to learn from Clare’s unique experiences and discover the magic of crystals. Whether you’re a crystal enthusiast or a newcomer to their mystical world\, this event promises to be a source of inspiration and guidance.  \n January 11th\, 2:00 pm EST  \n Crystal Alchemy – Your Manifestation Toolkit Course:\nhttps://phoenix-rise.mykajabi.com/crystalalchemytoolkit  \n Join us for an afternoon of enlightenment and exploration as we unlock the secrets of Crystal Alchemy together. Reserve your spot now! 
URL:https://spirit-calling.com/event/unleashing-the-magic-within-crystals-with-clare-garner-crystal-manifestor/
CATEGORIES:Special Event
ATTACH;FMTTYPE=image/png:https://spirit-calling.com/wp-content/uploads/CrystalsWithClare-scaled.png
ORGANIZER;CN="Spirit Calling":MAILTO:support@spirit-calling.com
LOCATION:https://spirit-calling.com/event/unleashing-the-magic-within-crystals-with-clare-garner-crystal-manifestor/
END:VEVENT
BEGIN:VEVENT
DTSTART;VALUE=DATE:20240117
DTEND;VALUE=DATE:20240118
DTSTAMP:20260420T001844
CREATED:20231220T215030Z
LAST-MODIFIED:20240117T200052Z
UID:10000227-1705449600-1705535999@spirit-calling.com
SUMMARY:Live the Call Podcast Drop: Exploring Healing Journeys with Christine Renee's Reiki University
DESCRIPTION:Enjoy this month’s recorded episode of Live the Call for a Transformative Discussion on Reiki\, Chakras\, and Shamanic Practices \nUnlock the secrets of spiritual healing and empowerment in this month’s episode of “Live the Call\,” our monthly podcast series. This month\, we are honored to host Christine Renee\, a Reiki Teacher\, Chakra Coach\, and Shamanic Reiki Practitioner based in the picturesque Bozeman\, Montana.  \nChristine’s personal journey is a testament to the transformative power of Reiki and Shamanic practices. By delving into the profound energy of the Chakras and infusing her Reiki sessions with Shamanic wisdom\, she broke through limiting beliefs that encumbered her career\, relationships\, and self-worth. Now\, she is on a mission to share the gift of Reiki healing with the world\, offering guidance and support through her ReikiCafe Radio podcast.  \nAs the founder of ReikiCafe University\, Christine mentors and trains Reiki practitioners from across the globe\, equipping them with advanced skills in coaching and shamanic studies. ReikiCafe University serves as a hub for those committed to inner work\, empowering them to turn their Reiki dreams into reality.  \nIn this enlightening episode\, Christine will share her insights\, experiences\, and the profound impact of ReikiCafe University on healing journeys. Join us for a captivating discussion that explores the integration of Reiki\, Chakras\, and Shamanic practices\, and learn how these modalities can empower and transform your life.  \n As a special gift\, Christine invites you to participate in her workshop\, “Catalyze Your Healing\,” accompanied by a 10-page workbook. To register and receive this invaluable resource\, follow this link: Register for the Workshop  \n Don’t miss this opportunity to delve into the world of Reiki and holistic healing. Listen to Live the Call with Christine Renee on our next podcast episode! 
URL:https://spirit-calling.com/event/live-the-call-podcast-exploring-healing-journeys-with-christine-renees-reiki-university/
CATEGORIES:Live the Call
ATTACH;FMTTYPE=image/png:https://spirit-calling.com/wp-content/uploads/LTC-Jan-scaled.png
ORGANIZER;CN="Spirit Calling":MAILTO:support@spirit-calling.com
LOCATION:https://spirit-calling.com/event/live-the-call-podcast-exploring-healing-journeys-with-christine-renees-reiki-university/
END:VEVENT
BEGIN:VEVENT
DTSTART;TZID=America/New_York:20240124T150000
DTEND;TZID=America/New_York:20240124T161500
DTSTAMP:20260420T001844
CREATED:20240104T202211Z
LAST-MODIFIED:20240124T195807Z
UID:10000228-1706108400-1706112900@spirit-calling.com
SUMMARY:Ann Marie's Numerology Insights: Soulful Success in 2024
DESCRIPTION:Join us for a soulful journey into the transformative energies of 2024 with Soulful Business Strategist and Master Numerologist\, AnnMarie. This exclusive live Zoom event is your opportunity to gain profound insights into the Universal 8 energy year and set the stage for a year of infinite abundance and soulful success. \n  \nWhat to Expect: \n– Insights into your soul contract for 2024 \n– Understanding high and low vibrational states of the year \n– Soulful strategies for navigating with eas \n– Predictions in business and energetic planes to plan and prepare \n  \nDownload your FREE gifts before the event: \n– Your Energetic Code: The Divine Heart Spark FREE Download \n– 2024 Energy Forecast Video Replay and E-Book FREE Download \n  \nConnect with AnnMarie: \nExplore more about her offerings or book numerology readings at www.annmariemckenzie.com \nFollow her on Instagram or join her Conscious Business Leaders Facebook group for ongoing inspiration and community support. \nEmbrace the magic of numerology and empower yourself to step into 2024 with clarity\, purpose\, and a soulful approach to success. RSVP now to secure your place in this live Zoom event! 🌟
URL:https://spirit-calling.com/event/ann-maries-numerology-insights-soulful-success-in-2024/
CATEGORIES:Special Event
ATTACH;FMTTYPE=image/png:https://spirit-calling.com/wp-content/uploads/658c6002e00b87718f2339c9-scaled.png
LOCATION:https://zoom.us/j/91031855239
END:VEVENT
BEGIN:VEVENT
DTSTART;TZID=America/New_York:20240126T150000
DTEND;TZID=America/New_York:20240126T160000
DTSTAMP:20260420T001844
CREATED:20240105T161038Z
LAST-MODIFIED:20240119T202555Z
UID:10000232-1706281200-1706284800@spirit-calling.com
SUMMARY:5D All Day with Danielle Kane
DESCRIPTION:Welcome to 5D ALL DAY on Spirit Calling with Danielle Kane! \nOur podcast is a platform for conversations within the Spirit Calling community on a range of topics\, and we invite you to join in as well. \nOur aim is to break barriers and expand consciousness for those who are spiritually curious or who want to share their lived experiences. \nOur upcoming live episode will explore the path to self-discovery. We invite you to join us for this groundbreaking conversation on Friday\, January 26th at 3 pm EST/12 pm PST. \nWe can’t wait to see you there! \n 
URL:https://spirit-calling.com/event/5d-all-day-with-danielle-kane-7/
CATEGORIES:5D All Day
ATTACH;FMTTYPE=image/png:https://spirit-calling.com/wp-content/uploads/5D-All-Day-YouTube-Thumbnail.png
END:VEVENT
BEGIN:VEVENT
DTSTART;TZID=America/New_York:20240128T151100
DTEND;TZID=America/New_York:20240128T161100
DTSTAMP:20260420T001844
CREATED:20230711T195805Z
LAST-MODIFIED:20240105T160827Z
UID:10000029-1706454660-1706458260@spirit-calling.com
SUMMARY:Meditation with Nicole Gibbs
DESCRIPTION:Mark your calendars for the Last Sunday of Every Month at 3:11EST/1:11MST/12:11 PST \nJoin Nicole Gibbs\, the founder of Awakening Mass Meditation and Soul Leader\, as she hosts a monthly meditation for the Spirit Calling Community! Take a well-deserved break in your day and engage in a conscious awakening and expansion experience. Nicole’s expertise and guidance will help you connect with your inner self\, fostering relaxation\, self-awareness\, and personal growth. Don’t miss this opportunity to prioritize your well-being and join the community in this transformative meditation practice.
URL:https://spirit-calling.com/event/meditation-with-nicole-gibbs/2024-01-28/
CATEGORIES:H&P Hour
ATTACH;FMTTYPE=image/png:https://spirit-calling.com/wp-content/uploads/Mass-Meditation-Thumbnail-2-scaled.png
LOCATION:https://spirit-calling.com/event/meditation-with-nicole-gibbs/2024-01-28/
END:VEVENT
END:VCALENDAR