BEGIN:VCALENDAR
VERSION:2.0
PRODID:-//Spirit Calling - ECPv6.15.17//NONSGML v1.0//EN
CALSCALE:GREGORIAN
METHOD:PUBLISH
X-ORIGINAL-URL:https://spirit-calling.com
X-WR-CALDESC:Events for Spirit Calling
REFRESH-INTERVAL;VALUE=DURATION:PT1H
X-Robots-Tag:noindex
X-PUBLISHED-TTL:PT1H
BEGIN:VTIMEZONE
TZID:America/New_York
BEGIN:DAYLIGHT
TZOFFSETFROM:-0500
TZOFFSETTO:-0400
TZNAME:EDT
DTSTART:20220313T070000
END:DAYLIGHT
BEGIN:STANDARD
TZOFFSETFROM:-0400
TZOFFSETTO:-0500
TZNAME:EST
DTSTART:20221106T060000
END:STANDARD
BEGIN:DAYLIGHT
TZOFFSETFROM:-0500
TZOFFSETTO:-0400
TZNAME:EDT
DTSTART:20230312T070000
END:DAYLIGHT
BEGIN:STANDARD
TZOFFSETFROM:-0400
TZOFFSETTO:-0500
TZNAME:EST
DTSTART:20231105T060000
END:STANDARD
BEGIN:DAYLIGHT
TZOFFSETFROM:-0500
TZOFFSETTO:-0400
TZNAME:EDT
DTSTART:20240310T070000
END:DAYLIGHT
BEGIN:STANDARD
TZOFFSETFROM:-0400
TZOFFSETTO:-0500
TZNAME:EST
DTSTART:20241103T060000
END:STANDARD
END:VTIMEZONE
BEGIN:VEVENT
DTSTART;TZID=America/New_York:20231206T150000
DTEND;TZID=America/New_York:20231206T160000
DTSTAMP:20260420T002909
CREATED:20231129T052731Z
LAST-MODIFIED:20231129T052731Z
UID:10000225-1701874800-1701878400@spirit-calling.com
SUMMARY:The Journey of Quantum Healing and Hypnosis with Danielle Kane
DESCRIPTION:🌟 Founding Awakeners Hour with Special Guest Danielle Kane: The Journey of Quantum Healing and Hypnosis🌟\n\nEmbark on a captivating journey with Danielle Kane in this month’s Founding Awakeners Hour. Discover the evolution of Danielle’s personal journey and how it led to her distinctive approach to quantum healing and hypnosis. Join us as she shares insights into Quantum Healing Hypnosis Technique (QHHT)\, the inception of her podcast The Conscious Broadcast\, and the creation of the Spirit Calling podcast 5D All Day where Danielle is leading conversations that break barriers and expand consciousness.\n\nExplore Danielle’s groundbreaking technique\, Conscious Healing Hypnosis\, which sets the stage for a holistic and transformative healing experience. In this engaging session\, she will weave the threads of her life experiences\, revealing pivotal moments that guided her towards the development of her unique healing modality.
URL:https://spirit-calling.com/event/the-journey-of-quantum-healing-and-hypnosis-with-danielle-kane/
CATEGORIES:Founding Awakeners Power Hour
ATTACH;FMTTYPE=image/jpeg:https://spirit-calling.com/wp-content/uploads/December-Founding-Awakeners.jpg
LOCATION:https://spirit-calling.com/event/the-journey-of-quantum-healing-and-hypnosis-with-danielle-kane/
END:VEVENT
BEGIN:VEVENT
DTSTART;TZID=America/New_York:20231207T150000
DTEND;TZID=America/New_York:20231207T160000
DTSTAMP:20260420T002909
CREATED:20231009T180325Z
LAST-MODIFIED:20231120T211419Z
UID:10000215-1701961200-1701964800@spirit-calling.com
SUMMARY:Abundance & Prosperity Crystal Grid Workshop with Soul Leader Candice Hozza
DESCRIPTION:Join us for a transformative Abundance & Prosperity Crystal Grid Workshop\, hosted by the knowledgeable and insightful Candy. In this exclusive session\, Candy will guide you through the ancient art of harnessing the energy of crystals to manifest abundance and prosperity in your life.  \nWorkshop Highlights:  \n\nAbundance & Prosperity Grid Handout: Prior to the event\, please print the provided printable Abundance & Prosperity Grid handout. This essential tool will be the cornerstone of your crystal grid practice during the workshop. \nAbundance & Prosperity Stones Guide: Please print and discover the powerful stones that hold the key to unlocking prosperity in your life. Have these stones ready to go for our session with Candy. She’ll walk you through the curated selection\, enabling you to make informed choices for maximum impact. \n\nWhat to Expect:  \n\nGain deep insights into the energetic properties of specific crystals associated with abundance and prosperity. \nLearn how to create and activate your Abundance & Prosperity Grid using the provided handout. \nUnderstand the significance of each chosen crystal and its role within the grid. \nReceive personalized tips and guidance from Candy to enhance your manifestation practice. \n\nSupplies:  \n  \nTo fully participate\, please acquire the following supplies in advance:  \n\nAbundance & Prosperity Grid Handout: Download Link \nAbundance & Prosperity Stones Guide: View Guide \n\n Note: These supplies are essential for an enriching workshop experience.  \nDon’t miss this opportunity to align your energy with the forces of abundance and prosperity. Secure your spot now and embark on a journey towards a more prosperous future!  \nLimited spaces available. Register now!  \n  \nFor inquiries\, please send a message to Candy Hozza or email her at Candy@CandiceHozza.com. 
URL:https://spirit-calling.com/event/abundance-prosperity-crystal-grid-workshop-with-soul-leader-candice-hozza/
CATEGORIES:Founding Awakeners Power Hour
ATTACH;FMTTYPE=image/png:https://spirit-calling.com/wp-content/uploads/Candy-Crystal-Grid-Thumbnail.png
ORGANIZER;CN="Spirit Calling":MAILTO:support@spirit-calling.com
LOCATION:https://spirit-calling.com/event/abundance-prosperity-crystal-grid-workshop-with-soul-leader-candice-hozza/
END:VEVENT
BEGIN:VEVENT
DTSTART;TZID=America/New_York:20231215T150000
DTEND;TZID=America/New_York:20231215T160000
DTSTAMP:20260420T002909
CREATED:20231121T145552Z
LAST-MODIFIED:20231215T201248Z
UID:10000224-1702652400-1702656000@spirit-calling.com
SUMMARY:5D All Day with Danielle Kane
DESCRIPTION:Welcome to 5D ALL DAY on Spirit Calling with Danielle Kane! \nOur podcast is a platform for conversations within the Spirit Calling community on a range of topics\, and we invite you to join in as well. \nOur aim is to break barriers and expand consciousness for those who are spiritually curious or who want to share their lived experiences. \nOur upcoming live episode will explore the path to self-discovery. We invite you to join us for this groundbreaking conversation on Friday\, December 15th at 3 pm EST/12 pm PST. \nWe can’t wait to see you there! \n 
URL:https://spirit-calling.com/event/5d-all-day-with-danielle-kane-6/
CATEGORIES:5D All Day
ATTACH;FMTTYPE=image/png:https://spirit-calling.com/wp-content/uploads/5D-All-Day-YouTube-Thumbnail.png
END:VEVENT
BEGIN:VEVENT
DTSTART;TZID=America/New_York:20231220T150000
DTEND;TZID=America/New_York:20231220T160000
DTSTAMP:20260420T002909
CREATED:20231114T060252Z
LAST-MODIFIED:20231114T180953Z
UID:10000222-1703084400-1703088000@spirit-calling.com
SUMMARY:Nurturing Your Inner Child with Jacqueline Kane
DESCRIPTION:Join us for a transformative hour with Jacqueline Kane in the December edition of Live the Call! In this exclusive event on December 20th at 3:00 PM EST\, we will embark on a profound journey into the realms of self-discovery\, focusing on the theme “Nurturing Your Inner Child.”  \n  \n🌟 About Jacqueline Kane:  \nJacqueline Kane is a seasoned therapist and life coach with a passion for helping individuals unlock their full potential. With years of experience in guiding people through personal growth and healing\, Jacqueline brings a unique blend of wisdom and compassion to her work. Her expertise lies in delving into the complexities of the inner child and unraveling the ways it influences our health\, wealth\, relationships\, and every facet of our lives.  \n  \n🌈 Event Overview:  \nDuring this insightful hour\, Jacqueline will lead us through an exploration of the inner child and shed light on how our wounded inner child may be holding us back in various aspects of life. We’ll delve into the patterns and beliefs formed in our formative years that continue to impact our present reality.  \n  \n🔍 What to Expect:  \n\nGain a deeper understanding of your inner child and its influence on your current life. \nUncover the connection between your inner child and challenges in health\, wealth\, and relationships. \nLearn practical strategies to nurture and heal your wounded inner child. \nDiscover how embracing your inner child can lead to positive transformation and personal empowerment. \n\n  \n🎟️ How to Attend:  \nMark your calendars for December 20th at 3:00 PM EST and join us for this live virtual event. Register now to reserve your spot and embark on a journey of self-discovery and healing with Jacqueline Kane.  \n  \nDon’t miss this opportunity to connect\, learn\, and grow. Let’s come together to nurture our inner child and pave the way for a more fulfilling and empowered life! 
URL:https://spirit-calling.com/event/nurturing-your-inner-child-with-jacqueline-kane/
CATEGORIES:Live the Call
ATTACH;FMTTYPE=image/png:https://spirit-calling.com/wp-content/uploads/Monthly-Community-Zoom-3-1-scaled.png
LOCATION:https://spirit-calling.com/event/nurturing-your-inner-child-with-jacqueline-kane/
END:VEVENT
BEGIN:VEVENT
DTSTART;TZID=America/New_York:20231227T150000
DTEND;TZID=America/New_York:20231227T163000
DTSTAMP:20260420T002909
CREATED:20231114T060719Z
LAST-MODIFIED:20231120T195208Z
UID:10000223-1703689200-1703694600@spirit-calling.com
SUMMARY:Meditation Journey: Releasing Negative Belief Systems
DESCRIPTION:🌿 Join Angela Territo-Galfo for a transformative Meditation Journey to Release Old Programming. In this empowering session\, we will come together as a group to identify and let go of the outdated beliefs and patterns that may be holding us back.  \nAngela\, a Licensed Trauma Therapist with a decade of experience\, will guide us through a process of self-discovery and renewal. While she will not be acting in a therapist role during this event\, she will draw upon her extensive expertise to create a safe and supportive environment for your journey.  \n During our time together\, we will explore what old programming we are ready to release\, and envision the new\, empowering narratives we wish to embrace. Through guided meditation\, Angela will lead us on a profound inner journey to facilitate this transformation.  \n After the meditation\, there will be an opportunity for those who wish to share and discuss their experiences\, providing a space for integration and reflection.  \n Angela’s unique connection with Spirit has led her to channel a special meditation designed specifically for this occasion. Don’t miss this chance to embark on a healing journey towards personal growth and empowerment.  \n Note: Please bring comfortable clothing\, a journal\, and an open heart. No prior meditation experience is necessary\, and all are welcome.  \nFor inquiries\, contact Angela at by sending a message in the portal. \nWe look forward to embarking on this powerful journey of self-discovery and growth with you!
URL:https://spirit-calling.com/event/meditation-journey-releasing-negative-belief-systems/
CATEGORIES:Special Event
ATTACH;FMTTYPE=image/jpeg:https://spirit-calling.com/wp-content/uploads/ReleasingNegativeBeliefs.jpg
LOCATION:https://spirit-calling.com/event/meditation-journey-releasing-negative-belief-systems/
END:VEVENT
BEGIN:VEVENT
DTSTART;TZID=America/New_York:20231231T151100
DTEND;TZID=America/New_York:20231231T161100
DTSTAMP:20260420T002909
CREATED:20230711T195805Z
LAST-MODIFIED:20240105T160827Z
UID:10000028-1704035460-1704039060@spirit-calling.com
SUMMARY:Meditation with Nicole Gibbs
DESCRIPTION:Mark your calendars for the Last Sunday of Every Month at 3:11EST/1:11MST/12:11 PST \nJoin Nicole Gibbs\, the founder of Awakening Mass Meditation and Soul Leader\, as she hosts a monthly meditation for the Spirit Calling Community! Take a well-deserved break in your day and engage in a conscious awakening and expansion experience. Nicole’s expertise and guidance will help you connect with your inner self\, fostering relaxation\, self-awareness\, and personal growth. Don’t miss this opportunity to prioritize your well-being and join the community in this transformative meditation practice.
URL:https://spirit-calling.com/event/meditation-with-nicole-gibbs/2023-12-31/
CATEGORIES:H&P Hour
ATTACH;FMTTYPE=image/png:https://spirit-calling.com/wp-content/uploads/Mass-Meditation-Thumbnail-2-scaled.png
LOCATION:https://spirit-calling.com/event/meditation-with-nicole-gibbs/2023-12-31/
END:VEVENT
END:VCALENDAR