BEGIN:VCALENDAR
VERSION:2.0
PRODID:-//Spirit Calling - ECPv6.15.17//NONSGML v1.0//EN
CALSCALE:GREGORIAN
METHOD:PUBLISH
X-WR-CALNAME:Spirit Calling
X-ORIGINAL-URL:https://spirit-calling.com
X-WR-CALDESC:Events for Spirit Calling
REFRESH-INTERVAL;VALUE=DURATION:PT1H
X-Robots-Tag:noindex
X-PUBLISHED-TTL:PT1H
BEGIN:VTIMEZONE
TZID:America/New_York
BEGIN:DAYLIGHT
TZOFFSETFROM:-0500
TZOFFSETTO:-0400
TZNAME:EDT
DTSTART:20220313T070000
END:DAYLIGHT
BEGIN:STANDARD
TZOFFSETFROM:-0400
TZOFFSETTO:-0500
TZNAME:EST
DTSTART:20221106T060000
END:STANDARD
BEGIN:DAYLIGHT
TZOFFSETFROM:-0500
TZOFFSETTO:-0400
TZNAME:EDT
DTSTART:20230312T070000
END:DAYLIGHT
BEGIN:STANDARD
TZOFFSETFROM:-0400
TZOFFSETTO:-0500
TZNAME:EST
DTSTART:20231105T060000
END:STANDARD
BEGIN:DAYLIGHT
TZOFFSETFROM:-0500
TZOFFSETTO:-0400
TZNAME:EDT
DTSTART:20240310T070000
END:DAYLIGHT
BEGIN:STANDARD
TZOFFSETFROM:-0400
TZOFFSETTO:-0500
TZNAME:EST
DTSTART:20241103T060000
END:STANDARD
END:VTIMEZONE
BEGIN:VEVENT
DTSTART;TZID=America/New_York:20231101T170000
DTEND;TZID=America/New_York:20231101T181500
DTSTAMP:20260420T091346
CREATED:20231019T201119Z
LAST-MODIFIED:20231019T201119Z
UID:10000219-1698858000-1698862500@spirit-calling.com
SUMMARY:Somatic Intelligence with Susan Kullman
DESCRIPTION:Embark on a transformative journey with the acclaimed Susan Kullman\, a luminary in the field of somatic intelligence. Her unparalleled expertise will guide you through an intimate session\, where she shares her wealth of knowledge and provides insights into the transformative power of this non-dual methodology. During this event\, you’ll delve deep into the realm of somatic intelligence\, discovering the remarkable potential within your own body. Join us on November 1\, 2023\, from 5:00 PM to 6:15 PM EST for this immersive experience.  \n 🌿 Explore the Body’s Miraculous Powers  \nDuring this session\, you’ll unravel the intricate tapestry of your body’s innate wisdom. Susan will guide you through practices that empower self-healing\, self-alignment\, and self-adjustment. Witness firsthand the profound impact your body can have on your overall well-being.  \n 🌸 Awaken to Embodied Joy  \nSay farewell to stress\, pain\, injury\, and trauma as Susan leads you on a journey toward a life filled with joy and vitality. Through expertly crafted exercises\, you’ll learn to tap into your body’s natural guidance system\, fostering a harmonious connection between your physical\, emotional\, and spiritual self.  \n 🌊 Dive into Non-Dual Methodology  \nDelve deep into the heart of somatic intelligence. Susan will illuminate the profound benefits of this non-dual approach\, showing you how it can bring balance and harmony to every facet of your being.  \n 🌬️ Interactive Session  \nThis event is not just about theory; it’s about hands-on experience. Through gentle movement and breathing practices\, you’ll embody the concepts Susan shares. Feel the transformation happening within you as you connect with your body on a profound level.  \n Don’t miss out on this extraordinary opportunity. Join us on November 1st at 5:00 PM EST for a session that promises to awaken your somatic intelligence and lead you towards a life of embodied joy. 
URL:https://spirit-calling.com/event/somatic-intelligence-with-susan-kullman/
CATEGORIES:Founding Awakeners Power Hour
ATTACH;FMTTYPE=image/png:https://spirit-calling.com/wp-content/uploads/November-Founding-Awakeners-scaled.png
ORGANIZER;CN="Spirit Calling":MAILTO:support@spirit-calling.com
LOCATION:https://spirit-calling.com/event/somatic-intelligence-with-susan-kullman/
END:VEVENT
BEGIN:VEVENT
DTSTART;TZID=America/New_York:20231115T180000
DTEND;TZID=America/New_York:20231115T193000
DTSTAMP:20260420T091346
CREATED:20231030T192321Z
LAST-MODIFIED:20231102T181452Z
UID:10000220-1700071200-1700076600@spirit-calling.com
SUMMARY:Live the Call: Ignite Your Business Potential with Guest Speaker Candice Hozza\, Spiritual Strategist and Business Intuitive
DESCRIPTION:Join us for an enlightening session with Candice Hozza\, Your Alignment Partner! Candice’s journey from a pivotal moment in 1996\, when she discovered her profound connection with angels\, to becoming a Spiritual Strategist\, is nothing short of extraordinary. \nDiscover how her spiritual odyssey led her to assist business owners and high-achievers in breaking through barriers to achieve their goals. Candice’s gift of tapping into clients’ vibes and business energy has propelled them to success. \nIs your business journey feeling off-kilter? It’s time for a smooth and joyous ride towards success. Candice will share her experiences\, including a remarkable incident in an ICU\, and unveil her transformative “Align in 8” program. Don’t miss this chance to gain insight from a true trailblazer in the world of spiritual entrepreneurship! \nRegistration: Register now to secure your place.
URL:https://spirit-calling.com/event/live-the-call-ignite-your-business-potential-with-guest-speaker-candice-hozza-spiritual-strategist-and-business-intuitive/
CATEGORIES:Live the Call
ATTACH;FMTTYPE=image/png:https://spirit-calling.com/wp-content/uploads/Monthly-Community-Zoom-2-1-1-scaled.png
LOCATION:https://spirit-calling.com/event/live-the-call-ignite-your-business-potential-with-guest-speaker-candice-hozza-spiritual-strategist-and-business-intuitive/
END:VEVENT
BEGIN:VEVENT
DTSTART;TZID=America/New_York:20231117T150000
DTEND;TZID=America/New_York:20231117T160000
DTSTAMP:20260420T091347
CREATED:20231110T213649Z
LAST-MODIFIED:20231110T213649Z
UID:10000221-1700233200-1700236800@spirit-calling.com
SUMMARY:5D All Day with Danielle Kane
DESCRIPTION:Welcome to 5D ALL DAY on Spirit Calling with Danielle Kane! \nOur podcast is a platform for conversations within the Spirit Calling community on a range of topics\, and we invite you to join in as well. \nOur aim is to break barriers and expand consciousness for those who are spiritually curious or who want to share their lived experiences. \nOur upcoming live episode will explore the path to self-discovery. We invite you to join us for this groundbreaking conversation on Friday\, November 17th at 3 pm EST/12 pm PST. \nWe can’t wait to see you there! \n 
URL:https://spirit-calling.com/event/5d-all-day-with-danielle-kane-5/
CATEGORIES:5D All Day
ATTACH;FMTTYPE=image/png:https://spirit-calling.com/wp-content/uploads/5D-All-Day-YouTube-Thumbnail.png
END:VEVENT
BEGIN:VEVENT
DTSTART;TZID=America/New_York:20231126T151100
DTEND;TZID=America/New_York:20231126T161100
DTSTAMP:20260420T091347
CREATED:20230711T195805Z
LAST-MODIFIED:20240105T160827Z
UID:10000027-1701011460-1701015060@spirit-calling.com
SUMMARY:Meditation with Nicole Gibbs
DESCRIPTION:Mark your calendars for the Last Sunday of Every Month at 3:11EST/1:11MST/12:11 PST \nJoin Nicole Gibbs\, the founder of Awakening Mass Meditation and Soul Leader\, as she hosts a monthly meditation for the Spirit Calling Community! Take a well-deserved break in your day and engage in a conscious awakening and expansion experience. Nicole’s expertise and guidance will help you connect with your inner self\, fostering relaxation\, self-awareness\, and personal growth. Don’t miss this opportunity to prioritize your well-being and join the community in this transformative meditation practice.
URL:https://spirit-calling.com/event/meditation-with-nicole-gibbs/2023-11-26/
CATEGORIES:H&P Hour
ATTACH;FMTTYPE=image/png:https://spirit-calling.com/wp-content/uploads/Mass-Meditation-Thumbnail-2-scaled.png
LOCATION:https://spirit-calling.com/event/meditation-with-nicole-gibbs/2023-11-26/
END:VEVENT
END:VCALENDAR