BEGIN:VCALENDAR
VERSION:2.0
PRODID:-//Spirit Calling - ECPv6.15.17//NONSGML v1.0//EN
CALSCALE:GREGORIAN
METHOD:PUBLISH
X-WR-CALNAME:Spirit Calling
X-ORIGINAL-URL:https://spirit-calling.com
X-WR-CALDESC:Events for Spirit Calling
REFRESH-INTERVAL;VALUE=DURATION:PT1H
X-Robots-Tag:noindex
X-PUBLISHED-TTL:PT1H
BEGIN:VTIMEZONE
TZID:America/New_York
BEGIN:DAYLIGHT
TZOFFSETFROM:-0500
TZOFFSETTO:-0400
TZNAME:EDT
DTSTART:20220313T070000
END:DAYLIGHT
BEGIN:STANDARD
TZOFFSETFROM:-0400
TZOFFSETTO:-0500
TZNAME:EST
DTSTART:20221106T060000
END:STANDARD
BEGIN:DAYLIGHT
TZOFFSETFROM:-0500
TZOFFSETTO:-0400
TZNAME:EDT
DTSTART:20230312T070000
END:DAYLIGHT
BEGIN:STANDARD
TZOFFSETFROM:-0400
TZOFFSETTO:-0500
TZNAME:EST
DTSTART:20231105T060000
END:STANDARD
BEGIN:DAYLIGHT
TZOFFSETFROM:-0500
TZOFFSETTO:-0400
TZNAME:EDT
DTSTART:20240310T070000
END:DAYLIGHT
BEGIN:STANDARD
TZOFFSETFROM:-0400
TZOFFSETTO:-0500
TZNAME:EST
DTSTART:20241103T060000
END:STANDARD
END:VTIMEZONE
BEGIN:VEVENT
DTSTART;TZID=America/New_York:20231004T150000
DTEND;TZID=America/New_York:20231004T163000
DTSTAMP:20260420T103528
CREATED:20230923T190027Z
LAST-MODIFIED:20231002T203359Z
UID:10000211-1696431600-1696437000@spirit-calling.com
SUMMARY:Akashic Records Block Release with Soul Leader Candy Hozza
DESCRIPTION:Journey into the profound realm of the Akashic Records with Candy in this exclusive event. The Akashic Records are an energetic archive of every soul’s journey\, offering insights and wisdom for those seeking clarity\, purpose\, and abundance in their lives. \nCome prepared with your questions\, as Candy will lead LIVE Akashic Records Block Releases\, providing an opportunity for deep transformation and connection with your highest self. This experience promises to unlock abundance and empower you to define your purpose with greater clarity. \nWhat to Bring: \nYour Akashic Record Questions\nAn Open Heart and Mind\nPen and Notebook for Journaling \nBenefits: \n\nExplore the Profound Wisdom of the Akashic Records\nExperience LIVE Block Releases with Candy\nDefine Your Purpose and Invite Abundance\n\nThis event is a powerful step towards your personal and spiritual growth. Don’t miss this opportunity to connect\, learn\, and grow together. \nRegistration: Register now to secure your place. For any inquiries\, please send a message to Candy Hozza or email her at Candy@CandiceHozza.com.
URL:https://spirit-calling.com/event/akashic-records-block-release-with-soul-leader-candy-hozza/
CATEGORIES:Founding Awakeners Power Hour
ATTACH;FMTTYPE=image/png:https://spirit-calling.com/wp-content/uploads/October-Founding-Awakeners.png
ORGANIZER;CN="Spirit Calling":MAILTO:support@spirit-calling.com
LOCATION:https://spirit-calling.com/event/akashic-records-block-release-with-soul-leader-candy-hozza/
END:VEVENT
BEGIN:VEVENT
DTSTART;TZID=America/New_York:20231018T150000
DTEND;TZID=America/New_York:20231018T163000
DTSTAMP:20260420T103528
CREATED:20231009T181313Z
LAST-MODIFIED:20231010T203635Z
UID:10000216-1697641200-1697646600@spirit-calling.com
SUMMARY:Live the Call: A Journey of Awakening with Amy Edelstein
DESCRIPTION:Join us for an inspiring session with Amy Edelstein\, an acclaimed author\, educator\, and speaker. From a young age\, Amy followed her inner calling\, leading her on a transformative path dedicated to education and empowering youth.  \nAmy will share how understanding our experiences within the context of cosmic evolution and cultural development can profoundly shape our lives\, offering deeper fulfillment and purpose.  \nAs founder of Inner Strength Education\, Amy’s innovative program has empowered over 22\,000 high school students in Philadelphia\, endorsed by CASEL. This trauma-informed approach equips students with mindfulness tools\, neuroscience insights\, and the art of building meaningful relationships. For more about Amy\, visit www.amyedelstein.com  \nRegistration: Register now to secure your place. 
URL:https://spirit-calling.com/event/live-the-call-a-journey-of-awakening-with-amy-edelstein/
CATEGORIES:Live the Call
ATTACH;FMTTYPE=image/png:https://spirit-calling.com/wp-content/uploads/Monthly-Community-Zoom-8-scaled.png
ORGANIZER;CN="Spirit Calling":MAILTO:support@spirit-calling.com
LOCATION:https://spirit-calling.com/event/live-the-call-a-journey-of-awakening-with-amy-edelstein/
END:VEVENT
BEGIN:VEVENT
DTSTART;TZID=America/New_York:20231027T150000
DTEND;TZID=America/New_York:20231027T160000
DTSTAMP:20260420T103528
CREATED:20231016T162859Z
LAST-MODIFIED:20231016T162859Z
UID:10000217-1698418800-1698422400@spirit-calling.com
SUMMARY:5D All Day with Danielle Kane
DESCRIPTION:Welcome to 5D ALL DAY on Spirit Calling with Danielle Kane! \nOur podcast is a platform for conversations within the Spirit Calling community on a range of topics\, and we invite you to join in as well. \nOur aim is to break barriers and expand consciousness for those who are spiritually curious or who want to share their lived experiences. \nOur upcoming live episode will explore the path to self-discovery. We invite you to join us for this groundbreaking conversation on Friday\, October 27th at 3 pm EST/12 pm PST. \nWe can’t wait to see you there! \n 
URL:https://spirit-calling.com/event/5d-all-day-with-danielle-kane-4/
CATEGORIES:5D All Day
ATTACH;FMTTYPE=image/png:https://spirit-calling.com/wp-content/uploads/5D-All-Day-YouTube-Thumbnail.png
LOCATION:https://spirit-calling.com/event/5d-all-day-with-danielle-kane-4/
END:VEVENT
BEGIN:VEVENT
DTSTART;TZID=America/New_York:20231029T151100
DTEND;TZID=America/New_York:20231029T161100
DTSTAMP:20260420T103528
CREATED:20230711T195805Z
LAST-MODIFIED:20240105T160827Z
UID:10000026-1698592260-1698595860@spirit-calling.com
SUMMARY:Meditation with Nicole Gibbs
DESCRIPTION:Mark your calendars for the Last Sunday of Every Month at 3:11EST/1:11MST/12:11 PST \nJoin Nicole Gibbs\, the founder of Awakening Mass Meditation and Soul Leader\, as she hosts a monthly meditation for the Spirit Calling Community! Take a well-deserved break in your day and engage in a conscious awakening and expansion experience. Nicole’s expertise and guidance will help you connect with your inner self\, fostering relaxation\, self-awareness\, and personal growth. Don’t miss this opportunity to prioritize your well-being and join the community in this transformative meditation practice.
URL:https://spirit-calling.com/event/meditation-with-nicole-gibbs/2023-10-29/
CATEGORIES:H&P Hour
ATTACH;FMTTYPE=image/png:https://spirit-calling.com/wp-content/uploads/Mass-Meditation-Thumbnail-2-scaled.png
LOCATION:https://spirit-calling.com/event/meditation-with-nicole-gibbs/2023-10-29/
END:VEVENT
END:VCALENDAR