BEGIN:VCALENDAR
VERSION:2.0
PRODID:-//Spirit Calling - ECPv6.15.17//NONSGML v1.0//EN
CALSCALE:GREGORIAN
METHOD:PUBLISH
X-WR-CALNAME:Spirit Calling
X-ORIGINAL-URL:https://spirit-calling.com
X-WR-CALDESC:Events for Spirit Calling
REFRESH-INTERVAL;VALUE=DURATION:PT1H
X-Robots-Tag:noindex
X-PUBLISHED-TTL:PT1H
BEGIN:VTIMEZONE
TZID:America/New_York
BEGIN:DAYLIGHT
TZOFFSETFROM:-0500
TZOFFSETTO:-0400
TZNAME:EDT
DTSTART:20220313T070000
END:DAYLIGHT
BEGIN:STANDARD
TZOFFSETFROM:-0400
TZOFFSETTO:-0500
TZNAME:EST
DTSTART:20221106T060000
END:STANDARD
BEGIN:DAYLIGHT
TZOFFSETFROM:-0500
TZOFFSETTO:-0400
TZNAME:EDT
DTSTART:20230312T070000
END:DAYLIGHT
BEGIN:STANDARD
TZOFFSETFROM:-0400
TZOFFSETTO:-0500
TZNAME:EST
DTSTART:20231105T060000
END:STANDARD
BEGIN:DAYLIGHT
TZOFFSETFROM:-0500
TZOFFSETTO:-0400
TZNAME:EDT
DTSTART:20240310T070000
END:DAYLIGHT
BEGIN:STANDARD
TZOFFSETFROM:-0400
TZOFFSETTO:-0500
TZNAME:EST
DTSTART:20241103T060000
END:STANDARD
END:VTIMEZONE
BEGIN:VEVENT
DTSTART;TZID=America/New_York:20230802T150000
DTEND;TZID=America/New_York:20230802T160000
DTSTAMP:20260420T132142
CREATED:20230625T112717Z
LAST-MODIFIED:20230802T181055Z
UID:10000019-1690988400-1690992000@spirit-calling.com
SUMMARY:Founding Awakeners Power Hour with Jacqueline Kane
DESCRIPTION:Our Host: Jacqueline Kane\nTopic: Create Your Best Year Ever! There is still time to reach your income goals.\n\n\nCreate Your Best Year Ever! \nWe are halfway through 2023. Are you close to those income goals you created in January? \n\nAre you feeling frustrated with your income?\nDo you doubt that it will happen for you?\nAre the stresses of global events taking you off course of what you really desire?\nAre you waking up feeling emotionally drained and exhausted before you even start your day?\nAre you feeling frustrated and out of sorts — with everything!?\nAre you tired of pushing for what you desire and getting little reward?\n\nThis experiential workshop is for you if you are ready to: \n\nRelease the inherited energy you carry so that you can live your life with ease\, flow and abundance\nFeel confident that you can achieve the desired income and wealth that you know is possible\nFeel calmer\, lighter\, motivated and energized\nCreate the income you desire and take the steps to achieve it\nBelieve that you deserve more and allow yourself to receive\n\nChoose the Create Your Best Year Ever Founding Awakeners Power Hour to: \n• RELEASE your worries \n• REPLENISH your energy \n• RELAX and allow your desires to show up for you \n• RELISH in knowing that you and are creating the life that you deserve
URL:https://spirit-calling.com/event/founding-awakeners-power-hour-with-jacqueline-kane/
LOCATION:Main Meeting Room
CATEGORIES:Founding Awakeners Power Hour
ATTACH;FMTTYPE=image/jpeg:https://spirit-calling.com/wp-content/uploads/Video Replays/1.jpeg
ORGANIZER;CN="Spirit Calling":MAILTO:support@spirit-calling.com
END:VEVENT
BEGIN:VEVENT
DTSTART;TZID=America/New_York:20230816T150000
DTEND;TZID=America/New_York:20230816T160000
DTSTAMP:20260420T132142
CREATED:20230801T205726Z
LAST-MODIFIED:20230816T123631Z
UID:10000084-1692198000-1692201600@spirit-calling.com
SUMMARY:Live the Call with Dr. Andrea Renee
DESCRIPTION:Discover the Path to Self-Healing and Empowerment with Dr. Andrea Renee Rivera! \nJoin us for an unforgettable experience with the remarkable Dr. Andrea Renee Rivera\, a living testament to the power of transformation. After a life-changing event in New York City\, Dr. Andrea dedicated herself to healing her body\, mind\, and inner emotional well-being. Now\, she shares her journey and empowers others to end their own suffering through lifestyle tools like Yoga\, Meditation\, Chigong\, Acupuncture\, Herbology\, Diet\, and Personal Development. As a licensed Acupuncturist and Doctor of Acupuncture and Oriental Medicine\, she offers a holistic approach to wellness\, blending Eastern and Western practices. Dr. Andrea’s passion for community well-being led her to establish the Chillax Om Foundation\, providing evidence-based solutions for mental health challenges and post-traumatic stress. Prepare to be inspired and empowered as you learn to become your own medicine under the guidance of this extraordinary speaker and healer.
URL:https://spirit-calling.com/event/live-the-call-with-dr-andrea-renee/
CATEGORIES:Live the Call
ATTACH;FMTTYPE=image/png:https://spirit-calling.com/wp-content/uploads/Monthly-Community-Zoom-1-2.png
ORGANIZER;CN="Spirit Calling":MAILTO:support@spirit-calling.com
LOCATION:https://zoom.us/j/98027089041
END:VEVENT
BEGIN:VEVENT
DTSTART;TZID=America/New_York:20230817T150000
DTEND;TZID=America/New_York:20230817T160000
DTSTAMP:20260420T132142
CREATED:20230807T211316Z
LAST-MODIFIED:20230814T212422Z
UID:10000205-1692284400-1692288000@spirit-calling.com
SUMMARY:Retrograde Season: Breaking Free From Conformity
DESCRIPTION:🌟 Join us on Thursday\, August 17th for an unforgettable online event: “Retrograde Season: Breaking Free From Conformity” with our special guest\, the inspiring Nicole Frolick! 🌟 \n🔮 Embrace the Mystical Journey 🔮 \nRetrogrades are often misunderstood\, and during this unique gathering\, we aim to demystify and embrace the power of these celestial phenomena. Led by the remarkable Nicole Frolick\, we’ll delve into the upcoming retrogrades of Venus\, Mercury\, Uranus\, and Jupiter. Together\, we’ll explore their profound influence on our lives and how we can harness their energies for personal growth and transformation. \n💫 Shedding the Chains of Conformity 💫 \nLet’s shatter the misconception that retrogrades are solely negative and chaotic. Instead\, we’ll unlock the hidden potential they offer for self-discovery\, empowerment\, and breaking free from the constraints of conformity. Nicole will share her wisdom\, empowering you to embrace retrograde seasons as periods of growth and renewal. \n🌌 What to Expect 🌌 \n🔹 Insightful Talks: Nicole Frolick\, a renowned expert in spirituality and personal growth\, will share her deep knowledge on the impact of retrogrades and how to make the most of these cosmic events. \n🔹 Engaging Discussions: Connect with like-minded souls in our supportive community as we exchange experiences and wisdom on navigating retrograde energies. \n🔹 Practical Tips: Discover valuable tools and practical tips to thrive during retrograde season\, turning challenges into stepping stones for personal evolution. \n🔹 Q&A Session: Get your burning questions answered by Nicole herself in an interactive Q&A segment.
URL:https://spirit-calling.com/event/retrograde-season-breaking-free-from-conformity/
ATTACH;FMTTYPE=image/png:https://spirit-calling.com/wp-content/uploads/Pink-Minimalist-Skincare-Review-YouTube-Thumbnail.png
ORGANIZER;CN="Spirit Calling":MAILTO:support@spirit-calling.com
LOCATION:https://zoom.us/j/95740599035
END:VEVENT
BEGIN:VEVENT
DTSTART;TZID=America/New_York:20230825T120000
DTEND;TZID=America/New_York:20230825T130000
DTSTAMP:20260420T132142
CREATED:20230815T204749Z
LAST-MODIFIED:20230815T204831Z
UID:10000207-1692964800-1692968400@spirit-calling.com
SUMMARY:5D All Day
DESCRIPTION:5D ALL DAY is a podcast for conversations within the Spirit Calling community on a range of topics\, and we invite you to join in as well. Our aim is to break barriers and expand consciousness for those who are spiritually curious or who want to share their lived experiences. \nOur upcoming live episode where we’ll be sharing the role our spiritual work has had on our lives. We invite you to join us for this groundbreaking conversation on Friday\, August 25th at 12 pm EST/9 am PST. We can’t wait to see you there! \nJoin Zoom Meeting \nhttps://us02web.zoom.us/j/86396157333?pwd=aHVOVmFXRlFGVXNqUmpJR0FkeThmdz09 \nMeeting ID: 863 9615 7333 \nPasscode: 180211
URL:https://spirit-calling.com/event/5d-all-day/
CATEGORIES:5D All Day
ATTACH;FMTTYPE=image/png:https://spirit-calling.com/wp-content/uploads/5D-All-Day-YouTube-Thumbnail.png
END:VEVENT
BEGIN:VEVENT
DTSTART;TZID=America/New_York:20230827T151100
DTEND;TZID=America/New_York:20230827T161100
DTSTAMP:20260420T132142
CREATED:20230711T195805Z
LAST-MODIFIED:20240105T160827Z
UID:10000024-1693149060-1693152660@spirit-calling.com
SUMMARY:Meditation with Nicole Gibbs
DESCRIPTION:Mark your calendars for the Last Sunday of Every Month at 3:11EST/1:11MST/12:11 PST \nJoin Nicole Gibbs\, the founder of Awakening Mass Meditation and Soul Leader\, as she hosts a monthly meditation for the Spirit Calling Community! Take a well-deserved break in your day and engage in a conscious awakening and expansion experience. Nicole’s expertise and guidance will help you connect with your inner self\, fostering relaxation\, self-awareness\, and personal growth. Don’t miss this opportunity to prioritize your well-being and join the community in this transformative meditation practice.
URL:https://spirit-calling.com/event/meditation-with-nicole-gibbs/2023-08-27/
CATEGORIES:H&P Hour
ATTACH;FMTTYPE=image/png:https://spirit-calling.com/wp-content/uploads/Mass-Meditation-Thumbnail-2-scaled.png
LOCATION:https://spirit-calling.com/event/meditation-with-nicole-gibbs/2023-08-27/
END:VEVENT
END:VCALENDAR