BEGIN:VCALENDAR
VERSION:2.0
PRODID:-//Spirit Calling - ECPv6.15.17//NONSGML v1.0//EN
CALSCALE:GREGORIAN
METHOD:PUBLISH
X-WR-CALNAME:Spirit Calling
X-ORIGINAL-URL:https://spirit-calling.com
X-WR-CALDESC:Events for Spirit Calling
REFRESH-INTERVAL;VALUE=DURATION:PT1H
X-Robots-Tag:noindex
X-PUBLISHED-TTL:PT1H
BEGIN:VTIMEZONE
TZID:America/New_York
BEGIN:DAYLIGHT
TZOFFSETFROM:-0500
TZOFFSETTO:-0400
TZNAME:EDT
DTSTART:20220313T070000
END:DAYLIGHT
BEGIN:STANDARD
TZOFFSETFROM:-0400
TZOFFSETTO:-0500
TZNAME:EST
DTSTART:20221106T060000
END:STANDARD
BEGIN:DAYLIGHT
TZOFFSETFROM:-0500
TZOFFSETTO:-0400
TZNAME:EDT
DTSTART:20230312T070000
END:DAYLIGHT
BEGIN:STANDARD
TZOFFSETFROM:-0400
TZOFFSETTO:-0500
TZNAME:EST
DTSTART:20231105T060000
END:STANDARD
BEGIN:DAYLIGHT
TZOFFSETFROM:-0500
TZOFFSETTO:-0400
TZNAME:EDT
DTSTART:20240310T070000
END:DAYLIGHT
BEGIN:STANDARD
TZOFFSETFROM:-0400
TZOFFSETTO:-0500
TZNAME:EST
DTSTART:20241103T060000
END:STANDARD
END:VTIMEZONE
BEGIN:VEVENT
DTSTART;TZID=America/New_York:20230719T150000
DTEND;TZID=America/New_York:20230719T160000
DTSTAMP:20260420T041507
CREATED:20230623T162835Z
LAST-MODIFIED:20230623T162835Z
UID:10000018-1689778800-1689782400@spirit-calling.com
SUMMARY:Live the Call with Spencer Broad
DESCRIPTION:Join us for an inspiring community call with Spencer Broad\, a retired chiropractor turned yoga teacher and Certified Meditation Facilitator. Spencer brings his expertise in functional anatomy of the spine and musculoskeletal system\, along with a passion for mindfulness and meditation\, to guide us on a transformative journey. \nDuring this enlightening session\, Spencer will share his personal journey of transitioning from chiropractic practice to embracing yoga and meditation. His extensive experience in the field\, including teaching yoga locally in NJ and being an onsite yoga instructor at The Retreat Costa Rica\, makes him a valuable source of knowledge and inspiration. \nSpencer’s mantra\, “One Breath\, One Moment at a Time\,” embodies his approach to life and mindfulness. Through his teachings\, he aims to spread this message one person at a time\, helping us cultivate a deeper connection with ourselves and the present moment. \nWhether you are a beginner or have some experience in yoga and meditation\, this community call is open to all. Spencer will provide practical insights\, tips\, and techniques that can enhance your well-being and bring more mindfulness into your daily life. \nDon’t miss this opportunity to learn from Spencer and connect with a like-minded community. Mark your calendars and invite your friends and family to join us in this empowering session. \nLet’s come together\, take a breath\, and embrace the power of the present moment.
URL:https://spirit-calling.com/event/live-the-call-with-spencer-broad/
CATEGORIES:Live the Call
ATTACH;FMTTYPE=image/png:https://spirit-calling.com/wp-content/uploads/Monthly-Community-Zoom-5.png
ORGANIZER;CN="Spirit Calling":MAILTO:support@spirit-calling.com
LOCATION:https://us02web.zoom.us/j/81091096692?pwd=Z0pQTUlPVnk3SitzZmtuR1FOcnVSQT09
END:VEVENT
BEGIN:VEVENT
DTSTART;TZID=America/New_York:20230706T133000
DTEND;TZID=America/New_York:20230706T140000
DTSTAMP:20260420T041507
CREATED:20230622T105216Z
LAST-MODIFIED:20230623T163154Z
UID:10000016-1688650200-1688652000@spirit-calling.com
SUMMARY:Biofield Tuning with Sandra Lee
DESCRIPTION:Jump out of The Rut \nWhen it comes to building your business\, are you having the same old thoughts and feelings? \nLet’s stir the pot and create new options and possibilities. \nTurn up the flame feeding your magic.
URL:https://spirit-calling.com/event/biofield-tuning-with-sandra-lee/
CATEGORIES:H&P Hour
ATTACH;FMTTYPE=image/jpeg:https://spirit-calling.com/wp-content/uploads/bb_medias/SC-BT-July.jpg
ORGANIZER;CN="Sandra Lee":MAILTO:sandra@miracleinspirations.com
LOCATION:https://us02web.zoom.us/j/3530883665
END:VEVENT
BEGIN:VEVENT
DTSTART;TZID=America/New_York:20230705T150000
DTEND;TZID=America/New_York:20230705T160000
DTSTAMP:20260420T041507
CREATED:20230622T112627Z
LAST-MODIFIED:20230626T200016Z
UID:10000017-1688569200-1688572800@spirit-calling.com
SUMMARY:Founding Awakeners Power Hour with Sandra Lee
DESCRIPTION:Our Host: Sandra Lee\nTopic: Activate the Heart Dream of Your Business.\n\nJoin us for the July 5 Founding Awakener’s Power Hour. Sandra Lee shares how Biofield Tuning\, Human Design and gemstones work together. Empower yourself to create lasting impacts through your healing business. She will do a short gemstone-enhanced Biofield Tuning session for the group.
URL:https://spirit-calling.com/event/founding-awakeners-power-hour-with-sandra-lee/
CATEGORIES:Founding Awakeners Power Hour
ATTACH;FMTTYPE=image/jpeg:https://spirit-calling.com/wp-content/uploads/Video Replays/1.jpeg
ORGANIZER;CN="Spirit Calling":MAILTO:support@spirit-calling.com
LOCATION:https://us02web.zoom.us/j/83612353092?pwd=elgvSDA5QzNXRXNFU09nRXphb2dxQT09
END:VEVENT
BEGIN:VEVENT
DTSTART;TZID=America/New_York:20230623T130000
DTEND;TZID=America/New_York:20230623T140000
DTSTAMP:20260420T041507
CREATED:20230606T171540Z
LAST-MODIFIED:20230606T171540Z
UID:10000014-1687525200-1687528800@spirit-calling.com
SUMMARY:5D All Day with Danielle Kane
DESCRIPTION:Embark on a transformative journey with 5D ALL DAY this month as we explore a diverse range of Healing Modalities during the awakening process. From energy healing to mindfulness practices\, join us to discover powerful tools that can uplift your spirit\, mend your soul\, and ignite profound transformation. Subscribe now for captivating conversations\, expert insights\, and practical tips to unlock the key to living a more awakened and balanced life. Don’t miss out on this enlightening episode!
URL:https://spirit-calling.com/event/5d-all-day-with-danielle-kane-2/
CATEGORIES:5D All Day
ATTACH;FMTTYPE=image/jpeg:https://spirit-calling.com/wp-content/uploads/PNG-image.jpeg
ORGANIZER;CN="Spirit Calling":MAILTO:support@spirit-calling.com
LOCATION:https://us02web.zoom.us/j/82996945060?pwd=MkVsMm0wWmp0ZUk4T1pjejBCaEdWUT09
END:VEVENT
BEGIN:VEVENT
DTSTART;TZID=America/New_York:20230621T150000
DTEND;TZID=America/New_York:20230621T160000
DTSTAMP:20260420T041507
CREATED:20230530T150909Z
LAST-MODIFIED:20230530T151010Z
UID:10000013-1687359600-1687363200@spirit-calling.com
SUMMARY:Live the Call with Phil Kreutzer
DESCRIPTION:Get ready for an exhilarating Live the Call! This month\, we have the incredible privilege of hosting Phil Kreutzer\, a true master in the realm of personal transformation and spiritual connection. Brace yourself as we embark on a journey to unlock the hidden potentials within ourselves and access the boundless wisdom of the universe. \nPhil will introduce us to “Delivering Divinity\,” his new program designed to help you tap into your unique source frequency\, allowing you to access the depths of your intuition and unlock the dormant gifts that lie within you. Through his guidance\, you will uncover the divine essence that resides within you\, igniting a powerful sense of purpose and unlocking the gates to your highest potential.
URL:https://spirit-calling.com/event/live-the-call-with-phil-kreutzer/
CATEGORIES:Live the Call
ATTACH;FMTTYPE=image/png:https://spirit-calling.com/wp-content/uploads/Monthly-Community-Zoom-4.png
ORGANIZER;CN="Spirit Calling":MAILTO:support@spirit-calling.com
LOCATION:https://us02web.zoom.us/j/84602326944?pwd=M2dnQXNodERqeUpReWhJUW9kZWVydz09
END:VEVENT
BEGIN:VEVENT
DTSTART;TZID=America/New_York:20230616T120000
DTEND;TZID=America/New_York:20230616T130000
DTSTAMP:20260420T041507
CREATED:20230610T095425Z
LAST-MODIFIED:20230610T095425Z
UID:10000015-1686916800-1686920400@spirit-calling.com
SUMMARY:Reiki Q&A
DESCRIPTION:Join us for our upcoming Reiki Q&A session! It’s an excellent opportunity for everyone interested in reiki to participate and engage in meaningful discussions. Whether you’re an experienced practitioner seeking to exchange best practices or a curious individual eager to learn more about reiki\, this event is perfect for you. \nDate: Friday\, June 16 Time: 12:00 PM Eastern Time \nIf you are unable to attend the live session\, don’t worry! You can still be a part of it by sending your questions directly to Lisa via private message.
URL:https://spirit-calling.com/event/reiki-qa/
CATEGORIES:H&P Hour
ATTACH;FMTTYPE=image/webp:https://spirit-calling.com/wp-content/uploads/reiki1.webp
LOCATION:https://us02web.zoom.us/j/82418624755?pwd=NTB0enVxN2txcldBY2J6aWI5ZmZodz09
END:VEVENT
BEGIN:VEVENT
DTSTART;TZID=America/New_York:20230608T133000
DTEND;TZID=America/New_York:20230608T140000
DTSTAMP:20260420T041507
CREATED:20230404T105510Z
LAST-MODIFIED:20230522T130555Z
UID:10000008-1686231000-1686232800@spirit-calling.com
SUMMARY:Biofield Tuning with Sandra Lee
DESCRIPTION:Get ready to experience the amazing healing powers of Sandra Lee – an exceptional healer and practitioner who specializes in the incredible art of Biofield Tuning! Join her for a truly transformative session of meditative sound activation and energy healing\, designed to leave you feeling refreshed and revitalized. \nUsing the power of sound therapy\, Sandra will activate tuning forks at specific frequencies to realign and balance the energy field around your body. By doing so\, she’ll help to release any blockages that may be hindering your internal pathways and leaving you feeling stressed or overwhelmed. \nBut that’s not all – Sandra’s expertise is further amplified by her collection of rare Euphoralite stones\, which will take the power\, impact\, and clearing benefits of your Tuning session to a whole new level. \nIn just half an hour\, you’ll feel the incredible effects of Sandra’s healing work as she helps you release\, restore\, and reset your nervous system. So don’t hesitate – mark your calendars for the second Thursday of every month at 1:30pm Eastern\, and join Sandra for an unforgettable session of Biofield Tuning!
URL:https://spirit-calling.com/event/biofieldtuningwithsandralee/
CATEGORIES:H&P Hour
ATTACH;FMTTYPE=image/png:https://spirit-calling.com/wp-content/uploads/Biofield-Thumbnail.png
ORGANIZER;CN="Sandra Lee":MAILTO:sandra@miracleinspirations.com
LOCATION:https://us02web.zoom.us/j/3530883665
END:VEVENT
BEGIN:VEVENT
DTSTART;TZID=America/New_York:20230607T150000
DTEND;TZID=America/New_York:20230607T160000
DTSTAMP:20260420T041507
CREATED:20230323T004059Z
LAST-MODIFIED:20230509T113644Z
UID:10000009-1686150000-1686153600@spirit-calling.com
SUMMARY:Founding Awakeners Power Hour with Alana Heim
DESCRIPTION:Our Host: Alana Heim\nTopic: Making Aligned Financial Decisions Correct for You\n\nDuring this Founding Awakeners Power Hour\, you’re invited to learn how to make financial decisions aligned and correct for you. Alana will review the Human Design Authorities and how they work. She’ll also provide coaching support for all who are live on the call.\n\nSpoiler alert: making decisions comes from within your body – not your head!\n\nMake sure to bring your Human Design chart (or request it from Alana at https://www.ProsperityAlignment.com/how) so you can receive specific guidance to support you with making any (financial) decision in your life.\n\nYou can connect with Alana at https://www.ProsperityAlignment.com.
URL:https://spirit-calling.com/event/founding-awakeners-power-hour/
CATEGORIES:Founding Awakeners Power Hour
ATTACH;FMTTYPE=image/jpeg:https://spirit-calling.com/wp-content/uploads/Video Replays/1.jpeg
ORGANIZER;CN="Spirit Calling":MAILTO:support@spirit-calling.com
LOCATION:https://us02web.zoom.us/j/89824958507?pwd=TmhFem5wb2wycGpFYXhyalM5SUY2QT09
END:VEVENT
BEGIN:VEVENT
DTSTART;TZID=America/New_York:20230606T150000
DTEND;TZID=America/New_York:20230606T160000
DTSTAMP:20260420T041507
CREATED:20230518T153657Z
LAST-MODIFIED:20230522T130339Z
UID:10000012-1686063600-1686067200@spirit-calling.com
SUMMARY:PART 2 The Business Side of Spirit: Grow Your Spiritual Business to 7 Figures with Stephan Stavrakis
DESCRIPTION:Join us for Part 2 as we all learn by putting Spirit Calling through its paces to grow\, grow\, grow! \nMake sure you’ve done your homework\, we will continue our practicum on creating 7 figure Spiritual Businesses with Stephan Stavrakis. \n 
URL:https://spirit-calling.com/event/part-2-the-business-side-of-spirit-grow-your-spiritual-business-to-7-figures-with-stephan-stavrakis/
CATEGORIES:Live the Call
ATTACH;FMTTYPE=image/png:https://spirit-calling.com/wp-content/uploads/Monthly-Community-Zoom-3.png
LOCATION:https://us02web.zoom.us/j/84867785431?pwd=SE5ib3BML0Z4SGt3MkJvaUFvak1GZz09
END:VEVENT
BEGIN:VEVENT
DTSTART;TZID=America/New_York:20230519T130000
DTEND;TZID=America/New_York:20230519T140000
DTSTAMP:20260420T041507
CREATED:20230510T213445Z
LAST-MODIFIED:20230510T213520Z
UID:10000011-1684501200-1684504800@spirit-calling.com
SUMMARY:5D All Day with Danielle Kane
DESCRIPTION:We are thrilled to announce the launch of our first live podcast\, 5D ALL DAY on Spirit Calling with Danielle Kane! Our podcast is a platform for conversations within the Spirit Calling community on a range of topics\, and we invite you to join in as well. \nOur aim is to break barriers and expand consciousness for those who are spiritually curious or who want to share their lived experiences. \nOur upcoming live episode will explore the inception of 5D ALL DAY and what it means to us.
URL:https://spirit-calling.com/event/5d-all-day-with-danielle-kane/
CATEGORIES:5D All Day
ATTACH;FMTTYPE=image/jpeg:https://spirit-calling.com/wp-content/uploads/PNG-image.jpeg
ORGANIZER;CN="Spirit Calling":MAILTO:support@spirit-calling.com
LOCATION:https://us02web.zoom.us/j/86032800551
END:VEVENT
BEGIN:VEVENT
DTSTART;TZID=America/New_York:20230517T150000
DTEND;TZID=America/New_York:20230517T160000
DTSTAMP:20260420T041507
CREATED:20230505T165540Z
LAST-MODIFIED:20230509T113706Z
UID:10000010-1684335600-1684339200@spirit-calling.com
SUMMARY:Live the Call with Stephan Stavrakis
DESCRIPTION:IT’S TIME TO STOP PLAYING SMALL \nBusiness Strategist and Mentor\, Stephan Stavrakis joins us for this kick-off event for his amazing workshop – The Business Side of Spirit: Grow Your Spiritual Business to 7 Figures! \nThis is an exciting time where the world is waking up to a different way to do business – be at the forefront and shift your business now!
URL:https://spirit-calling.com/event/live-the-call-with-stephan-stavrakis/
CATEGORIES:Live the Call
ATTACH;FMTTYPE=image/png:https://spirit-calling.com/wp-content/uploads/Monthly-Community-Zoom-3.png
LOCATION:https://us02web.zoom.us/j/84867785431?pwd=SE5ib3BML0Z4SGt3MkJvaUFvak1GZz09
END:VEVENT
BEGIN:VEVENT
DTSTART;TZID=America/New_York:20230503T150000
DTEND;TZID=America/New_York:20230503T160000
DTSTAMP:20260420T041507
CREATED:20230306T202551Z
LAST-MODIFIED:20230425T135421Z
UID:10000006-1683126000-1683129600@spirit-calling.com
SUMMARY:Founding Awakeners Power Hour with Janine Shapiro
DESCRIPTION:Host: Janine Shapiro \nTopic: Explore Your Intuition \nPersonal Leadership Coach and Spirit Calling Healer & Practitioner\, Janine Shapiro guides us through the differences and similarities between inner tuition and instinct to help us live a life we love! \nThis masterclass is for people seeking to connect more deeply with themselves and who doesn’t want more of that?!? \nJoin us as we take a deep dive into how to discern and create our own success and enjoyment. \nTake down your barriers\, open your heart\, and join us for this month’s Founding Awakeners Power Hour!
URL:https://spirit-calling.com/event/founding-awakeners-power-hour-4/
CATEGORIES:Founding Awakeners Power Hour
ATTACH;FMTTYPE=image/jpeg:https://spirit-calling.com/wp-content/uploads/Video Replays/1.jpeg
ORGANIZER;CN="Spirit Calling":MAILTO:support@spirit-calling.com
LOCATION:https://us02web.zoom.us/j/82370740112?pwd=cmU1dmVZR0FFbnFTQ2orOTVQQ0FyZz09
END:VEVENT
END:VCALENDAR