BEGIN:VCALENDAR
VERSION:2.0
PRODID:-//Spirit Calling - ECPv6.15.17//NONSGML v1.0//EN
CALSCALE:GREGORIAN
METHOD:PUBLISH
X-ORIGINAL-URL:https://spirit-calling.com
X-WR-CALDESC:Events for Spirit Calling
REFRESH-INTERVAL;VALUE=DURATION:PT1H
X-Robots-Tag:noindex
X-PUBLISHED-TTL:PT1H
BEGIN:VTIMEZONE
TZID:America/New_York
BEGIN:DAYLIGHT
TZOFFSETFROM:-0500
TZOFFSETTO:-0400
TZNAME:EDT
DTSTART:20230312T070000
END:DAYLIGHT
BEGIN:STANDARD
TZOFFSETFROM:-0400
TZOFFSETTO:-0500
TZNAME:EST
DTSTART:20231105T060000
END:STANDARD
BEGIN:DAYLIGHT
TZOFFSETFROM:-0500
TZOFFSETTO:-0400
TZNAME:EDT
DTSTART:20240310T070000
END:DAYLIGHT
BEGIN:STANDARD
TZOFFSETFROM:-0400
TZOFFSETTO:-0500
TZNAME:EST
DTSTART:20241103T060000
END:STANDARD
BEGIN:DAYLIGHT
TZOFFSETFROM:-0500
TZOFFSETTO:-0400
TZNAME:EDT
DTSTART:20250309T070000
END:DAYLIGHT
BEGIN:STANDARD
TZOFFSETFROM:-0400
TZOFFSETTO:-0500
TZNAME:EST
DTSTART:20251102T060000
END:STANDARD
END:VTIMEZONE
BEGIN:VEVENT
DTSTART;TZID=America/New_York:20241130T183000
DTEND;TZID=America/New_York:20241130T193000
DTSTAMP:20260419T110901
CREATED:20241030T202402Z
LAST-MODIFIED:20241030T202402Z
UID:10000799-1732991400-1732995000@spirit-calling.com
SUMMARY:Energy Protection Workshop
DESCRIPTION:Join us for an empowering evening with Kristen Numen\, an experienced aligned professional and Reiki Master Energy Healer\, as she returns to guide us in an insightful workshop on personal energy protection. Happening on **November 30th at 6:30 PM EST**\, Kristen will share essential techniques and tools to help you safeguard your individual energy\, offering invaluable support as we approach the holiday season and navigate everyday life. \nIn this workshop\, Kristen will teach practical tips for maintaining your personal boundaries and managing energy during social events\, family gatherings\, and in your daily routines. Whether you’re new to energy work or looking to deepen your practice\, this workshop is perfect for anyone wanting to feel grounded\, centered\, and resilient. \nWe are thrilled to welcome Kristen back for this transformative experience! Don’t miss this chance to nurture your well-being and create your own space of calm amidst the busyness of life.
URL:https://spirit-calling.com/event/energy-protection-workshop/
LOCATION:https://zoom.us/j/8858847385?pwd=WE5BZS9OdkxvZG5PYkMrZC83dEFHQT09
CATEGORIES:Special Event
ATTACH;FMTTYPE=image/png:https://spirit-calling.com/wp-content/uploads/Dark-Professional-Music-YouTube-Thumbnail.png
END:VEVENT
END:VCALENDAR