BEGIN:VCALENDAR
VERSION:2.0
PRODID:-//Spirit Calling - ECPv6.15.17//NONSGML v1.0//EN
CALSCALE:GREGORIAN
METHOD:PUBLISH
X-ORIGINAL-URL:https://spirit-calling.com
X-WR-CALDESC:Events for Spirit Calling
REFRESH-INTERVAL;VALUE=DURATION:PT1H
X-Robots-Tag:noindex
X-PUBLISHED-TTL:PT1H
BEGIN:VTIMEZONE
TZID:America/New_York
BEGIN:DAYLIGHT
TZOFFSETFROM:-0500
TZOFFSETTO:-0400
TZNAME:EDT
DTSTART:20240310T070000
END:DAYLIGHT
BEGIN:STANDARD
TZOFFSETFROM:-0400
TZOFFSETTO:-0500
TZNAME:EST
DTSTART:20241103T060000
END:STANDARD
BEGIN:DAYLIGHT
TZOFFSETFROM:-0500
TZOFFSETTO:-0400
TZNAME:EDT
DTSTART:20250309T070000
END:DAYLIGHT
BEGIN:STANDARD
TZOFFSETFROM:-0400
TZOFFSETTO:-0500
TZNAME:EST
DTSTART:20251102T060000
END:STANDARD
BEGIN:DAYLIGHT
TZOFFSETFROM:-0500
TZOFFSETTO:-0400
TZNAME:EDT
DTSTART:20260308T070000
END:DAYLIGHT
BEGIN:STANDARD
TZOFFSETFROM:-0400
TZOFFSETTO:-0500
TZNAME:EST
DTSTART:20261101T060000
END:STANDARD
END:VTIMEZONE
BEGIN:VEVENT
DTSTART;TZID=America/New_York:20250103T170000
DTEND;TZID=America/New_York:20250103T190000
DTSTAMP:20260419T083944
CREATED:20241120T195609Z
LAST-MODIFIED:20251003T131411Z
UID:10000930-1735923600-1735930800@spirit-calling.com
SUMMARY:Spirit Calling Weekly Community Gathering
DESCRIPTION:Connect. Share. Support. Belong. \nJoin us every Friday at 5 PM EST for our Spirit Calling Weekly Community Gathering. This is your space to connect with fellow members\, share your wins\, ask for support\, or simply have a friendly conversation about what’s happening in your life. Whether you’re celebrating\, seeking guidance\, or just looking to chat\, this is a safe and welcoming environment for all members. \nFeel free to use our Main Meeting Room anytime\, but this weekly gathering offers a dedicated time to come together as a community. Bring your stories\, your questions\, or just yourself—we’re here for each other. \nLet’s make every Friday a time to nurture our connection\, deepen our bonds\, and honor the spirit of our community. \nAll are welcome. See you there!
URL:https://spirit-calling.com/event/spirit-calling-weekly-community-gathering/2025-01-03/
CATEGORIES:Special Event
ATTACH;FMTTYPE=image/png:https://spirit-calling.com/wp-content/uploads/4-1.png
END:VEVENT
BEGIN:VEVENT
DTSTART;TZID=America/New_York:20250110T170000
DTEND;TZID=America/New_York:20250110T190000
DTSTAMP:20260419T083944
CREATED:20241120T195609Z
LAST-MODIFIED:20251003T131411Z
UID:10000932-1736528400-1736535600@spirit-calling.com
SUMMARY:Spirit Calling Weekly Community Gathering
DESCRIPTION:Connect. Share. Support. Belong. \nJoin us every Friday at 5 PM EST for our Spirit Calling Weekly Community Gathering. This is your space to connect with fellow members\, share your wins\, ask for support\, or simply have a friendly conversation about what’s happening in your life. Whether you’re celebrating\, seeking guidance\, or just looking to chat\, this is a safe and welcoming environment for all members. \nFeel free to use our Main Meeting Room anytime\, but this weekly gathering offers a dedicated time to come together as a community. Bring your stories\, your questions\, or just yourself—we’re here for each other. \nLet’s make every Friday a time to nurture our connection\, deepen our bonds\, and honor the spirit of our community. \nAll are welcome. See you there!
URL:https://spirit-calling.com/event/spirit-calling-weekly-community-gathering/2025-01-10/
CATEGORIES:Special Event
ATTACH;FMTTYPE=image/png:https://spirit-calling.com/wp-content/uploads/4-1.png
END:VEVENT
BEGIN:VEVENT
DTSTART;TZID=America/New_York:20250117T170000
DTEND;TZID=America/New_York:20250117T190000
DTSTAMP:20260419T083944
CREATED:20241120T195609Z
LAST-MODIFIED:20251003T131411Z
UID:10000934-1737133200-1737140400@spirit-calling.com
SUMMARY:Spirit Calling Weekly Community Gathering
DESCRIPTION:Connect. Share. Support. Belong. \nJoin us every Friday at 5 PM EST for our Spirit Calling Weekly Community Gathering. This is your space to connect with fellow members\, share your wins\, ask for support\, or simply have a friendly conversation about what’s happening in your life. Whether you’re celebrating\, seeking guidance\, or just looking to chat\, this is a safe and welcoming environment for all members. \nFeel free to use our Main Meeting Room anytime\, but this weekly gathering offers a dedicated time to come together as a community. Bring your stories\, your questions\, or just yourself—we’re here for each other. \nLet’s make every Friday a time to nurture our connection\, deepen our bonds\, and honor the spirit of our community. \nAll are welcome. See you there!
URL:https://spirit-calling.com/event/spirit-calling-weekly-community-gathering/2025-01-17/
CATEGORIES:Special Event
ATTACH;FMTTYPE=image/png:https://spirit-calling.com/wp-content/uploads/4-1.png
END:VEVENT
BEGIN:VEVENT
DTSTART;TZID=America/New_York:20250124T170000
DTEND;TZID=America/New_York:20250124T190000
DTSTAMP:20260419T083944
CREATED:20241120T195609Z
LAST-MODIFIED:20251003T131411Z
UID:10000936-1737738000-1737745200@spirit-calling.com
SUMMARY:Spirit Calling Weekly Community Gathering
DESCRIPTION:Connect. Share. Support. Belong. \nJoin us every Friday at 5 PM EST for our Spirit Calling Weekly Community Gathering. This is your space to connect with fellow members\, share your wins\, ask for support\, or simply have a friendly conversation about what’s happening in your life. Whether you’re celebrating\, seeking guidance\, or just looking to chat\, this is a safe and welcoming environment for all members. \nFeel free to use our Main Meeting Room anytime\, but this weekly gathering offers a dedicated time to come together as a community. Bring your stories\, your questions\, or just yourself—we’re here for each other. \nLet’s make every Friday a time to nurture our connection\, deepen our bonds\, and honor the spirit of our community. \nAll are welcome. See you there!
URL:https://spirit-calling.com/event/spirit-calling-weekly-community-gathering/2025-01-24/
CATEGORIES:Special Event
ATTACH;FMTTYPE=image/png:https://spirit-calling.com/wp-content/uploads/4-1.png
END:VEVENT
BEGIN:VEVENT
DTSTART;TZID=America/New_York:20250130T150000
DTEND;TZID=America/New_York:20250130T160000
DTSTAMP:20260419T083944
CREATED:20250126T170905Z
LAST-MODIFIED:20250529T132827Z
UID:10001738-1738249200-1738252800@spirit-calling.com
SUMMARY:Monthly Meditation with Nicole Gibbs
DESCRIPTION:Mark your calendars for the Last Thursday of Every Month at 3:00 EST \nJoin Nicole Gibbs\, the founder of Awakening Mass Meditation and Soul Leader\, as she hosts a monthly meditation for the Spirit Calling Community! Take a well-deserved break in your day and engage in a conscious awakening and expansion experience. Nicole’s expertise and guidance will help you connect with your inner self\, fostering relaxation\, self-awareness\, and personal growth. Don’t miss this opportunity to prioritize your well-being and join the community in this transformative meditation practice.
URL:https://spirit-calling.com/event/monthly-meditation-with-nicole-gibbs/2025-01-30/
LOCATION:Main Meeting Room
CATEGORIES:Special Event
ATTACH;FMTTYPE=image/png:https://spirit-calling.com/wp-content/uploads/Mass-Meditation-Thumbnail-2-scaled.png
END:VEVENT
BEGIN:VEVENT
DTSTART;TZID=America/New_York:20250131T170000
DTEND;TZID=America/New_York:20250131T190000
DTSTAMP:20260419T083944
CREATED:20241120T195609Z
LAST-MODIFIED:20251003T131411Z
UID:10000938-1738342800-1738350000@spirit-calling.com
SUMMARY:Spirit Calling Weekly Community Gathering
DESCRIPTION:Connect. Share. Support. Belong. \nJoin us every Friday at 5 PM EST for our Spirit Calling Weekly Community Gathering. This is your space to connect with fellow members\, share your wins\, ask for support\, or simply have a friendly conversation about what’s happening in your life. Whether you’re celebrating\, seeking guidance\, or just looking to chat\, this is a safe and welcoming environment for all members. \nFeel free to use our Main Meeting Room anytime\, but this weekly gathering offers a dedicated time to come together as a community. Bring your stories\, your questions\, or just yourself—we’re here for each other. \nLet’s make every Friday a time to nurture our connection\, deepen our bonds\, and honor the spirit of our community. \nAll are welcome. See you there!
URL:https://spirit-calling.com/event/spirit-calling-weekly-community-gathering/2025-01-31/
CATEGORIES:Special Event
ATTACH;FMTTYPE=image/png:https://spirit-calling.com/wp-content/uploads/4-1.png
END:VEVENT
END:VCALENDAR