BEGIN:VCALENDAR
VERSION:2.0
PRODID:-//Spirit Calling - ECPv6.15.17//NONSGML v1.0//EN
CALSCALE:GREGORIAN
METHOD:PUBLISH
X-ORIGINAL-URL:https://spirit-calling.com
X-WR-CALDESC:Events for Spirit Calling
REFRESH-INTERVAL;VALUE=DURATION:PT1H
X-Robots-Tag:noindex
X-PUBLISHED-TTL:PT1H
BEGIN:VTIMEZONE
TZID:America/New_York
BEGIN:DAYLIGHT
TZOFFSETFROM:-0500
TZOFFSETTO:-0400
TZNAME:EDT
DTSTART:20230312T070000
END:DAYLIGHT
BEGIN:STANDARD
TZOFFSETFROM:-0400
TZOFFSETTO:-0500
TZNAME:EST
DTSTART:20231105T060000
END:STANDARD
BEGIN:DAYLIGHT
TZOFFSETFROM:-0500
TZOFFSETTO:-0400
TZNAME:EDT
DTSTART:20240310T070000
END:DAYLIGHT
BEGIN:STANDARD
TZOFFSETFROM:-0400
TZOFFSETTO:-0500
TZNAME:EST
DTSTART:20241103T060000
END:STANDARD
BEGIN:DAYLIGHT
TZOFFSETFROM:-0500
TZOFFSETTO:-0400
TZNAME:EDT
DTSTART:20250309T070000
END:DAYLIGHT
BEGIN:STANDARD
TZOFFSETFROM:-0400
TZOFFSETTO:-0500
TZNAME:EST
DTSTART:20251102T060000
END:STANDARD
BEGIN:DAYLIGHT
TZOFFSETFROM:-0500
TZOFFSETTO:-0400
TZNAME:EDT
DTSTART:20260308T070000
END:DAYLIGHT
BEGIN:STANDARD
TZOFFSETFROM:-0400
TZOFFSETTO:-0500
TZNAME:EST
DTSTART:20261101T060000
END:STANDARD
END:VTIMEZONE
BEGIN:VEVENT
DTSTART;VALUE=DATE:20240821
DTEND;VALUE=DATE:20240822
DTSTAMP:20260421T084205
CREATED:20240721T174850Z
LAST-MODIFIED:20240721T175144Z
UID:10000550-1724198400-1724284799@spirit-calling.com
SUMMARY:Empower Your Future Self: Kathleen Shapiro's Path to Transformation Through Thinking By Design
DESCRIPTION:Live the Call Podcast #008: Join us on the next episode of the Live the Call podcast as we sit down with Kathleen Shapiro\, a Personal Leadership Coach and Psychic Healer\, whose expertise in transforming mindsets and stories can unlock your true potential. Kathleen’s journey from feeling overwhelmed and unfulfilled to creating a life of success and harmony is both compelling and enlightening. \nIn this episode\, Kathleen will explore her innovative “Thinking By Design” program\, which integrates psychic insights with practical strategies to help you: \n\nOwn your power and craft a mindset aligned with your highest goals\nIdentify and release limiting thought patterns that hold you back\nEmbrace tools that facilitate effortless progress towards your dreams\n\nDrawing on her background as a midwife and psychiatric nurse\, Kathleen combines a deep understanding of human emotions with her love of teaching and learning to empower clients to step into their most powerful future selves. \nDon’t miss this opportunity to learn how to transform your mindset and craft a story of success and fulfillment. Tune in for actionable insights and inspiration to guide you on your journey to a more empowered and aligned life. Subscribe now and be part of this transformative conversation!
URL:https://spirit-calling.com/event/empower-your-future-self-kathleen-shapiros-path-to-transformation-through-thinking-by-design/
CATEGORIES:Live the Call
ATTACH;FMTTYPE=image/png:https://spirit-calling.com/wp-content/uploads/Monthly-Community-Zoom-1-6.png
END:VEVENT
BEGIN:VEVENT
DTSTART;VALUE=DATE:20241017
DTEND;VALUE=DATE:20241018
DTSTAMP:20260421T084205
CREATED:20240721T181623Z
LAST-MODIFIED:20240721T181632Z
UID:10000551-1729123200-1729209599@spirit-calling.com
SUMMARY:Creating Financial Stability in Your Business with Hannah Chapman
DESCRIPTION:Live the Call Podcast #010: In this episode\, join Hannah Chapman\, founder of X² Wealth Planning and Expansive CEO\, as she reveals her revolutionary approach to creating financial stability in your business. Hannah’s unique blend of logical and emotional strategies will transform how you think about money and prosperity. \nDiscover how clearing old money stories and adopting an Expansive CEO mindset can empower you to build a resilient and impactful business. Whether you’re an entrepreneur seeking financial clarity or looking to elevate your business’s growth\, this conversation is packed with insights and practical advice. \nTune in to learn how Hannah’s approach can help you achieve lasting financial stability and drive your business forward. Explore more about Hannah’s transformative work at [X² Wealth Planning](http://www.x2wealthplanning.com) and [Expansive CEO](http://www.expansiveceo.com). Don’t miss this opportunity to revolutionize your financial future!
URL:https://spirit-calling.com/event/creating-financial-stability-in-your-business-with-hannah-chapman/
CATEGORIES:Live the Call
ATTACH;FMTTYPE=image/png:https://spirit-calling.com/wp-content/uploads/1-3.png
END:VEVENT
BEGIN:VEVENT
DTSTART;VALUE=DATE:20241218
DTEND;VALUE=DATE:20241219
DTSTAMP:20260421T084205
CREATED:20241201T185406Z
LAST-MODIFIED:20241201T185406Z
UID:10001442-1734480000-1734566399@spirit-calling.com
SUMMARY:Exploring Galactic Wisdom\, Healing\, and UFOs with Dr. Lisa Thompson
DESCRIPTION:In this episode of Live the Call\, we dive into the extraordinary journey of Dr. Lisa Thompson\, a Best-Selling Author\, Galactic Ambassador\, and Intuitive Transformational Coach. Dr. Lisa shares her profound spiritual awakening\, which led her to embrace her soul’s purpose as a channeler and healer. She has created a unique energy healing modality\, Galactic Ascension Channeling\, and specializes in Parallel Life Regression and Sound Healing. \nDr. Lisa is also the author of transformative works like Wisdom of the Galactics and Connection to the Cosmos\, and she’s passionate about guiding others to remember their galactic heritage and step into their higher purpose. Join us as we explore her out-of-this-world insights on channeling\, ascension\, and UFO phenomena\, and how she’s inspiring others through retreats\, online teachings\, and night sky UFO tours in Hawaii. \nThis conversation is a must-listen for anyone ready to elevate their spiritual journey and live their true calling!
URL:https://spirit-calling.com/event/exploring-galactic-wisdom-healing-and-ufos-with-dr-lisa-thompson/
CATEGORIES:Live the Call
ATTACH;FMTTYPE=image/png:https://spirit-calling.com/wp-content/uploads/Monthly-Community-Zoom-1-7.png
LOCATION:https://youtu.be/KmNAUrSi4zA?si=GXU1f3SzenFR-Q5X
END:VEVENT
BEGIN:VEVENT
DTSTART;VALUE=DATE:20250116
DTEND;VALUE=DATE:20250117
DTSTAMP:20260421T084205
CREATED:20241228T163112Z
LAST-MODIFIED:20250114T195103Z
UID:10001563-1736985600-1737071999@spirit-calling.com
SUMMARY:Following Divine Guidance: A Journey of Transformation with Priscilla Hanley
DESCRIPTION:In this episode of Live the Call\, we explore the extraordinary journey of Priscilla Hanley\, founder of Pristine Soul Healing LLC. Priscilla shares her story of taking a bold leap of faith by leaving her corporate career in 2023 to pursue her passion for healing and spiritual guidance. Through meditation and an unwavering trust in divine direction\, she built a multifaceted practice that includes Reiki\, light language\, and intuitive coaching. With vulnerability and wisdom\, Priscilla discusses the challenges of transitioning from the stability of a corporate job to the fluidity of running her own business\, emphasizing the power of following divine downloads and embracing the unknown. This inspiring conversation is a must-listen for anyone seeking to align their life with their higher calling. \n\n\n\n\n\n\n\n 
URL:https://spirit-calling.com/event/following-divine-guidance-a-journey-of-transformation-with-priscilla-hanley/
CATEGORIES:Live the Call
ATTACH;FMTTYPE=image/png:https://spirit-calling.com/wp-content/uploads/Monthly-Community-Zoom-11.png
END:VEVENT
BEGIN:VEVENT
DTSTART;VALUE=DATE:20250219
DTEND;VALUE=DATE:20250220
DTSTAMP:20260421T084205
CREATED:20250202T180340Z
LAST-MODIFIED:20250212T205155Z
UID:10001798-1739923200-1740009599@spirit-calling.com
SUMMARY:Live the Call Podcast #014: Awakening Your Soul’s Purpose with Tina Marie Bueno
DESCRIPTION:Live the Call Podcast #014: Awakening Your Soul’s Purpose with Tina Marie Bueno \nIn this episode of the Live the Call podcast\, host Pamela Downes sits down with Tina Marie Bueno\, a New Earth catalyst\, multidimensional channel\, and Akashic record reader with over two decades of experience in spiritual transformation. Tina Marie’s incredible journey from childhood intuition to embracing her gifts as a professional channel will inspire you to listen to your soul’s calling and trust your path. \nJoin Pamela and Tina Marie as they explore her profound spiritual awakening\, the power of dreams\, and how you can: \n\nRecognize and trust the intuitive whispers guiding your journey\nWork with your dreams to uncover deeper messages from your soul\nEmbrace spiritual awakening as a transformative and empowering process\n\nThrough her work as a Reiki Karuna Light Master and guide for countless seekers\, Tina Marie shares invaluable wisdom on stepping into your authentic self and navigating spiritual evolution with grace. \nDon’t miss this enlightening conversation that will encourage you to answer your own soul’s call. Tune in for inspiration\, insights\, and the tools to step fully into your purpose. Subscribe now and be part of this transformative journey! \nConnect with Tina Marie Bueno: \n\n📧 Email: happy@tinamariebueno.com – Reach out for guidance\, intuitive readings\, and transformational support.\n🌎 Website: tinamariebueno.com – Explore her services\, events\, and spiritual offerings.\n✨ Work With Tina Marie – Unlock your soul’s wisdom and step into your purpose today!
URL:https://spirit-calling.com/event/live-the-call-podcast-009-awakening-your-souls-purpose-with-tina-marie-bueno/
CATEGORIES:Live the Call
ATTACH;FMTTYPE=image/png:https://spirit-calling.com/wp-content/uploads/Monthly-Community-Zoom-1-8.png
END:VEVENT
BEGIN:VEVENT
DTSTART;TZID=America/New_York:20250319T120000
DTEND;TZID=America/New_York:20250319T130000
DTSTAMP:20260421T084205
CREATED:20250302T180039Z
LAST-MODIFIED:20250302T180039Z
UID:10001864-1742385600-1742389200@spirit-calling.com
SUMMARY:Riding Beyond Limits: The Healing Power of Horses with Jodi O'Connell-Ponkos
DESCRIPTION:In this episode of the Live the Call podcast\, host Pamela Downes sits down with Jodie O’Connell-Ponkos\, founder of Destiny’s Ride\, a nonprofit therapeutic riding program that helps individuals heal and transform through the profound connection with horses. Jodie’s journey is one of resilience\, overcoming adversity\, and embracing a soul-led mission to create a sanctuary where both people and horses can find purpose\, healing\, and connection. At just 16 years old\, Jodie faced a life-altering accident that resulted in the loss of her right hand. Instead of allowing this challenge to define her\, she discovered the incredible healing power of horses. This personal transformation led her to establish Destiny’s Ride\, where individuals of all abilities—including those with trauma\, disabilities\, and emotional challenges—experience the freedom\, empowerment\, and healing that comes from working with these magnificent animals.  \nIn this episode\, we explore:  \n✨ How horses help us process grief\, trauma\, and emotions in ways words cannot\n✨ The spiritual and energetic connection between humans and horses\n✨ The story behind Destiny’s Ride*and how equine-assisted therapy is changing lives\n✨ How Jodie turned personal tragedy into a soul-driven purpose to help others heal This episode is an inspiring testament to the power of resilience\, the wisdom of animals\, and the incredible ways the universe aligns us with our true calling.  \n🎧 Tune in now for an uplifting conversation that will touch your heart and remind you that healing and purpose can be found in the most unexpected places.  \nCONNECT WITH JODIE & DESTINY’S RIDE  \nIf you’d like to learn more about Jodie’s work or support Destiny’s Ride\, you can connect with her here:\n🌟 Website: www.destinysride.org\n🌟 Facebook: www.facebook.com/DestinysRide\n🌟 Instagram: @DestinysRide\n🌟 Donate & Support: Destiny’s Ride is a nonprofit organization dedicated to equine-assisted therapy. Your support helps provide life-changing experiences for individuals with trauma\, disabilities\, and emotional challenges. Donate or get involved at www.destinysride.org/donate.
URL:https://spirit-calling.com/event/riding-beyond-limits-the-healing-power-of-horses-with-jodi-oconnell-ponkos/
CATEGORIES:Live the Call
ATTACH;FMTTYPE=image/png:https://spirit-calling.com/wp-content/uploads/Monthly-Community-Zoom-2-3-scaled.png
END:VEVENT
BEGIN:VEVENT
DTSTART;TZID=America/New_York:20250618T120000
DTEND;TZID=America/New_York:20250618T120000
DTSTAMP:20260421T084205
CREATED:20250601T190550Z
LAST-MODIFIED:20250615T173057Z
UID:10002120-1750248000-1750248000@spirit-calling.com
SUMMARY:Podcast Launch: Soul Wisdom from the Animal Kingdom with Dr. Tracy Rainwaters
DESCRIPTION:In this month’s episode of Live the Call\, I’m joined by Dr. Tracy Rainwaters\, a gifted chiropractor\, intuitive healer\, and soul communicator for animals. What began as a traditional career in animal chiropractic care took an unexpected turn when Tracy started receiving vivid\, soul-level messages from the animals she was treating—visions\, memories\, and emotional imprints that bridged the healing journeys of animals and their humans. \nHer path has been one of deep listening\, spiritual awakening\, and walking between worlds—merging clinical expertise with soul-guided insight. \nIn this heart-opening episode\, we explore:✨ What animals are here to teach us (and how they’re always communicating)✨ The story of how Tracy’s intuitive gifts awakened during chiropractic work with horses✨ How emotional healing in animals mirrors the healing needed in their human companions✨ What it means to “follow the thread” of spiritual guidance\, even when it defies logic \nDr. Tracy reminds us that animals are not just companions—they are wise\, sentient beings with messages\, medicine\, and deep purpose. \n🎧 Tune in to hear how trusting your gifts\, listening more deeply\, and honoring the sacred bond with animals can transform your own healing journey.
URL:https://spirit-calling.com/event/podcast-launch-soul-wisdom-from-the-animal-kingdom-with-dr-tracy-rainwaters/
CATEGORIES:Live the Call
ATTACH;FMTTYPE=image/png:https://spirit-calling.com/wp-content/uploads/Monthly-Community-Zoom-3-2.png
END:VEVENT
BEGIN:VEVENT
DTSTART;VALUE=DATE:20250717
DTEND;VALUE=DATE:20250718
DTSTAMP:20260421T084205
CREATED:20250629T153358Z
LAST-MODIFIED:20250629T153358Z
UID:10002243-1752710400-1752796799@spirit-calling.com
SUMMARY:Live the Call Podcast Launch: Ancient Wisdom & Earth-Based Awakening with Kerri Hummingbird
DESCRIPTION:In this month’s Live the Call\, I’m joined by Kerri Hummingbird—Medicine Woman\, mentor\, bestselling author\, and founder of the Inner Medicine Training Mystery School. Kerri is a true wisdom keeper\, weaving together ancient traditions from the Andes and Himalayas to help us awaken to our soul’s purpose and remember our sacred connection to Mother Earth. \nWith decades of experience in energy medicine\, spiritual leadership\, and soul mentorship\, Kerri invites us to explore the inner medicine we all carry—the personal truth\, resilience\, and ancestral knowing that can transform our lives from the inside out. \nIn this powerful conversation\, we explore:✨ How to connect with ancient Earth-based traditions in modern life✨ What “inner medicine” really means and how to activate it✨ Kerri’s own awakening journey from corporate life to soul leadership✨ Healing the Mother Wound and embodying the Divine Feminine✨ How to guide the next generation through heart-led parenting and mentorship \nWhether you’re walking your own healing path or feeling the call to step into spiritual leadership\, this episode will leave you inspired to reconnect\, remember\, and rise. \n🎧 Tune in and receive the wisdom of the Earth\, the ancestors\, and the sacred feminine.
URL:https://spirit-calling.com/event/live-the-call-podcast-launch-ancient-wisdom-earth-based-awakening-with-kerri-hummingbird/
CATEGORIES:Live the Call
ATTACH;FMTTYPE=image/png:https://spirit-calling.com/wp-content/uploads/Monthly-Community-Zoom-12.png
END:VEVENT
BEGIN:VEVENT
DTSTART;VALUE=DATE:20250820
DTEND;VALUE=DATE:20250821
DTSTAMP:20260421T084205
CREATED:20250803T175658Z
LAST-MODIFIED:20250820T174940Z
UID:10002631-1755648000-1755734399@spirit-calling.com
SUMMARY:Live the Call with James Bene Podcast Launch
DESCRIPTION:This month on Live the Call\, Pamela sits down with James Bene — psychic medium\, Reiki master\, and founder of Bene Mudra Wellness. James opens up about his childhood spiritual gifts\, the role of trauma in shaping his journey\, and how he overcame fear and imposter syndrome to fully step into his calling. \nTogether\, Pamela and James explore the path of psychic mediumship\, intuitive healing\, and joyful living\, offering inspiration for anyone beginning to hear the whisper of their own spiritual calling. James also shares about his international retreats and his new show\, House of Bene\, on the Ethereal Network. \nIf you’ve ever wondered how to embrace your spiritual gifts and live your purpose authentically\, this conversation will guide and inspire you.
URL:https://spirit-calling.com/event/live-the-call-with-james-bene-podcast-launch/
CATEGORIES:Live the Call
ATTACH;FMTTYPE=image/png:https://spirit-calling.com/wp-content/uploads/Monthly-Community-Zoom-4-2.png
END:VEVENT
BEGIN:VEVENT
DTSTART;VALUE=DATE:20251015
DTEND;VALUE=DATE:20251016
DTSTAMP:20260421T084205
CREATED:20250922T231442Z
LAST-MODIFIED:20250922T231442Z
UID:10002710-1760486400-1760572799@spirit-calling.com
SUMMARY:Live the Call Podcast Launch: Past Lives\, Purpose & Remembering Who You Are with Faith Streng
DESCRIPTION:In this month’s Live the Call\, Pamela Downes sits down with Faith Streng—a third-generation psychic healer\, spiritual teacher\, and founder of the Cosmic Joy Community. Faith’s path to awakening began in childhood\, but it wasn’t until a dark night of the soul in her thirties that she surrendered to her true calling. \nIn this inspiring episode\, Pamela and Faith explore how past lives\, ancestral lineage\, and intuitive gifts shape our soul’s purpose. Faith shares how she integrates Akashic healing\, light language\, energy balancing\, and spiritual coaching into her transformational work—and how honoring your lineage\, gifts\, and truth leads to deep alignment. \n🌟 Inside this episode:✨ Reclaiming your gifts after a dark night of the soul✨ The power of past life healing and Akashic insight✨ Listening to the call and trusting your next step✨ Building spiritual business with authenticity and intuition✨ How community and creative expression support the awakening journey \nWhether you’re deep in your own spiritual work or just beginning to hear the whisper\, Faith’s story will guide and encourage you to remember who you really are. \n\n🌐 Connect with Faith Streng\nWebsite: https://www.faithstreng.comInstagram: @faithstrengRetreats & Community: https://www.faithstreng.com/retreats
URL:https://spirit-calling.com/event/live-the-call-podcast-launch-past-lives-purpose-remembering-who-you-are-with-faith-streng/
CATEGORIES:Live the Call
ATTACH;FMTTYPE=image/png:https://spirit-calling.com/wp-content/uploads/Monthly-Community-Zoom-2-6.png
END:VEVENT
BEGIN:VEVENT
DTSTART;VALUE=DATE:20251119
DTEND;VALUE=DATE:20251120
DTSTAMP:20260421T084205
CREATED:20251113T184818Z
LAST-MODIFIED:20251113T184818Z
UID:10002832-1763510400-1763596799@spirit-calling.com
SUMMARY:Live the Call Podcast Launch: Leading with Love with Melissa Nanavati
DESCRIPTION:In this episode of Live the Call\, Pamela Downes sits down with Relationship Architect and speaker Melissa Nanavati to explore the journey from anxious attachment and people-pleasing to deeply rooted\, soul-led love. \nAfter navigating over 100 first dates and a lifetime of striving to be “enough\,” Melissa experienced a spiritual awakening that changed everything. She quit drinking\, started listening to her intuition\, and began healing the unconscious patterns that were keeping her from authentic connection. \nNow\, she guides high performers to build peaceful\, emotionally attuned relationships—without sacrificing ambition or dimming their light. \n💫 In this episode:— How to heal attachment wounds and step into your worth— The role of intuition in love\, dating\, and partnership— Signs you’re still leading from fear (and how to shift)— How to create soul-aligned love without self-abandonment— What Melissa learned from 100+ first dates—and finally meeting her husband \nThis conversation is a heart-opening reminder that real love begins within—and when you lead with your soul\, love meets you there. \nConnect with Melissa Nanavati\nWebsite: www.melissananavati.comInstagram: @melissananavatiLinkedIn: Melissa Nanavati \nExplore Spirit Calling Offerings\n✨ Download MeditationsGuided journeys to support your spiritual growth and healing→ www.spirit-calling.com/meditations \n✨ Soul Path CoachingWork with Pamela 1:1 to connect with your soul’s purpose and divine guidance→ www.spirit-calling.com/work-with-pamela \n✨ Join the Spirit Calling CommunityMonthly sound healings\, live events\, and sacred community spaces—7-day free trial available→ www.spirit-calling.com/community \n✨ Awakening Accelerator MastermindTwo new cohorts begin September 18 and September 25→ www.spirit-calling.com/awakening-accelerator \n Stay Connected\nInstagram: @spiritcallingpamelaYouTube: Spirit Calling with PamelaWebsite: www.spirit-calling.com \nHashtags\n#LiveTheCallPodcast #SoulfulRelationships #MelissaNanavati #SpiritCalling #HealingAttachment #ConsciousLove #DivinePartnership #LoveWithoutLosingYourself #AwakeningJourney #IntuitiveLiving #RelationshipHealing #EmotionalIntelligence #SacredLove #InnerWork #SpiritualAwakening #SpiritCallingPamela
URL:https://spirit-calling.com/event/live-the-call-podcast-launch-leading-with-love-with-melissa-nanavati/
CATEGORIES:Live the Call
ATTACH;FMTTYPE=image/png:https://spirit-calling.com/wp-content/uploads/November.png
END:VEVENT
END:VCALENDAR