BEGIN:VCALENDAR
VERSION:2.0
PRODID:-//Spirit Calling - ECPv6.15.17//NONSGML v1.0//EN
CALSCALE:GREGORIAN
METHOD:PUBLISH
X-WR-CALNAME:Spirit Calling
X-ORIGINAL-URL:https://spirit-calling.com
X-WR-CALDESC:Events for Spirit Calling
REFRESH-INTERVAL;VALUE=DURATION:PT1H
X-Robots-Tag:noindex
X-PUBLISHED-TTL:PT1H
BEGIN:VTIMEZONE
TZID:America/New_York
BEGIN:DAYLIGHT
TZOFFSETFROM:-0500
TZOFFSETTO:-0400
TZNAME:EDT
DTSTART:20240310T070000
END:DAYLIGHT
BEGIN:STANDARD
TZOFFSETFROM:-0400
TZOFFSETTO:-0500
TZNAME:EST
DTSTART:20241103T060000
END:STANDARD
BEGIN:DAYLIGHT
TZOFFSETFROM:-0500
TZOFFSETTO:-0400
TZNAME:EDT
DTSTART:20250309T070000
END:DAYLIGHT
BEGIN:STANDARD
TZOFFSETFROM:-0400
TZOFFSETTO:-0500
TZNAME:EST
DTSTART:20251102T060000
END:STANDARD
BEGIN:DAYLIGHT
TZOFFSETFROM:-0500
TZOFFSETTO:-0400
TZNAME:EDT
DTSTART:20260308T070000
END:DAYLIGHT
BEGIN:STANDARD
TZOFFSETFROM:-0400
TZOFFSETTO:-0500
TZNAME:EST
DTSTART:20261101T060000
END:STANDARD
END:VTIMEZONE
BEGIN:VEVENT
DTSTART;VALUE=DATE:20250717
DTEND;VALUE=DATE:20250718
DTSTAMP:20260420T190338
CREATED:20250629T153358Z
LAST-MODIFIED:20250629T153358Z
UID:10002243-1752710400-1752796799@spirit-calling.com
SUMMARY:Live the Call Podcast Launch: Ancient Wisdom & Earth-Based Awakening with Kerri Hummingbird
DESCRIPTION:In this month’s Live the Call\, I’m joined by Kerri Hummingbird—Medicine Woman\, mentor\, bestselling author\, and founder of the Inner Medicine Training Mystery School. Kerri is a true wisdom keeper\, weaving together ancient traditions from the Andes and Himalayas to help us awaken to our soul’s purpose and remember our sacred connection to Mother Earth. \nWith decades of experience in energy medicine\, spiritual leadership\, and soul mentorship\, Kerri invites us to explore the inner medicine we all carry—the personal truth\, resilience\, and ancestral knowing that can transform our lives from the inside out. \nIn this powerful conversation\, we explore:✨ How to connect with ancient Earth-based traditions in modern life✨ What “inner medicine” really means and how to activate it✨ Kerri’s own awakening journey from corporate life to soul leadership✨ Healing the Mother Wound and embodying the Divine Feminine✨ How to guide the next generation through heart-led parenting and mentorship \nWhether you’re walking your own healing path or feeling the call to step into spiritual leadership\, this episode will leave you inspired to reconnect\, remember\, and rise. \n🎧 Tune in and receive the wisdom of the Earth\, the ancestors\, and the sacred feminine.
URL:https://spirit-calling.com/event/live-the-call-podcast-launch-ancient-wisdom-earth-based-awakening-with-kerri-hummingbird/
CATEGORIES:Live the Call
ATTACH;FMTTYPE=image/png:https://spirit-calling.com/wp-content/uploads/Monthly-Community-Zoom-12.png
END:VEVENT
BEGIN:VEVENT
DTSTART;VALUE=DATE:20250820
DTEND;VALUE=DATE:20250821
DTSTAMP:20260420T190338
CREATED:20250803T175658Z
LAST-MODIFIED:20250820T174940Z
UID:10002631-1755648000-1755734399@spirit-calling.com
SUMMARY:Live the Call with James Bene Podcast Launch
DESCRIPTION:This month on Live the Call\, Pamela sits down with James Bene — psychic medium\, Reiki master\, and founder of Bene Mudra Wellness. James opens up about his childhood spiritual gifts\, the role of trauma in shaping his journey\, and how he overcame fear and imposter syndrome to fully step into his calling. \nTogether\, Pamela and James explore the path of psychic mediumship\, intuitive healing\, and joyful living\, offering inspiration for anyone beginning to hear the whisper of their own spiritual calling. James also shares about his international retreats and his new show\, House of Bene\, on the Ethereal Network. \nIf you’ve ever wondered how to embrace your spiritual gifts and live your purpose authentically\, this conversation will guide and inspire you.
URL:https://spirit-calling.com/event/live-the-call-with-james-bene-podcast-launch/
CATEGORIES:Live the Call
ATTACH;FMTTYPE=image/png:https://spirit-calling.com/wp-content/uploads/Monthly-Community-Zoom-4-2.png
END:VEVENT
BEGIN:VEVENT
DTSTART;VALUE=DATE:20251015
DTEND;VALUE=DATE:20251016
DTSTAMP:20260420T190338
CREATED:20250922T231442Z
LAST-MODIFIED:20250922T231442Z
UID:10002710-1760486400-1760572799@spirit-calling.com
SUMMARY:Live the Call Podcast Launch: Past Lives\, Purpose & Remembering Who You Are with Faith Streng
DESCRIPTION:In this month’s Live the Call\, Pamela Downes sits down with Faith Streng—a third-generation psychic healer\, spiritual teacher\, and founder of the Cosmic Joy Community. Faith’s path to awakening began in childhood\, but it wasn’t until a dark night of the soul in her thirties that she surrendered to her true calling. \nIn this inspiring episode\, Pamela and Faith explore how past lives\, ancestral lineage\, and intuitive gifts shape our soul’s purpose. Faith shares how she integrates Akashic healing\, light language\, energy balancing\, and spiritual coaching into her transformational work—and how honoring your lineage\, gifts\, and truth leads to deep alignment. \n🌟 Inside this episode:✨ Reclaiming your gifts after a dark night of the soul✨ The power of past life healing and Akashic insight✨ Listening to the call and trusting your next step✨ Building spiritual business with authenticity and intuition✨ How community and creative expression support the awakening journey \nWhether you’re deep in your own spiritual work or just beginning to hear the whisper\, Faith’s story will guide and encourage you to remember who you really are. \n\n🌐 Connect with Faith Streng\nWebsite: https://www.faithstreng.comInstagram: @faithstrengRetreats & Community: https://www.faithstreng.com/retreats
URL:https://spirit-calling.com/event/live-the-call-podcast-launch-past-lives-purpose-remembering-who-you-are-with-faith-streng/
CATEGORIES:Live the Call
ATTACH;FMTTYPE=image/png:https://spirit-calling.com/wp-content/uploads/Monthly-Community-Zoom-2-6.png
END:VEVENT
BEGIN:VEVENT
DTSTART;VALUE=DATE:20251119
DTEND;VALUE=DATE:20251120
DTSTAMP:20260420T190338
CREATED:20251113T184818Z
LAST-MODIFIED:20251113T184818Z
UID:10002832-1763510400-1763596799@spirit-calling.com
SUMMARY:Live the Call Podcast Launch: Leading with Love with Melissa Nanavati
DESCRIPTION:In this episode of Live the Call\, Pamela Downes sits down with Relationship Architect and speaker Melissa Nanavati to explore the journey from anxious attachment and people-pleasing to deeply rooted\, soul-led love. \nAfter navigating over 100 first dates and a lifetime of striving to be “enough\,” Melissa experienced a spiritual awakening that changed everything. She quit drinking\, started listening to her intuition\, and began healing the unconscious patterns that were keeping her from authentic connection. \nNow\, she guides high performers to build peaceful\, emotionally attuned relationships—without sacrificing ambition or dimming their light. \n💫 In this episode:— How to heal attachment wounds and step into your worth— The role of intuition in love\, dating\, and partnership— Signs you’re still leading from fear (and how to shift)— How to create soul-aligned love without self-abandonment— What Melissa learned from 100+ first dates—and finally meeting her husband \nThis conversation is a heart-opening reminder that real love begins within—and when you lead with your soul\, love meets you there. \nConnect with Melissa Nanavati\nWebsite: www.melissananavati.comInstagram: @melissananavatiLinkedIn: Melissa Nanavati \nExplore Spirit Calling Offerings\n✨ Download MeditationsGuided journeys to support your spiritual growth and healing→ www.spirit-calling.com/meditations \n✨ Soul Path CoachingWork with Pamela 1:1 to connect with your soul’s purpose and divine guidance→ www.spirit-calling.com/work-with-pamela \n✨ Join the Spirit Calling CommunityMonthly sound healings\, live events\, and sacred community spaces—7-day free trial available→ www.spirit-calling.com/community \n✨ Awakening Accelerator MastermindTwo new cohorts begin September 18 and September 25→ www.spirit-calling.com/awakening-accelerator \n Stay Connected\nInstagram: @spiritcallingpamelaYouTube: Spirit Calling with PamelaWebsite: www.spirit-calling.com \nHashtags\n#LiveTheCallPodcast #SoulfulRelationships #MelissaNanavati #SpiritCalling #HealingAttachment #ConsciousLove #DivinePartnership #LoveWithoutLosingYourself #AwakeningJourney #IntuitiveLiving #RelationshipHealing #EmotionalIntelligence #SacredLove #InnerWork #SpiritualAwakening #SpiritCallingPamela
URL:https://spirit-calling.com/event/live-the-call-podcast-launch-leading-with-love-with-melissa-nanavati/
CATEGORIES:Live the Call
ATTACH;FMTTYPE=image/png:https://spirit-calling.com/wp-content/uploads/November.png
END:VEVENT
END:VCALENDAR