BEGIN:VCALENDAR
VERSION:2.0
PRODID:-//Spirit Calling - ECPv6.15.17//NONSGML v1.0//EN
CALSCALE:GREGORIAN
METHOD:PUBLISH
X-WR-CALNAME:Spirit Calling
X-ORIGINAL-URL:https://spirit-calling.com
X-WR-CALDESC:Events for Spirit Calling
REFRESH-INTERVAL;VALUE=DURATION:PT1H
X-Robots-Tag:noindex
X-PUBLISHED-TTL:PT1H
BEGIN:VTIMEZONE
TZID:America/New_York
BEGIN:DAYLIGHT
TZOFFSETFROM:-0500
TZOFFSETTO:-0400
TZNAME:EDT
DTSTART:20230312T070000
END:DAYLIGHT
BEGIN:STANDARD
TZOFFSETFROM:-0400
TZOFFSETTO:-0500
TZNAME:EST
DTSTART:20231105T060000
END:STANDARD
BEGIN:DAYLIGHT
TZOFFSETFROM:-0500
TZOFFSETTO:-0400
TZNAME:EDT
DTSTART:20240310T070000
END:DAYLIGHT
BEGIN:STANDARD
TZOFFSETFROM:-0400
TZOFFSETTO:-0500
TZNAME:EST
DTSTART:20241103T060000
END:STANDARD
BEGIN:DAYLIGHT
TZOFFSETFROM:-0500
TZOFFSETTO:-0400
TZNAME:EDT
DTSTART:20250309T070000
END:DAYLIGHT
BEGIN:STANDARD
TZOFFSETFROM:-0400
TZOFFSETTO:-0500
TZNAME:EST
DTSTART:20251102T060000
END:STANDARD
END:VTIMEZONE
BEGIN:VEVENT
DTSTART;TZID=America/New_York:20240404T130000
DTEND;TZID=America/New_York:20240404T143000
DTSTAMP:20260420T115100
CREATED:20240129T155331Z
LAST-MODIFIED:20240404T164635Z
UID:10000234-1712235600-1712241000@spirit-calling.com
SUMMARY:Live the Call: Quantum Time Jumping with Alysa Rushton
DESCRIPTION:Embark on a Transformative Journey Beyond the Boundaries of Time \nIn this month’s “Live the Call\,” at 1 pm EST on April 4th\, we’re diving deep into the mysteries of time with the extraordinary Alysa Rushton. Join us for a unique and mind-expanding experience as Alysa guides us through a Quantum Time Jumping exercise.  \nAlysa\, a seasoned explorer of consciousness and quantum realms\, will lead our audience through a transformative journey that transcends the limitations of linear time. Get ready to open your mind and explore the vast possibilities that exist beyond the constraints of past\, present\, and future.  \nAs we engage in this Quantum Time Jumping exercise\, Alysa will share insights\, techniques\, and the profound impact that exploring quantum consciousness can have on our lives. This episode promises to be an immersive and empowering experience\, inviting you to step into the unknown and discover the untapped potential that exists within each moment.  \nWhether you’re a seasoned traveler of the mind or new to the concept of quantum exploration\, this episode is designed to spark curiosity and expand your perception of reality. Join us on March 20th as we venture beyond the ordinary and embrace the extraordinary with Alysa Rushton.  \nDon’t miss this opportunity to explore the mysteries of time and consciousness. Join us as we embark on a journey that transcends the boundaries of the present moment. Get ready to Quantum Time Jump with us! 
URL:https://spirit-calling.com/event/live-the-call-episode-19-quantum-time-jumping-with-alysa-rushton/
CATEGORIES:Live the Call
ATTACH;FMTTYPE=image/png:https://spirit-calling.com/wp-content/uploads/Monthly-Community-Zoom-1-4.png
LOCATION:https://zoom.us/j/99345666027
END:VEVENT
BEGIN:VEVENT
DTSTART;TZID=America/New_York:20240417T150000
DTEND;TZID=America/New_York:20240417T153000
DTSTAMP:20260420T115100
CREATED:20240129T155602Z
LAST-MODIFIED:20240301T154029Z
UID:10000235-1713366000-1713367800@spirit-calling.com
SUMMARY:Live the Call: Episode 20 - Clare Garner's Journey from Entrepreneurship to Spiritual Empowerment
DESCRIPTION:A Deep Dive into Success\, Spirituality\, and Female Empowerment \nIn Episode 20 of “Live the Call\,” releasing on April 17\, 2023\, we are honored to feature Clare Garner\, a seasoned entrepreneur\, thought leader\, and inspirational speaker. Clare’s journey is a testament to resilience\, courage\, and the transformative power of integrating spirituality with success.  \nFor over a decade\, Clare has been a trailblazing entrepreneur\, founding Prestige\, Full Moon Crystals\, and Phoenix. As the founder of Prestige\, a 6-figure\, award-winning business in the corporate energy management sector\, Clare proved that ambition knows no bounds.  \nIn her early 30s\, Clare underwent a spiritual awakening\, breaking free from an abusive relationship. Immersing herself in mindfulness\, meditation\, crystals\, and manifestation\, Clare discovered her true self and birthed two additional 6-figure businesses in the spiritual realm of crystals.  \nPassionate about dismantling judgments around spirituality and success\, Clare founded Phoenix—a global movement for female empowerment. Her mission is clear: to empower women to embrace their dreams\, desires\, and destiny unapologetically. Through Phoenix\, Clare aims to elevate the collective vibration of the planet and illuminate a path for women worldwide.  \nJoin us as Clare Garner shares her insights on overcoming adversity\, becoming a SOULpreneur\, and removing societal shame imposed on women. This episode is a deep dive into Clare’s remarkable journey—from small-town dreams to global empowerment. Clare’s wisdom transcends conventional boundaries\, inspiring you to redefine success on your own terms.  \nDon’t miss Episode 20 on April 17th\, 2023! Tune in to “Live the Call” for an enriching conversation that explores the intersection of spirituality\, entrepreneurship\, and female empowerment. 
URL:https://spirit-calling.com/event/live-the-call-episode-20-clare-garners-journey-from-entrepreneurship-to-spiritual-empowerment/
CATEGORIES:Live the Call
ATTACH;FMTTYPE=image/png:https://spirit-calling.com/wp-content/uploads/4.png
END:VEVENT
END:VCALENDAR