BEGIN:VCALENDAR
VERSION:2.0
PRODID:-//Spirit Calling - ECPv6.15.17//NONSGML v1.0//EN
CALSCALE:GREGORIAN
METHOD:PUBLISH
X-ORIGINAL-URL:https://spirit-calling.com
X-WR-CALDESC:Events for Spirit Calling
REFRESH-INTERVAL;VALUE=DURATION:PT1H
X-Robots-Tag:noindex
X-PUBLISHED-TTL:PT1H
BEGIN:VTIMEZONE
TZID:America/New_York
BEGIN:DAYLIGHT
TZOFFSETFROM:-0500
TZOFFSETTO:-0400
TZNAME:EDT
DTSTART:20220313T070000
END:DAYLIGHT
BEGIN:STANDARD
TZOFFSETFROM:-0400
TZOFFSETTO:-0500
TZNAME:EST
DTSTART:20221106T060000
END:STANDARD
BEGIN:DAYLIGHT
TZOFFSETFROM:-0500
TZOFFSETTO:-0400
TZNAME:EDT
DTSTART:20230312T070000
END:DAYLIGHT
BEGIN:STANDARD
TZOFFSETFROM:-0400
TZOFFSETTO:-0500
TZNAME:EST
DTSTART:20231105T060000
END:STANDARD
BEGIN:DAYLIGHT
TZOFFSETFROM:-0500
TZOFFSETTO:-0400
TZNAME:EDT
DTSTART:20240310T070000
END:DAYLIGHT
BEGIN:STANDARD
TZOFFSETFROM:-0400
TZOFFSETTO:-0500
TZNAME:EST
DTSTART:20241103T060000
END:STANDARD
END:VTIMEZONE
BEGIN:VEVENT
DTSTART;TZID=America/New_York:20230606T150000
DTEND;TZID=America/New_York:20230606T160000
DTSTAMP:20260421T055858
CREATED:20230518T153657Z
LAST-MODIFIED:20230522T130339Z
UID:10000012-1686063600-1686067200@spirit-calling.com
SUMMARY:PART 2 The Business Side of Spirit: Grow Your Spiritual Business to 7 Figures with Stephan Stavrakis
DESCRIPTION:Join us for Part 2 as we all learn by putting Spirit Calling through its paces to grow\, grow\, grow! \nMake sure you’ve done your homework\, we will continue our practicum on creating 7 figure Spiritual Businesses with Stephan Stavrakis. \n 
URL:https://spirit-calling.com/event/part-2-the-business-side-of-spirit-grow-your-spiritual-business-to-7-figures-with-stephan-stavrakis/
CATEGORIES:Live the Call
ATTACH;FMTTYPE=image/png:https://spirit-calling.com/wp-content/uploads/Monthly-Community-Zoom-3.png
LOCATION:https://us02web.zoom.us/j/84867785431?pwd=SE5ib3BML0Z4SGt3MkJvaUFvak1GZz09
END:VEVENT
BEGIN:VEVENT
DTSTART;TZID=America/New_York:20230621T150000
DTEND;TZID=America/New_York:20230621T160000
DTSTAMP:20260421T055858
CREATED:20230530T150909Z
LAST-MODIFIED:20230530T151010Z
UID:10000013-1687359600-1687363200@spirit-calling.com
SUMMARY:Live the Call with Phil Kreutzer
DESCRIPTION:Get ready for an exhilarating Live the Call! This month\, we have the incredible privilege of hosting Phil Kreutzer\, a true master in the realm of personal transformation and spiritual connection. Brace yourself as we embark on a journey to unlock the hidden potentials within ourselves and access the boundless wisdom of the universe. \nPhil will introduce us to “Delivering Divinity\,” his new program designed to help you tap into your unique source frequency\, allowing you to access the depths of your intuition and unlock the dormant gifts that lie within you. Through his guidance\, you will uncover the divine essence that resides within you\, igniting a powerful sense of purpose and unlocking the gates to your highest potential.
URL:https://spirit-calling.com/event/live-the-call-with-phil-kreutzer/
CATEGORIES:Live the Call
ATTACH;FMTTYPE=image/png:https://spirit-calling.com/wp-content/uploads/Monthly-Community-Zoom-4.png
ORGANIZER;CN="Spirit Calling":MAILTO:support@spirit-calling.com
LOCATION:https://us02web.zoom.us/j/84602326944?pwd=M2dnQXNodERqeUpReWhJUW9kZWVydz09
END:VEVENT
END:VCALENDAR