BEGIN:VCALENDAR
VERSION:2.0
PRODID:-//Spirit Calling - ECPv6.15.17//NONSGML v1.0//EN
CALSCALE:GREGORIAN
METHOD:PUBLISH
X-WR-CALNAME:Spirit Calling
X-ORIGINAL-URL:https://spirit-calling.com
X-WR-CALDESC:Events for Spirit Calling
REFRESH-INTERVAL;VALUE=DURATION:PT1H
X-Robots-Tag:noindex
X-PUBLISHED-TTL:PT1H
BEGIN:VTIMEZONE
TZID:America/New_York
BEGIN:DAYLIGHT
TZOFFSETFROM:-0500
TZOFFSETTO:-0400
TZNAME:EDT
DTSTART:20240310T070000
END:DAYLIGHT
BEGIN:STANDARD
TZOFFSETFROM:-0400
TZOFFSETTO:-0500
TZNAME:EST
DTSTART:20241103T060000
END:STANDARD
BEGIN:DAYLIGHT
TZOFFSETFROM:-0500
TZOFFSETTO:-0400
TZNAME:EDT
DTSTART:20250309T070000
END:DAYLIGHT
BEGIN:STANDARD
TZOFFSETFROM:-0400
TZOFFSETTO:-0500
TZNAME:EST
DTSTART:20251102T060000
END:STANDARD
BEGIN:DAYLIGHT
TZOFFSETFROM:-0500
TZOFFSETTO:-0400
TZNAME:EDT
DTSTART:20260308T070000
END:DAYLIGHT
BEGIN:STANDARD
TZOFFSETFROM:-0400
TZOFFSETTO:-0500
TZNAME:EST
DTSTART:20261101T060000
END:STANDARD
END:VTIMEZONE
BEGIN:VEVENT
DTSTART;TZID=America/New_York:20251203T150000
DTEND;TZID=America/New_York:20251203T160000
DTSTAMP:20260420T082046
CREATED:20251124T153938Z
LAST-MODIFIED:20251201T183703Z
UID:10002896-1764774000-1764777600@spirit-calling.com
SUMMARY:Own Your Yes! Disrupting the Lies You Inherited
DESCRIPTION:Join us for December’s Awakeners Hour with Siris Raquel Rivas-Verdejo\, a multidimensional coach\, healer\, and founder of Empowering Light Language LLC. With over 15 years of experience supporting individuals and families\, Siris blends energetic tools\, psychology\, communication strategies\, and body-based awareness to help people realign with what they truly desire to create.\n\nIn this transformative session\, Siris will guide us through the subtle—but powerful—lies we’ve inherited from family\, culture\, and past experiences. You’ll explore how these stories shape your choices\, your voice\, and the way you show up in relationships—and how to reclaim your Yes as a source of clarity\, agency\, and creation.\n\nThrough practical tools and intuitive guidance\, you’ll learn to listen to your body’s truth\, communicate from your inner wisdom\, and say Yes to what aligns with your soul. This is an hour of connection\, empowerment\, and liberation—an invitation to step into who you were always meant to be.
URL:https://spirit-calling.com/event/own-your-yes-disrupting-the-lies-you-inherited/
CATEGORIES:Founding Awakeners Power Hour
ATTACH;FMTTYPE=image/png:https://spirit-calling.com/wp-content/uploads/Awakeners-Hour-Horizontal-12.png
LOCATION:https://zoom.us/j/93852328337
END:VEVENT
END:VCALENDAR