BEGIN:VCALENDAR
VERSION:2.0
PRODID:-//Spirit Calling - ECPv6.15.17//NONSGML v1.0//EN
CALSCALE:GREGORIAN
METHOD:PUBLISH
X-WR-CALNAME:Spirit Calling
X-ORIGINAL-URL:https://spirit-calling.com
X-WR-CALDESC:Events for Spirit Calling
REFRESH-INTERVAL;VALUE=DURATION:PT1H
X-Robots-Tag:noindex
X-PUBLISHED-TTL:PT1H
BEGIN:VTIMEZONE
TZID:America/New_York
BEGIN:DAYLIGHT
TZOFFSETFROM:-0500
TZOFFSETTO:-0400
TZNAME:EDT
DTSTART:20240310T070000
END:DAYLIGHT
BEGIN:STANDARD
TZOFFSETFROM:-0400
TZOFFSETTO:-0500
TZNAME:EST
DTSTART:20241103T060000
END:STANDARD
BEGIN:DAYLIGHT
TZOFFSETFROM:-0500
TZOFFSETTO:-0400
TZNAME:EDT
DTSTART:20250309T070000
END:DAYLIGHT
BEGIN:STANDARD
TZOFFSETFROM:-0400
TZOFFSETTO:-0500
TZNAME:EST
DTSTART:20251102T060000
END:STANDARD
BEGIN:DAYLIGHT
TZOFFSETFROM:-0500
TZOFFSETTO:-0400
TZNAME:EDT
DTSTART:20260308T070000
END:DAYLIGHT
BEGIN:STANDARD
TZOFFSETFROM:-0400
TZOFFSETTO:-0500
TZNAME:EST
DTSTART:20261101T060000
END:STANDARD
END:VTIMEZONE
BEGIN:VEVENT
DTSTART;TZID=America/New_York:20251001T150000
DTEND;TZID=America/New_York:20251001T160000
DTSTAMP:20260420T122105
CREATED:20250922T231138Z
LAST-MODIFIED:20250922T231138Z
UID:10002709-1759330800-1759334400@spirit-calling.com
SUMMARY:Discover the Power of Healing: Awakening through QHHT with Danielle Kane
DESCRIPTION:Join us for this month’s Awakeners Hour with Danielle Kane as she shares her journey of spiritual awakening through Quantum Healing Hypnosis Technique (QHHT). \nIn this heartfelt session\, Danielle will take us inside her personal story—how QHHT became a catalyst for healing\, transformation\, and connection to higher wisdom. You’ll also learn what QHHT is\, how it works\, and why it has become such a powerful tool for those seeking clarity\, healing\, and spiritual growth. \nWhether you’re new to QHHT or curious to deepen your understanding\, this is a beautiful opportunity to explore its transformative potential and be inspired by Danielle’s experience.
URL:https://spirit-calling.com/event/discover-the-power-of-healing-awakening-through-qhht-with-danielle-kane/
CATEGORIES:Founding Awakeners Power Hour
ATTACH;FMTTYPE=image/png:https://spirit-calling.com/wp-content/uploads/Awakeners-Hour-Horizontal-1-8.png
LOCATION:https://zoom.us/j/96822409854
END:VEVENT
BEGIN:VEVENT
DTSTART;TZID=America/New_York:20251105T140000
DTEND;TZID=America/New_York:20251105T150000
DTSTAMP:20260420T122105
CREATED:20251020T164601Z
LAST-MODIFIED:20251020T164601Z
UID:10002767-1762351200-1762354800@spirit-calling.com
SUMMARY:November Awakeners Hour: Connect\, Clear\, & Create from Vision Instead of Pressure with Janine Kathleen Shapiro
DESCRIPTION:Join us for this month’s Awakeners Hour with Janine Kathleen Shapiro\, Personal Leadership Coach and Healer\, for an empowering session titled “Connect\, Clear\, & Create from Vision Instead of Pressure.”\nIn this transformative hour\, Janine will guide us to release the pressure-driven habits that block our creative flow and reconnect with the deeper vision that fuels authentic creation. Through her unique blend of intuition\, psychic insight\, and holistic healing\, Janine helps you align your mind\, heart\, and body so you can lead yourself—and your life—from clarity\, confidence\, and ease. \nYou’ll discover how to shift from doing out of obligation to creating from inspiration\, allowing your natural gifts and inner wisdom to take the lead. This is your invitation to pause\, reset\, and reconnect with your true creative power.
URL:https://spirit-calling.com/event/november-awakeners-hour-connect-clear-create-from-vision-instead-of-pressure-with-janine-kathleen-shapiro-2/
CATEGORIES:Founding Awakeners Power Hour
ATTACH;FMTTYPE=image/png:https://spirit-calling.com/wp-content/uploads/Awakeners-Hour-Horizontal-10-scaled.png
END:VEVENT
BEGIN:VEVENT
DTSTART;TZID=America/New_York:20251203T150000
DTEND;TZID=America/New_York:20251203T160000
DTSTAMP:20260420T122105
CREATED:20251124T153938Z
LAST-MODIFIED:20251201T183703Z
UID:10002896-1764774000-1764777600@spirit-calling.com
SUMMARY:Own Your Yes! Disrupting the Lies You Inherited
DESCRIPTION:Join us for December’s Awakeners Hour with Siris Raquel Rivas-Verdejo\, a multidimensional coach\, healer\, and founder of Empowering Light Language LLC. With over 15 years of experience supporting individuals and families\, Siris blends energetic tools\, psychology\, communication strategies\, and body-based awareness to help people realign with what they truly desire to create.\n\nIn this transformative session\, Siris will guide us through the subtle—but powerful—lies we’ve inherited from family\, culture\, and past experiences. You’ll explore how these stories shape your choices\, your voice\, and the way you show up in relationships—and how to reclaim your Yes as a source of clarity\, agency\, and creation.\n\nThrough practical tools and intuitive guidance\, you’ll learn to listen to your body’s truth\, communicate from your inner wisdom\, and say Yes to what aligns with your soul. This is an hour of connection\, empowerment\, and liberation—an invitation to step into who you were always meant to be.
URL:https://spirit-calling.com/event/own-your-yes-disrupting-the-lies-you-inherited/
CATEGORIES:Founding Awakeners Power Hour
ATTACH;FMTTYPE=image/png:https://spirit-calling.com/wp-content/uploads/Awakeners-Hour-Horizontal-12.png
LOCATION:https://zoom.us/j/93852328337
END:VEVENT
END:VCALENDAR