BEGIN:VCALENDAR
VERSION:2.0
PRODID:-//Spirit Calling - ECPv6.15.17//NONSGML v1.0//EN
CALSCALE:GREGORIAN
METHOD:PUBLISH
X-WR-CALNAME:Spirit Calling
X-ORIGINAL-URL:https://spirit-calling.com
X-WR-CALDESC:Events for Spirit Calling
REFRESH-INTERVAL;VALUE=DURATION:PT1H
X-Robots-Tag:noindex
X-PUBLISHED-TTL:PT1H
BEGIN:VTIMEZONE
TZID:America/New_York
BEGIN:DAYLIGHT
TZOFFSETFROM:-0500
TZOFFSETTO:-0400
TZNAME:EDT
DTSTART:20240310T070000
END:DAYLIGHT
BEGIN:STANDARD
TZOFFSETFROM:-0400
TZOFFSETTO:-0500
TZNAME:EST
DTSTART:20241103T060000
END:STANDARD
BEGIN:DAYLIGHT
TZOFFSETFROM:-0500
TZOFFSETTO:-0400
TZNAME:EDT
DTSTART:20250309T070000
END:DAYLIGHT
BEGIN:STANDARD
TZOFFSETFROM:-0400
TZOFFSETTO:-0500
TZNAME:EST
DTSTART:20251102T060000
END:STANDARD
BEGIN:DAYLIGHT
TZOFFSETFROM:-0500
TZOFFSETTO:-0400
TZNAME:EDT
DTSTART:20260308T070000
END:DAYLIGHT
BEGIN:STANDARD
TZOFFSETFROM:-0400
TZOFFSETTO:-0500
TZNAME:EST
DTSTART:20261101T060000
END:STANDARD
END:VTIMEZONE
BEGIN:VEVENT
DTSTART;TZID=America/New_York:20250304T180000
DTEND;TZID=America/New_York:20250304T190000
DTSTAMP:20260421T000318
CREATED:20250202T190709Z
LAST-MODIFIED:20250203T121705Z
UID:10001799-1741111200-1741114800@spirit-calling.com
SUMMARY:Deepen Your Inner Peace: Yoga Nidra with Cheryl Van Sciver
DESCRIPTION:Join us this March for a special Awakeners Hour with Cheryl Van Sciver\, an aligned professional within the Spirit Calling community and co-founder of Balanced Planet Yoga. Cheryl will teach us about the transformative practice of Yoga Nidra and lead us through an immersive\, guided session designed to induce deep relaxation and conscious awareness. \nIn this session\, you will: \n\nRelax deeply: Experience profound physical and mental relaxation that allows you to release tension and stress.\nReconnect with yourself: Quiet the mind and tap into a deeper sense of inner peace and self-awareness.\nEnhance mindfulness: Learn techniques to integrate mindfulness and presence into your daily life.\nPromote healing: Experience the benefits of deep relaxation that support physical\, emotional\, and spiritual healing.\nAwaken your soul: Tap into a heightened sense of connection with your true self and the world around you.\n\nThis isn’t just a class—it’s an opportunity to immerse yourself in the transformative power of Yoga Nidra and experience its lasting benefits. Cheryl’s expert guidance will ensure that you leave feeling rejuvenated\, grounded\, and more connected.
URL:https://spirit-calling.com/event/deepen-your-inner-peace-yoga-nidra-with-cheryl-van-sciver/
LOCATION:https://zoom.us/j/8858847385?pwd=WE5BZS9OdkxvZG5PYkMrZC83dEFHQT09
CATEGORIES:Founding Awakeners Power Hour
ATTACH;FMTTYPE=image/png:https://spirit-calling.com/wp-content/uploads/Awakeners-Hour-Horizontal-5-2.png
END:VEVENT
BEGIN:VEVENT
DTSTART;TZID=America/New_York:20250402T150000
DTEND;TZID=America/New_York:20250402T160000
DTSTAMP:20260421T000318
CREATED:20250402T142041Z
LAST-MODIFIED:20250402T142041Z
UID:10001932-1743606000-1743609600@spirit-calling.com
SUMMARY:Behind the Music with Nicole Gibbs: The Art of Sound Healing and Frequency
DESCRIPTION:Discover the story\, soul\, and sacred process behind the monthly sound healings that support our community’s spiritual journey. \nJoin us for April’s Awakeners Hour with Nicole Gibbs\, the gifted sound healing artist who creates our monthly custom tracks for the Spirit Calling community. \nIn this special “Behind the Music” session\, Nicole will share her personal journey\, her creative process\, and how she channels intention and frequency into each piece of healing music. You’ll gain a deeper appreciation for the energy\, care\, and spiritual connection that go into every sound bath she creates. \nCome connect with Nicole\, explore the power of sound\, and experience the magic behind the music.
URL:https://spirit-calling.com/event/behind-the-music-with-nicole-gibbs-the-art-of-sound-healing-and-frequency/
LOCATION:https://zoom.us/j/8858847385?pwd=WE5BZS9OdkxvZG5PYkMrZC83dEFHQT09
CATEGORIES:Founding Awakeners Power Hour
ATTACH;FMTTYPE=image/png:https://spirit-calling.com/wp-content/uploads/Awakeners-Hour-Horizontal-7.png
ORGANIZER;CN="Spirit Calling":MAILTO:support@spirit-calling.com
END:VEVENT
BEGIN:VEVENT
DTSTART;TZID=America/New_York:20250507T150000
DTEND;TZID=America/New_York:20250507T160000
DTSTAMP:20260421T000318
CREATED:20250417T205717Z
LAST-MODIFIED:20250427T183238Z
UID:10001934-1746630000-1746633600@spirit-calling.com
SUMMARY:Exploring Psychedelics with Purpose with Special Guest Kellie Maledy
DESCRIPTION:May Awakeners Hour: Exploring Psychedelics with Purpose\nPreparation\, Integration & Holistic Support \nJoin us for a grounded and expansive conversation on the conscious use of psychedelics for healing\, growth\, and spiritual alignment. This month’s Awakeners Hour is led by a certified Preparation & Integration Coach and Functional Nutrition Counselor who will guide us through the essentials of safe and intentional psychedelic exploration. \nWhether you’re just beginning to explore or are already on the path\, you’ll gain valuable tools for preparing\, integrating\, and supporting your journey—mind\, body\, and spirit. \nWe’ll dive into key topics such as: \n\nThe healing and transformational potential of psychedelics\nWhy preparation and integration are essential for lasting change\nThe basics of micro-dosing and how to know if it’s right for you\nHow functional nutrition supports the psychedelic journey\nA holistic\, grounded approach to well-being through this work\nThis is a beautiful opportunity to explore a conscious and supportive framework for psychedelic healing\, rooted in intention and personal empowerment.\n\nPerfect for the curious and the experienced alike—come with an open heart and walk away with insight\, clarity\, and inspiration for your journey.
URL:https://spirit-calling.com/event/exploring-psychedelics-with-purpose-with-special-guest-kellie-maledy/
LOCATION:https://zoom.us/j/8858847385?pwd=WE5BZS9OdkxvZG5PYkMrZC83dEFHQT09
CATEGORIES:Founding Awakeners Power Hour
ATTACH;FMTTYPE=image/png:https://spirit-calling.com/wp-content/uploads/Awakeners-Hour-Horizontal-6-3.png
END:VEVENT
BEGIN:VEVENT
DTSTART;TZID=America/New_York:20250604T150000
DTEND;TZID=America/New_York:20250604T160000
DTSTAMP:20260421T000318
CREATED:20250530T173102Z
LAST-MODIFIED:20250530T174907Z
UID:10002059-1749049200-1749052800@spirit-calling.com
SUMMARY:June Awakeners Hour: Mastering the Mind-Body Connection with Matthew Cooke
DESCRIPTION:Join us for June’s Awakeners Hour with Matthew T. Cooke\, executive coach\, founder of Body-Based Breakthrough\, and creator of a powerful somatic method that’s transforming the way leaders heal and lead. \nWith over 15 years of experience and a mission to train one million trauma-informed somatic coaches by 2035\, Matthew brings deep wisdom in nervous system regulation\, intuition\, and body-mind alignment. He has shared his method with thousands of leaders and top teams from companies like Apple\, Google\, Pixar\, SpaceX\, and more. \nIn this interactive session\, Matthew will guide us through his simple yet profound somatic journaling and movement method—designed to help you reduce anxiety\, connect with your intuition\, and align your actions with your inner truth in just 15 minutes a day. \nThis is a powerful hour to connect more deeply with your body’s wisdom\, learn tangible tools for nervous system support\, and explore how somatic practices can help you stay grounded while doing meaningful work in the world. \nDon’t miss this opportunity to experience Matthew’s grounded\, heart-centered approach to embodied healing and leadership.
URL:https://spirit-calling.com/event/mastering-the-art-of-somatic-coaching/
CATEGORIES:Founding Awakeners Power Hour
ATTACH;FMTTYPE=image/png:https://spirit-calling.com/wp-content/uploads/Awakeners-Hour-Horizontal-8.png
END:VEVENT
BEGIN:VEVENT
DTSTART;TZID=America/New_York:20250702T150000
DTEND;TZID=America/New_York:20250702T160000
DTSTAMP:20260421T000318
CREATED:20250629T154538Z
LAST-MODIFIED:20250629T154556Z
UID:10002244-1751468400-1751472000@spirit-calling.com
SUMMARY:Entering the Flow of Creative Awakening with Jeffrey Carriera
DESCRIPTION:Join us for July’s Awakeners Hour with spiritual teacher and author Jeff Carreira\, as we explore the profound connection between creative flow and spiritual awakening. \nIn this powerful session\, Jeff will guide us into the nature of flow states—those moments of complete immersion where self-consciousness fades and we become one with what we’re doing. Used by elite performers and creatives\, flow is also a doorway to deep spiritual realization. \nWe’ll examine how the experience of flow dissolves the illusion of separation\, opens a direct path to presence\, and allows us to access the highest levels of creativity\, awareness\, and human potential. \nWhether you’re an artist\, seeker\, or simply curious\, this hour will invite you into a new way of experiencing your life—with more freedom\, presence\, and purpose.
URL:https://spirit-calling.com/event/entering-the-flow-of-creative-awakening-with-jeffrey-carriera/
CATEGORIES:Founding Awakeners Power Hour
ATTACH;FMTTYPE=image/png:https://spirit-calling.com/wp-content/uploads/Awakeners-Hour-Horizontal-1-4.png
LOCATION:https://zoom.us/j/93584788860
END:VEVENT
BEGIN:VEVENT
DTSTART;TZID=America/New_York:20250903T150000
DTEND;TZID=America/New_York:20250903T160000
DTSTAMP:20260421T000318
CREATED:20250827T164543Z
LAST-MODIFIED:20250827T164543Z
UID:10002635-1756911600-1756915200@spirit-calling.com
SUMMARY:Soul Contract Reading Session  with Yiannah Ahmohr Manokas
DESCRIPTION:Join us for Soul Contract Reading with Yiannah Ahmohr Manokas  \nIn this transformative session\, you’ll discover the deepest truths of your soul’s purpose\, the life plan you chose before incarnating\, your karmic patterns\, innate gifts\, and ultimate destiny. Using Spiritual Numerology and the Hebrew alphabet\, Yiannah will guide you through your own Soul Contract chart—revealing the hidden codes within your birth name that shape your reality. \nCreate your free chart ahead of time so you can follow along: Free Soul Contract Guide
URL:https://spirit-calling.com/event/soul-contract-reading-session-with-yiannah-ahmohr-manokas/
LOCATION:https://zoom.us/j/8858847385?pwd=WE5BZS9OdkxvZG5PYkMrZC83dEFHQT09
CATEGORIES:Founding Awakeners Power Hour
ATTACH;FMTTYPE=image/png:https://spirit-calling.com/wp-content/uploads/Awakeners-Hour-Horizontal-1-7-scaled.png
ORGANIZER;CN="Spirit Calling":MAILTO:support@spirit-calling.com
END:VEVENT
BEGIN:VEVENT
DTSTART;TZID=America/New_York:20251001T150000
DTEND;TZID=America/New_York:20251001T160000
DTSTAMP:20260421T000318
CREATED:20250922T231138Z
LAST-MODIFIED:20250922T231138Z
UID:10002709-1759330800-1759334400@spirit-calling.com
SUMMARY:Discover the Power of Healing: Awakening through QHHT with Danielle Kane
DESCRIPTION:Join us for this month’s Awakeners Hour with Danielle Kane as she shares her journey of spiritual awakening through Quantum Healing Hypnosis Technique (QHHT). \nIn this heartfelt session\, Danielle will take us inside her personal story—how QHHT became a catalyst for healing\, transformation\, and connection to higher wisdom. You’ll also learn what QHHT is\, how it works\, and why it has become such a powerful tool for those seeking clarity\, healing\, and spiritual growth. \nWhether you’re new to QHHT or curious to deepen your understanding\, this is a beautiful opportunity to explore its transformative potential and be inspired by Danielle’s experience.
URL:https://spirit-calling.com/event/discover-the-power-of-healing-awakening-through-qhht-with-danielle-kane/
CATEGORIES:Founding Awakeners Power Hour
ATTACH;FMTTYPE=image/png:https://spirit-calling.com/wp-content/uploads/Awakeners-Hour-Horizontal-1-8.png
LOCATION:https://zoom.us/j/96822409854
END:VEVENT
BEGIN:VEVENT
DTSTART;TZID=America/New_York:20251105T140000
DTEND;TZID=America/New_York:20251105T150000
DTSTAMP:20260421T000318
CREATED:20251020T164601Z
LAST-MODIFIED:20251020T164601Z
UID:10002767-1762351200-1762354800@spirit-calling.com
SUMMARY:November Awakeners Hour: Connect\, Clear\, & Create from Vision Instead of Pressure with Janine Kathleen Shapiro
DESCRIPTION:Join us for this month’s Awakeners Hour with Janine Kathleen Shapiro\, Personal Leadership Coach and Healer\, for an empowering session titled “Connect\, Clear\, & Create from Vision Instead of Pressure.”\nIn this transformative hour\, Janine will guide us to release the pressure-driven habits that block our creative flow and reconnect with the deeper vision that fuels authentic creation. Through her unique blend of intuition\, psychic insight\, and holistic healing\, Janine helps you align your mind\, heart\, and body so you can lead yourself—and your life—from clarity\, confidence\, and ease. \nYou’ll discover how to shift from doing out of obligation to creating from inspiration\, allowing your natural gifts and inner wisdom to take the lead. This is your invitation to pause\, reset\, and reconnect with your true creative power.
URL:https://spirit-calling.com/event/november-awakeners-hour-connect-clear-create-from-vision-instead-of-pressure-with-janine-kathleen-shapiro-2/
CATEGORIES:Founding Awakeners Power Hour
ATTACH;FMTTYPE=image/png:https://spirit-calling.com/wp-content/uploads/Awakeners-Hour-Horizontal-10-scaled.png
END:VEVENT
BEGIN:VEVENT
DTSTART;TZID=America/New_York:20251203T150000
DTEND;TZID=America/New_York:20251203T160000
DTSTAMP:20260421T000318
CREATED:20251124T153938Z
LAST-MODIFIED:20251201T183703Z
UID:10002896-1764774000-1764777600@spirit-calling.com
SUMMARY:Own Your Yes! Disrupting the Lies You Inherited
DESCRIPTION:Join us for December’s Awakeners Hour with Siris Raquel Rivas-Verdejo\, a multidimensional coach\, healer\, and founder of Empowering Light Language LLC. With over 15 years of experience supporting individuals and families\, Siris blends energetic tools\, psychology\, communication strategies\, and body-based awareness to help people realign with what they truly desire to create.\n\nIn this transformative session\, Siris will guide us through the subtle—but powerful—lies we’ve inherited from family\, culture\, and past experiences. You’ll explore how these stories shape your choices\, your voice\, and the way you show up in relationships—and how to reclaim your Yes as a source of clarity\, agency\, and creation.\n\nThrough practical tools and intuitive guidance\, you’ll learn to listen to your body’s truth\, communicate from your inner wisdom\, and say Yes to what aligns with your soul. This is an hour of connection\, empowerment\, and liberation—an invitation to step into who you were always meant to be.
URL:https://spirit-calling.com/event/own-your-yes-disrupting-the-lies-you-inherited/
CATEGORIES:Founding Awakeners Power Hour
ATTACH;FMTTYPE=image/png:https://spirit-calling.com/wp-content/uploads/Awakeners-Hour-Horizontal-12.png
LOCATION:https://zoom.us/j/93852328337
END:VEVENT
END:VCALENDAR