BEGIN:VCALENDAR
VERSION:2.0
PRODID:-//Spirit Calling - ECPv6.15.17//NONSGML v1.0//EN
CALSCALE:GREGORIAN
METHOD:PUBLISH
X-ORIGINAL-URL:https://spirit-calling.com
X-WR-CALDESC:Events for Spirit Calling
REFRESH-INTERVAL;VALUE=DURATION:PT1H
X-Robots-Tag:noindex
X-PUBLISHED-TTL:PT1H
BEGIN:VTIMEZONE
TZID:America/New_York
BEGIN:DAYLIGHT
TZOFFSETFROM:-0500
TZOFFSETTO:-0400
TZNAME:EDT
DTSTART:20230312T070000
END:DAYLIGHT
BEGIN:STANDARD
TZOFFSETFROM:-0400
TZOFFSETTO:-0500
TZNAME:EST
DTSTART:20231105T060000
END:STANDARD
BEGIN:DAYLIGHT
TZOFFSETFROM:-0500
TZOFFSETTO:-0400
TZNAME:EDT
DTSTART:20240310T070000
END:DAYLIGHT
BEGIN:STANDARD
TZOFFSETFROM:-0400
TZOFFSETTO:-0500
TZNAME:EST
DTSTART:20241103T060000
END:STANDARD
BEGIN:DAYLIGHT
TZOFFSETFROM:-0500
TZOFFSETTO:-0400
TZNAME:EDT
DTSTART:20250309T070000
END:DAYLIGHT
BEGIN:STANDARD
TZOFFSETFROM:-0400
TZOFFSETTO:-0500
TZNAME:EST
DTSTART:20251102T060000
END:STANDARD
END:VTIMEZONE
BEGIN:VEVENT
DTSTART;TZID=America/New_York:20241002T150000
DTEND;TZID=America/New_York:20241002T160000
DTSTAMP:20260420T014740
CREATED:20240924T203922Z
LAST-MODIFIED:20240924T203922Z
UID:10000736-1727881200-1727884800@spirit-calling.com
SUMMARY:Decode Your Dream Messages: A Guided Interpretation Session with Tina Marie Bueno
DESCRIPTION:Join us on October 2\, 2024 at 3 pm EST for a transformative Awakeners Hour with Tina Marie Bueno\, where she will guide you in interpreting the hidden messages of your dreams. If you’ve ever woken up feeling puzzled or intrigued by your nightly adventures\, this session offers a unique opportunity to gain clarity. \nTina will help you explore the symbols\, emotions\, and themes within your dreams\, providing insights that can illuminate your personal growth and life path. Expect a warm and supportive environment where you can share your dream experiences and discover their deeper meanings. \nAbout Tina Marie Bueno \nTina Marie Bueno is a New Earth Mastery Catalyst and intuitive healer with decades of experience. An empath since childhood\, she has navigated profound spiritual experiences in Hawaii\, Japan\, and beyond. As a clairaudient\, clairvoyant\, and certified Akashic Record Reader\, Tina combines her deep wisdom with a compassionate approach to help others unlock the mysteries of their dreams. \nFor more information about Tina and her work\, visit her website at tinamariebueno.com. \nJoin us to awaken to the wisdom of your dreams and explore the new possibilities they hold!
URL:https://spirit-calling.com/event/decode-your-dream-messages-a-guided-interpretation-session-with-tina-marie-bueno/
LOCATION:https://zoom.us/j/8858847385?pwd=WE5BZS9OdkxvZG5PYkMrZC83dEFHQT09
CATEGORIES:Founding Awakeners Power Hour
ATTACH;FMTTYPE=image/png:https://spirit-calling.com/wp-content/uploads/Awakeners-Hour-Horizontal-5.png
END:VEVENT
END:VCALENDAR