BEGIN:VCALENDAR
VERSION:2.0
PRODID:-//Spirit Calling - ECPv6.15.17//NONSGML v1.0//EN
CALSCALE:GREGORIAN
METHOD:PUBLISH
X-ORIGINAL-URL:https://spirit-calling.com
X-WR-CALDESC:Events for Spirit Calling
REFRESH-INTERVAL;VALUE=DURATION:PT1H
X-Robots-Tag:noindex
X-PUBLISHED-TTL:PT1H
BEGIN:VTIMEZONE
TZID:America/New_York
BEGIN:DAYLIGHT
TZOFFSETFROM:-0500
TZOFFSETTO:-0400
TZNAME:EDT
DTSTART:20240310T070000
END:DAYLIGHT
BEGIN:STANDARD
TZOFFSETFROM:-0400
TZOFFSETTO:-0500
TZNAME:EST
DTSTART:20241103T060000
END:STANDARD
BEGIN:DAYLIGHT
TZOFFSETFROM:-0500
TZOFFSETTO:-0400
TZNAME:EDT
DTSTART:20250309T070000
END:DAYLIGHT
BEGIN:STANDARD
TZOFFSETFROM:-0400
TZOFFSETTO:-0500
TZNAME:EST
DTSTART:20251102T060000
END:STANDARD
BEGIN:DAYLIGHT
TZOFFSETFROM:-0500
TZOFFSETTO:-0400
TZNAME:EDT
DTSTART:20260308T070000
END:DAYLIGHT
BEGIN:STANDARD
TZOFFSETFROM:-0400
TZOFFSETTO:-0500
TZNAME:EST
DTSTART:20261101T060000
END:STANDARD
END:VTIMEZONE
BEGIN:VEVENT
DTSTART;TZID=America/New_York:20250604T150000
DTEND;TZID=America/New_York:20250604T160000
DTSTAMP:20260419T084344
CREATED:20250530T173102Z
LAST-MODIFIED:20250530T174907Z
UID:10002059-1749049200-1749052800@spirit-calling.com
SUMMARY:June Awakeners Hour: Mastering the Mind-Body Connection with Matthew Cooke
DESCRIPTION:Join us for June’s Awakeners Hour with Matthew T. Cooke\, executive coach\, founder of Body-Based Breakthrough\, and creator of a powerful somatic method that’s transforming the way leaders heal and lead. \nWith over 15 years of experience and a mission to train one million trauma-informed somatic coaches by 2035\, Matthew brings deep wisdom in nervous system regulation\, intuition\, and body-mind alignment. He has shared his method with thousands of leaders and top teams from companies like Apple\, Google\, Pixar\, SpaceX\, and more. \nIn this interactive session\, Matthew will guide us through his simple yet profound somatic journaling and movement method—designed to help you reduce anxiety\, connect with your intuition\, and align your actions with your inner truth in just 15 minutes a day. \nThis is a powerful hour to connect more deeply with your body’s wisdom\, learn tangible tools for nervous system support\, and explore how somatic practices can help you stay grounded while doing meaningful work in the world. \nDon’t miss this opportunity to experience Matthew’s grounded\, heart-centered approach to embodied healing and leadership.
URL:https://spirit-calling.com/event/mastering-the-art-of-somatic-coaching/
CATEGORIES:Founding Awakeners Power Hour
ATTACH;FMTTYPE=image/png:https://spirit-calling.com/wp-content/uploads/Awakeners-Hour-Horizontal-8.png
END:VEVENT
END:VCALENDAR