BEGIN:VCALENDAR
VERSION:2.0
PRODID:-//Spirit Calling - ECPv6.15.17//NONSGML v1.0//EN
CALSCALE:GREGORIAN
METHOD:PUBLISH
X-ORIGINAL-URL:https://spirit-calling.com
X-WR-CALDESC:Events for Spirit Calling
REFRESH-INTERVAL;VALUE=DURATION:PT1H
X-Robots-Tag:noindex
X-PUBLISHED-TTL:PT1H
BEGIN:VTIMEZONE
TZID:America/New_York
BEGIN:DAYLIGHT
TZOFFSETFROM:-0500
TZOFFSETTO:-0400
TZNAME:EDT
DTSTART:20230312T070000
END:DAYLIGHT
BEGIN:STANDARD
TZOFFSETFROM:-0400
TZOFFSETTO:-0500
TZNAME:EST
DTSTART:20231105T060000
END:STANDARD
BEGIN:DAYLIGHT
TZOFFSETFROM:-0500
TZOFFSETTO:-0400
TZNAME:EDT
DTSTART:20240310T070000
END:DAYLIGHT
BEGIN:STANDARD
TZOFFSETFROM:-0400
TZOFFSETTO:-0500
TZNAME:EST
DTSTART:20241103T060000
END:STANDARD
BEGIN:DAYLIGHT
TZOFFSETFROM:-0500
TZOFFSETTO:-0400
TZNAME:EDT
DTSTART:20250309T070000
END:DAYLIGHT
BEGIN:STANDARD
TZOFFSETFROM:-0400
TZOFFSETTO:-0500
TZNAME:EST
DTSTART:20251102T060000
END:STANDARD
END:VTIMEZONE
BEGIN:VEVENT
DTSTART;TZID=America/New_York:20240710T140000
DTEND;TZID=America/New_York:20240710T150000
DTSTAMP:20260420T041318
CREATED:20240705T160243Z
LAST-MODIFIED:20240705T161305Z
UID:10000487-1720620000-1720623600@spirit-calling.com
SUMMARY:Discover Your True Potential: Awakeners Hour with Hannah Chapman
DESCRIPTION:Discover Your True Potential: Awakeners Hour with Hannah Chapman \nWednesday\, July 10th at 2:00 PM EST \nJoin us for this month’s Awakeners Hour led by the insightful Hannah Chapman. This interactive session will focus on exploring and practicing your Human Design authority\, enriched by the powerful insights of Gene Keys. \nWhat to Expect:\n– Preparation: To fully engage in the session\, please ensure you know your Human Design information beforehand. If you need assistance\, send your birth details to Hannah\, and she will provide you with your personalized chart.\n– Interactive Discussion: Hannah will lead a discussion on understanding and applying your Human Design authority.\n– Gene Keys Exploration: We’ll delve into the Gene Keys\, with the opportunity for one or two participants to explore and discuss their specific spheres and their meanings. \nDon’t miss this chance to gain profound insights into your unique design and how to harness your true potential.
URL:https://spirit-calling.com/event/discover-your-true-potential-awakeners-hour-with-hannah-chapman/
CATEGORIES:Founding Awakeners Power Hour
ATTACH;FMTTYPE=image/png:https://spirit-calling.com/wp-content/uploads/Awakeners-Hour-Horizontal-2.png
ORGANIZER;CN="Spirit Calling":MAILTO:support@spirit-calling.com
LOCATION:
END:VEVENT
END:VCALENDAR