BEGIN:VCALENDAR
VERSION:2.0
PRODID:-//Spirit Calling - ECPv6.15.17//NONSGML v1.0//EN
CALSCALE:GREGORIAN
METHOD:PUBLISH
X-WR-CALNAME:Spirit Calling
X-ORIGINAL-URL:https://spirit-calling.com
X-WR-CALDESC:Events for Spirit Calling
REFRESH-INTERVAL;VALUE=DURATION:PT1H
X-Robots-Tag:noindex
X-PUBLISHED-TTL:PT1H
BEGIN:VTIMEZONE
TZID:America/New_York
BEGIN:DAYLIGHT
TZOFFSETFROM:-0500
TZOFFSETTO:-0400
TZNAME:EDT
DTSTART:20230312T070000
END:DAYLIGHT
BEGIN:STANDARD
TZOFFSETFROM:-0400
TZOFFSETTO:-0500
TZNAME:EST
DTSTART:20231105T060000
END:STANDARD
BEGIN:DAYLIGHT
TZOFFSETFROM:-0500
TZOFFSETTO:-0400
TZNAME:EDT
DTSTART:20240310T070000
END:DAYLIGHT
BEGIN:STANDARD
TZOFFSETFROM:-0400
TZOFFSETTO:-0500
TZNAME:EST
DTSTART:20241103T060000
END:STANDARD
BEGIN:DAYLIGHT
TZOFFSETFROM:-0500
TZOFFSETTO:-0400
TZNAME:EDT
DTSTART:20250309T070000
END:DAYLIGHT
BEGIN:STANDARD
TZOFFSETFROM:-0400
TZOFFSETTO:-0500
TZNAME:EST
DTSTART:20251102T060000
END:STANDARD
END:VTIMEZONE
BEGIN:VEVENT
DTSTART;TZID=America/New_York:20241227T150000
DTEND;TZID=America/New_York:20241227T160000
DTSTAMP:20260419T104250
CREATED:20241202T162400Z
LAST-MODIFIED:20241218T031038Z
UID:10000801-1735311600-1735315200@spirit-calling.com
SUMMARY:5D All Day with Danielle Kane
DESCRIPTION:Welcome to 5D ALL DAY on Spirit Calling with Danielle Kane! \nOur podcast is a platform for conversations within the Spirit Calling community on a range of topics\, and we invite you to join in as well. \nOur aim is to break barriers and expand consciousness for those who are spiritually curious or who want to share their lived experiences. \nOur upcoming live episode will explore the path to self-discovery. We invite you to join us for this groundbreaking conversation on the last Friday of the month at 3 pm EST/12 pm PST. \nWe can’t wait to see you there!
URL:https://spirit-calling.com/event/5d-all-day-with-danielle-kane-8-2-2-2-2-2-2-3-2-2/
CATEGORIES:5D All Day
ATTACH;FMTTYPE=image/png:https://spirit-calling.com/wp-content/uploads/5D-All-Day-YouTube-Thumbnail.png
END:VEVENT
BEGIN:VEVENT
DTSTART;TZID=America/New_York:20241227T170000
DTEND;TZID=America/New_York:20241227T190000
DTSTAMP:20260419T104250
CREATED:20241120T195609Z
LAST-MODIFIED:20251003T131411Z
UID:10000928-1735318800-1735326000@spirit-calling.com
SUMMARY:Spirit Calling Weekly Community Gathering
DESCRIPTION:Connect. Share. Support. Belong. \nJoin us every Friday at 5 PM EST for our Spirit Calling Weekly Community Gathering. This is your space to connect with fellow members\, share your wins\, ask for support\, or simply have a friendly conversation about what’s happening in your life. Whether you’re celebrating\, seeking guidance\, or just looking to chat\, this is a safe and welcoming environment for all members. \nFeel free to use our Main Meeting Room anytime\, but this weekly gathering offers a dedicated time to come together as a community. Bring your stories\, your questions\, or just yourself—we’re here for each other. \nLet’s make every Friday a time to nurture our connection\, deepen our bonds\, and honor the spirit of our community. \nAll are welcome. See you there!
URL:https://spirit-calling.com/event/spirit-calling-weekly-community-gathering/2024-12-27/
CATEGORIES:Special Event
ATTACH;FMTTYPE=image/png:https://spirit-calling.com/wp-content/uploads/4-1.png
END:VEVENT
END:VCALENDAR