BEGIN:VCALENDAR
VERSION:2.0
PRODID:-//Spirit Calling - ECPv6.15.17//NONSGML v1.0//EN
CALSCALE:GREGORIAN
METHOD:PUBLISH
X-WR-CALNAME:Spirit Calling
X-ORIGINAL-URL:https://spirit-calling.com
X-WR-CALDESC:Events for Spirit Calling
REFRESH-INTERVAL;VALUE=DURATION:PT1H
X-Robots-Tag:noindex
X-PUBLISHED-TTL:PT1H
BEGIN:VTIMEZONE
TZID:America/New_York
BEGIN:DAYLIGHT
TZOFFSETFROM:-0500
TZOFFSETTO:-0400
TZNAME:EDT
DTSTART:20230312T070000
END:DAYLIGHT
BEGIN:STANDARD
TZOFFSETFROM:-0400
TZOFFSETTO:-0500
TZNAME:EST
DTSTART:20231105T060000
END:STANDARD
BEGIN:DAYLIGHT
TZOFFSETFROM:-0500
TZOFFSETTO:-0400
TZNAME:EDT
DTSTART:20240310T070000
END:DAYLIGHT
BEGIN:STANDARD
TZOFFSETFROM:-0400
TZOFFSETTO:-0500
TZNAME:EST
DTSTART:20241103T060000
END:STANDARD
BEGIN:DAYLIGHT
TZOFFSETFROM:-0500
TZOFFSETTO:-0400
TZNAME:EDT
DTSTART:20250309T070000
END:DAYLIGHT
BEGIN:STANDARD
TZOFFSETFROM:-0400
TZOFFSETTO:-0500
TZNAME:EST
DTSTART:20251102T060000
END:STANDARD
END:VTIMEZONE
BEGIN:VEVENT
DTSTART;TZID=America/New_York:20240904T150000
DTEND;TZID=America/New_York:20240904T160000
DTSTAMP:20260419T144129
CREATED:20240721T000741Z
LAST-MODIFIED:20240904T171107Z
UID:10000548-1725462000-1725465600@spirit-calling.com
SUMMARY:Unlock Your Inner Power: Release Emotional Blocks and Beliefs with Becky Roitz
DESCRIPTION:Join us for an enlightening session with Rebecca Roitz\, a Reiki Master\, Energy Worker\, Life Coach\, Author\, and Podcast Host\, who will guide us through a journey of emotional and limiting belief release. Rebecca specializes in helping women transcend their limiting beliefs and clear energetic blockages\, enabling them to rewrite their stories and create fulfilling realities. \nIn this transformative session\, you will: \n\nDiscover methods to release emotional blocks and limiting beliefs.\nLearn how to harness your cyclical energetic makeup for personal growth.\nGain insights into overcoming fears and living your dream life.\n\nRebecca Roitz\, the founder of Priestess Portal Academy and Aquarius Hair and Healing\, is dedicated to empowering women by transforming their mindsets and helping them connect with their true selves. With an upcoming TV show\, “Ethereal – The Path of Alignment\,” and a rich professional background\, Rebecca brings a wealth of knowledge and experience to this session. \nRebecca enjoys a serene urban life in central Ontario\, Canada\, with her husband and their senior cat\, Tony. \nDon’t miss this opportunity to unlock your inner power and transform your life. Save the date and join us for this empowering session!
URL:https://spirit-calling.com/event/unlock-your-inner-power-release-emotional-blocks-and-beliefs-with-becky-roitz/
CATEGORIES:Founding Awakeners Power Hour
ATTACH;FMTTYPE=image/png:https://spirit-calling.com/wp-content/uploads/Awakeners-Hour-Horizontal-3.png
LOCATION:https://zoom.us/j/8858847385?pwd=WE5BZS9OdkxvZG5PYkMrZC83dEFHQT09
END:VEVENT
END:VCALENDAR