BEGIN:VCALENDAR
VERSION:2.0
PRODID:-//Spirit Calling - ECPv6.15.17//NONSGML v1.0//EN
CALSCALE:GREGORIAN
METHOD:PUBLISH
X-ORIGINAL-URL:https://spirit-calling.com
X-WR-CALDESC:Events for Spirit Calling
REFRESH-INTERVAL;VALUE=DURATION:PT1H
X-Robots-Tag:noindex
X-PUBLISHED-TTL:PT1H
BEGIN:VTIMEZONE
TZID:America/New_York
BEGIN:DAYLIGHT
TZOFFSETFROM:-0500
TZOFFSETTO:-0400
TZNAME:EDT
DTSTART:20230312T070000
END:DAYLIGHT
BEGIN:STANDARD
TZOFFSETFROM:-0400
TZOFFSETTO:-0500
TZNAME:EST
DTSTART:20231105T060000
END:STANDARD
BEGIN:DAYLIGHT
TZOFFSETFROM:-0500
TZOFFSETTO:-0400
TZNAME:EDT
DTSTART:20240310T070000
END:DAYLIGHT
BEGIN:STANDARD
TZOFFSETFROM:-0400
TZOFFSETTO:-0500
TZNAME:EST
DTSTART:20241103T060000
END:STANDARD
BEGIN:DAYLIGHT
TZOFFSETFROM:-0500
TZOFFSETTO:-0400
TZNAME:EDT
DTSTART:20250309T070000
END:DAYLIGHT
BEGIN:STANDARD
TZOFFSETFROM:-0400
TZOFFSETTO:-0500
TZNAME:EST
DTSTART:20251102T060000
END:STANDARD
END:VTIMEZONE
BEGIN:VEVENT
DTSTART;TZID=America/New_York:20240807T180000
DTEND;TZID=America/New_York:20240807T190000
DTSTAMP:20260419T160157
CREATED:20240721T011149Z
LAST-MODIFIED:20240723T190353Z
UID:10000549-1723053600-1723057200@spirit-calling.com
SUMMARY:Unlock Your Energetic Code: Numerology Insights with AnnMarie McKenzie
DESCRIPTION:During this month’s Awakeners Hour\, AnnMarie McKenzie will delve into the transformative power of numerology to help you unlock your energetic code in both your personal and professional life. As a Soulful Business Strategist and Certified Advanced Numerology Queen\, AnnMarie will guide participants through how numerology can reveal deeper insights into their purpose and potential. \nHere’s what you can expect: \nNumerology Insights: AnnMarie will provide personalized numerology insights to help you understand how numbers influence various aspects of your life and business. This could include examining your personal numbers to uncover hidden potentials and opportunities for growth. \nAligning with Purpose: She will share strategies for aligning with your true purpose using numerology\, which can help you make more aligned decisions and set more effective goals. \nAmplifying Power and Prosperity: Expect guidance on how to harness numerological wisdom to amplify your personal power and activate prosperity in your life and business. \nPractical Applications: AnnMarie will weave practical tips into the session\, ensuring that the mystical aspects of numerology are grounded in actionable steps. \nElevating Consciousness: As a spiritual teacher and heart-centered leader\, AnnMarie’s session will also focus on elevating your consciousness and integrating the intelligence of your heart into your life and work. \nThis hour aims to inspire and empower you by blending the magical with the practical\, helping you reclaim your energetic sovereignty and craft a life and business that resonate with your deepest values and aspirations.
URL:https://spirit-calling.com/event/unlock-infinite-abundance-numerology-insights-with-annmarie-mckenzie/
ATTACH;FMTTYPE=image/png:https://spirit-calling.com/wp-content/uploads/Awakeners-Hour-Horizontal-2-1.png
LOCATION:https://zoom.us/j/8858847385?pwd=WE5BZS9OdkxvZG5PYkMrZC83dEFHQT09
END:VEVENT
END:VCALENDAR