BEGIN:VCALENDAR
VERSION:2.0
PRODID:-//Spirit Calling - ECPv6.15.17//NONSGML v1.0//EN
CALSCALE:GREGORIAN
METHOD:PUBLISH
X-ORIGINAL-URL:https://spirit-calling.com
X-WR-CALDESC:Events for Spirit Calling
REFRESH-INTERVAL;VALUE=DURATION:PT1H
X-Robots-Tag:noindex
X-PUBLISHED-TTL:PT1H
BEGIN:VTIMEZONE
TZID:America/New_York
BEGIN:DAYLIGHT
TZOFFSETFROM:-0500
TZOFFSETTO:-0400
TZNAME:EDT
DTSTART:20230312T070000
END:DAYLIGHT
BEGIN:STANDARD
TZOFFSETFROM:-0400
TZOFFSETTO:-0500
TZNAME:EST
DTSTART:20231105T060000
END:STANDARD
BEGIN:DAYLIGHT
TZOFFSETFROM:-0500
TZOFFSETTO:-0400
TZNAME:EDT
DTSTART:20240310T070000
END:DAYLIGHT
BEGIN:STANDARD
TZOFFSETFROM:-0400
TZOFFSETTO:-0500
TZNAME:EST
DTSTART:20241103T060000
END:STANDARD
BEGIN:DAYLIGHT
TZOFFSETFROM:-0500
TZOFFSETTO:-0400
TZNAME:EDT
DTSTART:20250309T070000
END:DAYLIGHT
BEGIN:STANDARD
TZOFFSETFROM:-0400
TZOFFSETTO:-0500
TZNAME:EST
DTSTART:20251102T060000
END:STANDARD
END:VTIMEZONE
BEGIN:VEVENT
DTSTART;TZID=America/New_York:20240403T150000
DTEND;TZID=America/New_York:20240403T160000
DTSTAMP:20260419T210132
CREATED:20240328T210303Z
LAST-MODIFIED:20240328T210303Z
UID:10000420-1712156400-1712160000@spirit-calling.com
SUMMARY:Elevating Frequencies: Expanding Through Sound
DESCRIPTION:Join us for an extraordinary journey into the realm of sound healing with Nicole\, Spirit Calling member and founder of Awakening Mass Meditations! \nDate: April 3rd\nTime: 3:00 pm EST \nNicole will be your guide\, leading us on an immersive exploration of her evolution into utilizing channeled frequencies alongside mesmerizing vibrational music. Discover how these frequencies can harmonize our nervous systems and initiate profound healing on a cellular level. \nThrough her curated sound healing\, Nicole will take us on a transformative journey\, immersing us in the profound world of her healing music. This event offers an exclusive sneak peek into Nicole’s captivating realm of sound healing\, promising an experience like no other. \nEvery month\, we spotlight individuals who are dedicated to creating healing in our world\, and this month\, we’re thrilled to introduce Nicole to our community. Get ready to dive deep into the realm of frequency and bask in the soothing sounds she expertly crafts. \nDon’t miss this opportunity to learn about frequency and immerse yourself in the therapeutic melodies she creates. Mark your calendars\, invite your friends\, and join us for an unforgettable journey of healing and enlightenment. See you there! ✨🎶
URL:https://spirit-calling.com/event/elevating-frequencies-expanding-through-sound/
CATEGORIES:Founding Awakeners Power Hour
ATTACH;FMTTYPE=image/png:https://spirit-calling.com/wp-content/uploads/Founding-Awakeners-Power-Hour-3.png
ORGANIZER;CN="Spirit Calling":MAILTO:support@spirit-calling.com
LOCATION:https://spirit-calling.com/event/elevating-frequencies-expanding-through-sound/
END:VEVENT
END:VCALENDAR