BEGIN:VCALENDAR
VERSION:2.0
PRODID:-//Spirit Calling - ECPv6.15.17//NONSGML v1.0//EN
CALSCALE:GREGORIAN
METHOD:PUBLISH
X-WR-CALNAME:Spirit Calling
X-ORIGINAL-URL:https://spirit-calling.com
X-WR-CALDESC:Events for Spirit Calling
REFRESH-INTERVAL;VALUE=DURATION:PT1H
X-Robots-Tag:noindex
X-PUBLISHED-TTL:PT1H
BEGIN:VTIMEZONE
TZID:America/New_York
BEGIN:DAYLIGHT
TZOFFSETFROM:-0500
TZOFFSETTO:-0400
TZNAME:EDT
DTSTART:20230312T070000
END:DAYLIGHT
BEGIN:STANDARD
TZOFFSETFROM:-0400
TZOFFSETTO:-0500
TZNAME:EST
DTSTART:20231105T060000
END:STANDARD
BEGIN:DAYLIGHT
TZOFFSETFROM:-0500
TZOFFSETTO:-0400
TZNAME:EDT
DTSTART:20240310T070000
END:DAYLIGHT
BEGIN:STANDARD
TZOFFSETFROM:-0400
TZOFFSETTO:-0500
TZNAME:EST
DTSTART:20241103T060000
END:STANDARD
BEGIN:DAYLIGHT
TZOFFSETFROM:-0500
TZOFFSETTO:-0400
TZNAME:EDT
DTSTART:20250309T070000
END:DAYLIGHT
BEGIN:STANDARD
TZOFFSETFROM:-0400
TZOFFSETTO:-0500
TZNAME:EST
DTSTART:20251102T060000
END:STANDARD
END:VTIMEZONE
BEGIN:VEVENT
DTSTART;TZID=America/New_York:20240306T150000
DTEND;TZID=America/New_York:20240306T160000
DTSTAMP:20260419T225350
CREATED:20240228T231656Z
LAST-MODIFIED:20240228T231656Z
UID:10000358-1709737200-1709740800@spirit-calling.com
SUMMARY:Beyond Reality: Exploring Higher Dimensions with Jeffrey Carriera
DESCRIPTION:Join us on Wednesday\, March 6th at 3pm EST\, as spiritual leader Jeffrey Carreira guides us through an exploration of the fascinating realms of higher dimensions. Mystical and esoteric practices have captivated pioneering individuals for millennia\, offering glimpses into hidden realities beyond our ordinary perceptions. \nIn this engaging conversation led by Jeffrey Carreira—Spiritual Guide\, Meditation Teacher & Mystic Philosopher—we’ll delve into the concept of higher dimensional existence\, transcending the boundaries of our familiar three-dimensional reality and linear time. Through discussions of mystical experiences and insights from mathematics and quantum theory\, we’ll uncover the profound mysteries that lie beyond our ordinary senses. \nExpand your perception and deepen your understanding with us as we embark on this enlightening journey into the mystical realms of higher dimensions. Don’t miss out—mark your calendars and join us for an exploration like no other.
URL:https://spirit-calling.com/event/beyond-reality-exploring-higher-dimensions-with-jeffrey-carriera/
CATEGORIES:Founding Awakeners Power Hour
ATTACH;FMTTYPE=image/png:https://spirit-calling.com/wp-content/uploads/Founding-Awakeners-Power-Hour-1.png
ORGANIZER;CN="Spirit Calling":MAILTO:support@spirit-calling.com
LOCATION:https://spirit-calling.com/event/beyond-reality-exploring-higher-dimensions-with-jeffrey-carriera/
END:VEVENT
END:VCALENDAR