BEGIN:VCALENDAR
VERSION:2.0
PRODID:-//Spirit Calling - ECPv6.15.17//NONSGML v1.0//EN
CALSCALE:GREGORIAN
METHOD:PUBLISH
X-ORIGINAL-URL:https://spirit-calling.com
X-WR-CALDESC:Events for Spirit Calling
REFRESH-INTERVAL;VALUE=DURATION:PT1H
X-Robots-Tag:noindex
X-PUBLISHED-TTL:PT1H
BEGIN:VTIMEZONE
TZID:America/New_York
BEGIN:DAYLIGHT
TZOFFSETFROM:-0500
TZOFFSETTO:-0400
TZNAME:EDT
DTSTART:20230312T070000
END:DAYLIGHT
BEGIN:STANDARD
TZOFFSETFROM:-0400
TZOFFSETTO:-0500
TZNAME:EST
DTSTART:20231105T060000
END:STANDARD
BEGIN:DAYLIGHT
TZOFFSETFROM:-0500
TZOFFSETTO:-0400
TZNAME:EDT
DTSTART:20240310T070000
END:DAYLIGHT
BEGIN:STANDARD
TZOFFSETFROM:-0400
TZOFFSETTO:-0500
TZNAME:EST
DTSTART:20241103T060000
END:STANDARD
BEGIN:DAYLIGHT
TZOFFSETFROM:-0500
TZOFFSETTO:-0400
TZNAME:EDT
DTSTART:20250309T070000
END:DAYLIGHT
BEGIN:STANDARD
TZOFFSETFROM:-0400
TZOFFSETTO:-0500
TZNAME:EST
DTSTART:20251102T060000
END:STANDARD
END:VTIMEZONE
BEGIN:VEVENT
DTSTART;TZID=America/New_York:20240221T150000
DTEND;TZID=America/New_York:20240221T153000
DTSTAMP:20260419T231549
CREATED:20240129T155039Z
LAST-MODIFIED:20240301T154137Z
UID:10000233-1708527600-1708529400@spirit-calling.com
SUMMARY:Live the Call Podcast Drop: Navigating Grief and Finding Hope with Dave Roberts
DESCRIPTION:A Powerful Conversation on Healing and Resilience\nPrepare to be moved in our February podcast episode of “Live the Call\,” airing on February 21\, 2024\, at 3pm EST! Our special guest\, David J. Roberts\, LMSW\, is a compassionate soul who has faced the unimaginable challenge of losing a child.  \nDavid became a parent who experienced the profound loss of his daughter\, Jeannine\, who succumbed to cancer on March 1\, 2003\, at the tender age of 18. In addition to his personal journey through grief\, David is a retired addiction professional and an adjunct professor in the psychology child life department at Utica University in Utica\, New York. He also imparts his wisdom in psychology classes at Pratt Munson School of Art and Design.  \nAs the host of “The Teaching Journeys Podcast\,” found on various podcast platforms\, Dave shares his insights on grief\, resilience\, and healing. He has presented workshops at national conferences of The Compassionate Friends and for the Bereaved Parents of the USA. In 2011 and 2015\, he served as a keynote speaker at the national gatherings of the Bereaved Parents of the USA.  \nBeyond his speaking engagements\, Dave has contributed articles to HuffPost\, Medium\, Open to Hope Foundation\, Mindfulness and Grief\, Thrive Global\, and the Recovering the Self Journal. He has also made appearances on numerous podcasts and Open to Hope Television. Co-authoring the book “When The Psychology Professor Met The Minister” with Reverend Patty Furino\, Dave continues to inspire others on their healing journeys.  \nJoin us for this profound episode as Dave Roberts shares his experiences\, insights\, and the lessons he’s learned on his journey through grief. This promises to be a conversation filled with hope\, resilience\, and the transformative power of sharing our stories.  \nDon’t miss this impactful episode on February 23\, 2024! Tune in to “Live the Call” and be part of a conversation that explores the depths of grief and the enduring spirit of hope. 
URL:https://spirit-calling.com/event/live-the-call-podcast-drop-navigating-grief-and-finding-hope-with-dave-roberts/
CATEGORIES:Live the Call
ATTACH;FMTTYPE=image/png:https://spirit-calling.com/wp-content/uploads/2-3.png
END:VEVENT
END:VCALENDAR