BEGIN:VCALENDAR
VERSION:2.0
PRODID:-//Spirit Calling - ECPv6.15.17//NONSGML v1.0//EN
CALSCALE:GREGORIAN
METHOD:PUBLISH
X-WR-CALNAME:Spirit Calling
X-ORIGINAL-URL:https://spirit-calling.com
X-WR-CALDESC:Events for Spirit Calling
REFRESH-INTERVAL;VALUE=DURATION:PT1H
X-Robots-Tag:noindex
X-PUBLISHED-TTL:PT1H
BEGIN:VTIMEZONE
TZID:America/New_York
BEGIN:DAYLIGHT
TZOFFSETFROM:-0500
TZOFFSETTO:-0400
TZNAME:EDT
DTSTART:20220313T070000
END:DAYLIGHT
BEGIN:STANDARD
TZOFFSETFROM:-0400
TZOFFSETTO:-0500
TZNAME:EST
DTSTART:20221106T060000
END:STANDARD
BEGIN:DAYLIGHT
TZOFFSETFROM:-0500
TZOFFSETTO:-0400
TZNAME:EDT
DTSTART:20230312T070000
END:DAYLIGHT
BEGIN:STANDARD
TZOFFSETFROM:-0400
TZOFFSETTO:-0500
TZNAME:EST
DTSTART:20231105T060000
END:STANDARD
BEGIN:DAYLIGHT
TZOFFSETFROM:-0500
TZOFFSETTO:-0400
TZNAME:EDT
DTSTART:20240310T070000
END:DAYLIGHT
BEGIN:STANDARD
TZOFFSETFROM:-0400
TZOFFSETTO:-0500
TZNAME:EST
DTSTART:20241103T060000
END:STANDARD
END:VTIMEZONE
BEGIN:VEVENT
DTSTART;TZID=America/New_York:20230929T130000
DTEND;TZID=America/New_York:20230929T140000
DTSTAMP:20260420T115516
CREATED:20230915T205515Z
LAST-MODIFIED:20230915T205515Z
UID:10000210-1695992400-1695996000@spirit-calling.com
SUMMARY:5D All Day with Danielle Kane
DESCRIPTION:5D ALL DAY is a podcast for conversations within the Spirit Calling community on a range of topics\, and we invite you to join in as well. Our aim is to break barriers and expand consciousness for those who are spiritually curious or who want to share their lived experiences. \nOur upcoming live episode we’ll be discussing the differences of living in love vs. living in fear. We invite you to join us for this conversation on Friday\, September 29th at 1 pm EST. We can’t wait to see you there! \nJoin Zoom Meeting \nhttps://us02web.zoom.us/j/82625842509?pwd=K1J6L0IySXNadDQ2RTNDVWpnemI5dz09 \nMeeting ID: 826 2584 2509 \nPasscode: 018818
URL:https://spirit-calling.com/event/5d-all-day-with-danielle-kane-3/
CATEGORIES:5D All Day
ATTACH;FMTTYPE=image/png:https://spirit-calling.com/wp-content/uploads/5D-All-Day-YouTube-Thumbnail.png
END:VEVENT
END:VCALENDAR