BEGIN:VCALENDAR
VERSION:2.0
PRODID:-//Spirit Calling - ECPv6.15.17//NONSGML v1.0//EN
CALSCALE:GREGORIAN
METHOD:PUBLISH
X-WR-CALNAME:Spirit Calling
X-ORIGINAL-URL:https://spirit-calling.com
X-WR-CALDESC:Events for Spirit Calling
REFRESH-INTERVAL;VALUE=DURATION:PT1H
X-Robots-Tag:noindex
X-PUBLISHED-TTL:PT1H
BEGIN:VTIMEZONE
TZID:America/New_York
BEGIN:DAYLIGHT
TZOFFSETFROM:-0500
TZOFFSETTO:-0400
TZNAME:EDT
DTSTART:20220313T070000
END:DAYLIGHT
BEGIN:STANDARD
TZOFFSETFROM:-0400
TZOFFSETTO:-0500
TZNAME:EST
DTSTART:20221106T060000
END:STANDARD
BEGIN:DAYLIGHT
TZOFFSETFROM:-0500
TZOFFSETTO:-0400
TZNAME:EDT
DTSTART:20230312T070000
END:DAYLIGHT
BEGIN:STANDARD
TZOFFSETFROM:-0400
TZOFFSETTO:-0500
TZNAME:EST
DTSTART:20231105T060000
END:STANDARD
BEGIN:DAYLIGHT
TZOFFSETFROM:-0500
TZOFFSETTO:-0400
TZNAME:EDT
DTSTART:20240310T070000
END:DAYLIGHT
BEGIN:STANDARD
TZOFFSETFROM:-0400
TZOFFSETTO:-0500
TZNAME:EST
DTSTART:20241103T060000
END:STANDARD
END:VTIMEZONE
BEGIN:VEVENT
DTSTART;TZID=America/New_York:20230906T170000
DTEND;TZID=America/New_York:20230906T180000
DTSTAMP:20260420T132149
CREATED:20230902T135735Z
LAST-MODIFIED:20230902T135735Z
UID:10000209-1694019600-1694023200@spirit-calling.com
SUMMARY:Meditation\, Yoga Nidra & Healing Through Music: A Conversation with Nicole Gibbs and Jeff Carreir
DESCRIPTION:Discover the Power of Higher Awareness in this Enlightening Community Event \nPrepare to embark on a transformative journey as community members Nicole Gibbs and Jeff Carreira come together to share their profound insights and experiences from their collaborative course\, “Meditation\, Yoga Nidra & Healing Through Music.” In this event\, they will explore the awakening and healing potential of higher awareness. \nJoin us for an afternoon of enlightenment as Nicole and Jeff delve into the depths of their recent course\, revealing the extraordinary power it holds for personal growth\, healing\, and awakening. \nKey Highlights: \n\nGain a deeper understanding of the transformative effects of higher awareness\, meditation\, yoga nidra\, and music on personal healing and growth.\nDiscover the wisdom and practices intricately woven into the “Meditation\, Yoga Nidra & Healing Through Music” course.\nLearn practical techniques to tap into your own inner potential for awakening and healing.\nConnect with fellow community members who share your passion for self-discovery and well-being.\n\n\n\n\n\n\n\n\nThis event offers a special chance to connect with Nicole Gibbs and Jeff Carreira\, as they share insights about “Meditation\, Yoga Nidra & Healing Through Music.” Whether you’re new to these practices or a seasoned enthusiast\, this event will inspire and empower you on your path to greater self-awareness and healing. \n\n\n\n\n\n\n\nDate: September 6\, 2023 \nTime: 5-6 pm EST \nSave the date now to embark on a path to greater awareness\, healing\, and transformation alongside your community.
URL:https://spirit-calling.com/event/meditation-yoga-nidra-healing-through-music-a-conversation-with-nicole-gibbs-and-jeff-carreir/
CATEGORIES:Founding Awakeners Power Hour
ATTACH;FMTTYPE=image/png:https://spirit-calling.com/wp-content/uploads/Beige-Minimalist-Business-Coach-YouTube-Thumbnail.png
LOCATION:https://zoom.us/j/98541329251
END:VEVENT
END:VCALENDAR