BEGIN:VCALENDAR
VERSION:2.0
PRODID:-//Spirit Calling - ECPv6.15.17//NONSGML v1.0//EN
CALSCALE:GREGORIAN
METHOD:PUBLISH
X-ORIGINAL-URL:https://spirit-calling.com
X-WR-CALDESC:Events for Spirit Calling
REFRESH-INTERVAL;VALUE=DURATION:PT1H
X-Robots-Tag:noindex
X-PUBLISHED-TTL:PT1H
BEGIN:VTIMEZONE
TZID:America/New_York
BEGIN:DAYLIGHT
TZOFFSETFROM:-0500
TZOFFSETTO:-0400
TZNAME:EDT
DTSTART:20220313T070000
END:DAYLIGHT
BEGIN:STANDARD
TZOFFSETFROM:-0400
TZOFFSETTO:-0500
TZNAME:EST
DTSTART:20221106T060000
END:STANDARD
BEGIN:DAYLIGHT
TZOFFSETFROM:-0500
TZOFFSETTO:-0400
TZNAME:EDT
DTSTART:20230312T070000
END:DAYLIGHT
BEGIN:STANDARD
TZOFFSETFROM:-0400
TZOFFSETTO:-0500
TZNAME:EST
DTSTART:20231105T060000
END:STANDARD
BEGIN:DAYLIGHT
TZOFFSETFROM:-0500
TZOFFSETTO:-0400
TZNAME:EDT
DTSTART:20240310T070000
END:DAYLIGHT
BEGIN:STANDARD
TZOFFSETFROM:-0400
TZOFFSETTO:-0500
TZNAME:EST
DTSTART:20241103T060000
END:STANDARD
END:VTIMEZONE
BEGIN:VEVENT
DTSTART;TZID=America/New_York:20230721T123000
DTEND;TZID=America/New_York:20230721T130000
DTSTAMP:20260420T160906
CREATED:20230709T131028Z
LAST-MODIFIED:20230711T195838Z
UID:10000021-1689942600-1689944400@spirit-calling.com
SUMMARY:Biofield Tuning for Humanity
DESCRIPTION:Do you want to help heal the world with all of the crazy stuff that’s been happening? \nOn Friday\, July 21\, 12:30pm Eastern\, we are doing a Biofield Tuning session in the Spirit Calling’s Main Meeting Room. \nThis will be a Human Collective session\, to provide balance\, healing\, and love for all of humanity. \nPlease attend and contribute your healing intentions. \nInvite friends and family to attend\, and try Spirit Calling!!
URL:https://spirit-calling.com/event/biofield-tuning-with-sandra-lee-2/
LOCATION:Main Meeting Room
CATEGORIES:H&P Hour
ATTACH;FMTTYPE=image/jpeg:https://spirit-calling.com/wp-content/uploads/Sandra.jpeg
ORGANIZER;CN="Sandra Lee":MAILTO:sandra@miracleinspirations.com
END:VEVENT
END:VCALENDAR