BEGIN:VCALENDAR
VERSION:2.0
PRODID:-//Spirit Calling - ECPv6.15.17//NONSGML v1.0//EN
CALSCALE:GREGORIAN
METHOD:PUBLISH
X-WR-CALNAME:Spirit Calling
X-ORIGINAL-URL:https://spirit-calling.com
X-WR-CALDESC:Events for Spirit Calling
REFRESH-INTERVAL;VALUE=DURATION:PT1H
X-Robots-Tag:noindex
X-PUBLISHED-TTL:PT1H
BEGIN:VTIMEZONE
TZID:America/New_York
BEGIN:DAYLIGHT
TZOFFSETFROM:-0500
TZOFFSETTO:-0400
TZNAME:EDT
DTSTART:20220313T070000
END:DAYLIGHT
BEGIN:STANDARD
TZOFFSETFROM:-0400
TZOFFSETTO:-0500
TZNAME:EST
DTSTART:20221106T060000
END:STANDARD
BEGIN:DAYLIGHT
TZOFFSETFROM:-0500
TZOFFSETTO:-0400
TZNAME:EDT
DTSTART:20230312T070000
END:DAYLIGHT
BEGIN:STANDARD
TZOFFSETFROM:-0400
TZOFFSETTO:-0500
TZNAME:EST
DTSTART:20231105T060000
END:STANDARD
BEGIN:DAYLIGHT
TZOFFSETFROM:-0500
TZOFFSETTO:-0400
TZNAME:EDT
DTSTART:20240310T070000
END:DAYLIGHT
BEGIN:STANDARD
TZOFFSETFROM:-0400
TZOFFSETTO:-0500
TZNAME:EST
DTSTART:20241103T060000
END:STANDARD
END:VTIMEZONE
BEGIN:VEVENT
DTSTART;TZID=America/New_York:20230608T133000
DTEND;TZID=America/New_York:20230608T140000
DTSTAMP:20260420T172909
CREATED:20230404T105510Z
LAST-MODIFIED:20230522T130555Z
UID:10000008-1686231000-1686232800@spirit-calling.com
SUMMARY:Biofield Tuning with Sandra Lee
DESCRIPTION:Get ready to experience the amazing healing powers of Sandra Lee – an exceptional healer and practitioner who specializes in the incredible art of Biofield Tuning! Join her for a truly transformative session of meditative sound activation and energy healing\, designed to leave you feeling refreshed and revitalized. \nUsing the power of sound therapy\, Sandra will activate tuning forks at specific frequencies to realign and balance the energy field around your body. By doing so\, she’ll help to release any blockages that may be hindering your internal pathways and leaving you feeling stressed or overwhelmed. \nBut that’s not all – Sandra’s expertise is further amplified by her collection of rare Euphoralite stones\, which will take the power\, impact\, and clearing benefits of your Tuning session to a whole new level. \nIn just half an hour\, you’ll feel the incredible effects of Sandra’s healing work as she helps you release\, restore\, and reset your nervous system. So don’t hesitate – mark your calendars for the second Thursday of every month at 1:30pm Eastern\, and join Sandra for an unforgettable session of Biofield Tuning!
URL:https://spirit-calling.com/event/biofieldtuningwithsandralee/
CATEGORIES:H&P Hour
ATTACH;FMTTYPE=image/png:https://spirit-calling.com/wp-content/uploads/Biofield-Thumbnail.png
ORGANIZER;CN="Sandra Lee":MAILTO:sandra@miracleinspirations.com
LOCATION:https://us02web.zoom.us/j/3530883665
END:VEVENT
END:VCALENDAR