BEGIN:VCALENDAR
VERSION:2.0
PRODID:-//Spirit Calling - ECPv6.15.17//NONSGML v1.0//EN
CALSCALE:GREGORIAN
METHOD:PUBLISH
X-ORIGINAL-URL:https://spirit-calling.com
X-WR-CALDESC:Events for Spirit Calling
REFRESH-INTERVAL;VALUE=DURATION:PT1H
X-Robots-Tag:noindex
X-PUBLISHED-TTL:PT1H
BEGIN:VTIMEZONE
TZID:America/New_York
BEGIN:DAYLIGHT
TZOFFSETFROM:-0500
TZOFFSETTO:-0400
TZNAME:EDT
DTSTART:20220313T070000
END:DAYLIGHT
BEGIN:STANDARD
TZOFFSETFROM:-0400
TZOFFSETTO:-0500
TZNAME:EST
DTSTART:20221106T060000
END:STANDARD
BEGIN:DAYLIGHT
TZOFFSETFROM:-0500
TZOFFSETTO:-0400
TZNAME:EDT
DTSTART:20230312T070000
END:DAYLIGHT
BEGIN:STANDARD
TZOFFSETFROM:-0400
TZOFFSETTO:-0500
TZNAME:EST
DTSTART:20231105T060000
END:STANDARD
BEGIN:DAYLIGHT
TZOFFSETFROM:-0500
TZOFFSETTO:-0400
TZNAME:EDT
DTSTART:20240310T070000
END:DAYLIGHT
BEGIN:STANDARD
TZOFFSETFROM:-0400
TZOFFSETTO:-0500
TZNAME:EST
DTSTART:20241103T060000
END:STANDARD
END:VTIMEZONE
BEGIN:VEVENT
DTSTART;TZID=America/New_York:20230517T150000
DTEND;TZID=America/New_York:20230517T160000
DTSTAMP:20260420T184626
CREATED:20230505T165540Z
LAST-MODIFIED:20230509T113706Z
UID:10000010-1684335600-1684339200@spirit-calling.com
SUMMARY:Live the Call with Stephan Stavrakis
DESCRIPTION:IT’S TIME TO STOP PLAYING SMALL \nBusiness Strategist and Mentor\, Stephan Stavrakis joins us for this kick-off event for his amazing workshop – The Business Side of Spirit: Grow Your Spiritual Business to 7 Figures! \nThis is an exciting time where the world is waking up to a different way to do business – be at the forefront and shift your business now!
URL:https://spirit-calling.com/event/live-the-call-with-stephan-stavrakis/
CATEGORIES:Live the Call
ATTACH;FMTTYPE=image/png:https://spirit-calling.com/wp-content/uploads/Monthly-Community-Zoom-3.png
LOCATION:https://us02web.zoom.us/j/84867785431?pwd=SE5ib3BML0Z4SGt3MkJvaUFvak1GZz09
END:VEVENT
END:VCALENDAR